From: dpdklab@iol.unh.edu
To: Test Report <test-report@dpdk.org>
Cc: Rakesh Kudurumalla <rkudurumalla@marvell.com>,
David Marchand <david.marchand@redhat.com>,
Thomas Monjalon <thomas@monjalon.net>
Subject: |SUCCESS| pw123662-123661 [PATCH] [v5, 3/3] net/cnxk: skip red drop for ingress policer
Date: Sat, 11 Feb 2023 20:51:48 +0000 (UTC) [thread overview]
Message-ID: <20230211205148.030F960098@dpdk-ubuntu.dpdklab.iol.unh.edu> (raw)
[-- Attachment #1: Type: text/plain, Size: 1458 bytes --]
Test-Label: iol-testing
Test-Status: SUCCESS
http://dpdk.org/patch/123661
_Testing PASS_
Submitter: Rakesh Kudurumalla <rkudurumalla@marvell.com>
Date: Friday, February 10 2023 08:14:22
DPDK git baseline: Repo:dpdk
Branch: master
CommitID:183bdfe224760b72d3cd44f5367c80b5ee073327
123662-123661 --> testing pass
Test environment and result as below:
+-------------------------------+----------------+
| Environment | dpdk_unit_test |
+===============================+================+
| Ubuntu 20.04 ARM GCC Native | PASS |
+-------------------------------+----------------+
| Ubuntu 20.04 ARM Clang Native | PASS |
+-------------------------------+----------------+
| Windows Server 2019 | PASS |
+-------------------------------+----------------+
| Debian Buster | PASS |
+-------------------------------+----------------+
Ubuntu 20.04 ARM GCC Native
Kernel: 5.4.0-53-generic
Compiler: gcc 9.3
Ubuntu 20.04 ARM Clang Native
Kernel: 5.4.0-53-generic
Compiler: clang 10.0.0-4ubuntu1
Windows Server 2019
Kernel: 10.0
Compiler: clang 14.0 and gcc 8.1.0 (MinGW)
Debian Buster
Kernel: 5.4.0-122-generic
Compiler: gcc 8.3.0-6
To view detailed results, visit:
https://lab.dpdk.org/results/dashboard/patchsets/25337/
UNH-IOL DPDK Community Lab
To manage your email subscriptions, visit:
https://lab.dpdk.org/results/dashboard/preferences/subscriptions/
next reply other threads:[~2023-02-11 20:51 UTC|newest]
Thread overview: 32+ messages / expand[flat|nested] mbox.gz Atom feed top
2023-02-11 20:51 dpdklab [this message]
-- strict thread matches above, loose matches on Subject: below --
2023-02-13 9:24 dpdklab
2023-02-12 22:00 dpdklab
2023-02-11 21:50 dpdklab
2023-02-11 21:50 dpdklab
2023-02-11 21:48 dpdklab
2023-02-11 21:46 dpdklab
2023-02-11 21:43 dpdklab
2023-02-11 21:35 dpdklab
2023-02-11 21:34 dpdklab
2023-02-11 21:33 dpdklab
2023-02-11 21:30 dpdklab
2023-02-11 21:27 dpdklab
2023-02-11 21:26 dpdklab
2023-02-11 21:20 dpdklab
2023-02-11 21:13 dpdklab
2023-02-10 10:49 dpdklab
2023-02-10 9:06 dpdklab
2023-02-10 9:00 dpdklab
2023-02-10 8:59 dpdklab
2023-02-10 8:57 dpdklab
2023-02-10 8:55 dpdklab
2023-02-10 8:51 dpdklab
2023-02-10 8:50 dpdklab
2023-02-10 8:50 dpdklab
2023-02-10 8:49 dpdklab
2023-02-10 8:46 dpdklab
2023-02-10 8:44 dpdklab
2023-02-10 8:43 dpdklab
2023-02-10 8:38 dpdklab
[not found] <20230210081422.1004901-3-rkudurumalla@marvell.com>
2023-02-10 8:03 ` |SUCCESS| pw123662-123661 [PATCH v5 " qemudev
2023-02-10 8:07 ` qemudev
Reply instructions:
You may reply publicly to this message via plain-text email
using any one of the following methods:
* Save the following mbox file, import it into your mail client,
and reply-to-all from there: mbox
Avoid top-posting and favor interleaved quoting:
https://en.wikipedia.org/wiki/Posting_style#Interleaved_style
* Reply using the --to, --cc, and --in-reply-to
switches of git-send-email(1):
git send-email \
--in-reply-to=20230211205148.030F960098@dpdk-ubuntu.dpdklab.iol.unh.edu \
--to=dpdklab@iol.unh.edu \
--cc=david.marchand@redhat.com \
--cc=rkudurumalla@marvell.com \
--cc=test-report@dpdk.org \
--cc=thomas@monjalon.net \
/path/to/YOUR_REPLY
https://kernel.org/pub/software/scm/git/docs/git-send-email.html
* If your mail client supports setting the In-Reply-To header
via mailto: links, try the mailto: link
Be sure your reply has a Subject: header at the top and a blank line
before the message body.
This is a public inbox, see mirroring instructions
for how to clone and mirror all data and code used for this inbox;
as well as URLs for NNTP newsgroup(s).