* |WARNING| [GIT MASTER] 31608e4db56893c896375288671b5ee38723a211
@ 2023-02-12 11:49 dpdklab
0 siblings, 0 replies; 13+ messages in thread
From: dpdklab @ 2023-02-12 11:49 UTC (permalink / raw)
To: Test Report
Cc: dpdklab, Xueming Li, Christian Ehrhardt, Kevin Traynor, Luca Boccassi
[-- Attachment #1: Type: text/plain, Size: 1751 bytes --]
_Testing issues_
Branch: tags/v21.11
31608e4db56893c896375288671b5ee38723a211 --> testing fail
Test environment and result as below:
+--------------+----------------------+
| Environment | dpdk_fips_validation |
+==============+======================+
| Ubuntu 20.04 | WARN |
+--------------+----------------------+
==== 20 line log output for Ubuntu 20.04 (dpdk_fips_validation): ====
[3042/3060] Linking target drivers/librte_event_octeontx2.so.22.0.
[3043/3060] Linking target app/dpdk-test-bbdev.
[3044/3060] Linking target app/dpdk-test-fib.
[3045/3060] Linking target examples/dpdk-fips_validation.
[3046/3060] Linking target app/dpdk-test-acl.
[3047/3060] Linking target app/dpdk-test-gpudev.
[3048/3060] Linking target app/dpdk-test-pipeline.
[3049/3060] Linking target app/dpdk-testpmd.
[3050/3060] Linking target app/dpdk-pdump.
[3051/3060] Linking target app/test/dpdk-test.
[3052/3060] Linking target app/dpdk-test-eventdev.
[3053/3060] Linking target app/dpdk-proc-info.
[3054/3060] Linking target app/dpdk-test-cmdline.
[3055/3060] Linking target app/dpdk-dumpcap.
[3056/3060] Linking target app/dpdk-test-compress-perf.
[3057/3060] Linking target app/dpdk-test-regex.
[3058/3060] Linking target app/dpdk-test-flow-perf.
[3059/3060] Linking target app/dpdk-test-sad.
[3060/3060] Linking target app/dpdk-test-crypto-perf.
Processing file ../out/acvp-aes-cbc-vectors.json...
==== End log output ====
Ubuntu 20.04
Kernel: 4.18.0-240.10.1.el8_3.x86_64
Compiler: gcc 9.3.0-17ubuntu1~20.04
To view detailed results, visit:
https://lab.dpdk.org/results/dashboard/tarballs/23214/
UNH-IOL DPDK Community Lab
To manage your email subscriptions, visit:
https://lab.dpdk.org/results/dashboard/preferences/subscriptions/
^ permalink raw reply [flat|nested] 13+ messages in thread
* |WARNING| [GIT MASTER] 31608e4db56893c896375288671b5ee38723a211
@ 2023-02-20 7:12 dpdklab
0 siblings, 0 replies; 13+ messages in thread
From: dpdklab @ 2023-02-20 7:12 UTC (permalink / raw)
To: Test Report
Cc: dpdklab, Xueming Li, Christian Ehrhardt, Kevin Traynor, Luca Boccassi
[-- Attachment #1: Type: text/plain, Size: 1751 bytes --]
_Testing issues_
Branch: tags/v21.11
31608e4db56893c896375288671b5ee38723a211 --> testing fail
Test environment and result as below:
+--------------+----------------------+
| Environment | dpdk_fips_validation |
+==============+======================+
| Ubuntu 20.04 | WARN |
+--------------+----------------------+
==== 20 line log output for Ubuntu 20.04 (dpdk_fips_validation): ====
[3079/3097] Linking target drivers/librte_event_octeontx2.so.22.0.
[3080/3097] Linking target app/dpdk-test-regex.
[3081/3097] Linking target app/dpdk-test-bbdev.
[3082/3097] Linking target app/test/dpdk-test.
[3083/3097] Linking target app/dpdk-test-cmdline.
[3084/3097] Linking target app/dpdk-dumpcap.
[3085/3097] Linking target app/dpdk-test-compress-perf.
[3086/3097] Linking target app/dpdk-pdump.
[3087/3097] Linking target app/dpdk-test-flow-perf.
[3088/3097] Linking target app/dpdk-proc-info.
[3089/3097] Linking target app/dpdk-test-gpudev.
[3090/3097] Linking target examples/dpdk-fips_validation.
[3091/3097] Linking target app/dpdk-test-eventdev.
[3092/3097] Linking target app/dpdk-test-acl.
[3093/3097] Linking target app/dpdk-test-pipeline.
[3094/3097] Linking target app/dpdk-test-sad.
[3095/3097] Linking target app/dpdk-testpmd.
[3096/3097] Linking target app/dpdk-test-crypto-perf.
[3097/3097] Linking target app/dpdk-test-fib.
Processing file ../out/acvp-aes-cbc-vectors.json...
==== End log output ====
Ubuntu 20.04
Kernel: 4.18.0-240.10.1.el8_3.x86_64
Compiler: gcc 9.3.0-17ubuntu1~20.04
To view detailed results, visit:
https://lab.dpdk.org/results/dashboard/tarballs/23398/
UNH-IOL DPDK Community Lab
To manage your email subscriptions, visit:
https://lab.dpdk.org/results/dashboard/preferences/subscriptions/
^ permalink raw reply [flat|nested] 13+ messages in thread
* |WARNING| [GIT MASTER] 31608e4db56893c896375288671b5ee38723a211
@ 2023-02-19 6:47 dpdklab
0 siblings, 0 replies; 13+ messages in thread
From: dpdklab @ 2023-02-19 6:47 UTC (permalink / raw)
To: Test Report
Cc: dpdklab, Xueming Li, Christian Ehrhardt, Kevin Traynor, Luca Boccassi
[-- Attachment #1: Type: text/plain, Size: 1751 bytes --]
_Testing issues_
Branch: tags/v21.11
31608e4db56893c896375288671b5ee38723a211 --> testing fail
Test environment and result as below:
+--------------+----------------------+
| Environment | dpdk_fips_validation |
+==============+======================+
| Ubuntu 20.04 | WARN |
+--------------+----------------------+
==== 20 line log output for Ubuntu 20.04 (dpdk_fips_validation): ====
[3079/3097] Linking target app/dpdk-test-crypto-perf.
[3080/3097] Linking target app/dpdk-test-cmdline.
[3081/3097] Linking target app/dpdk-test-flow-perf.
[3082/3097] Linking target app/dpdk-proc-info.
[3083/3097] Linking target app/dpdk-dumpcap.
[3084/3097] Linking target app/dpdk-pdump.
[3085/3097] Linking target app/dpdk-test-pipeline.
[3086/3097] Linking target drivers/librte_event_octeontx2.so.22.0.
[3087/3097] Linking target app/dpdk-test-eventdev.
[3088/3097] Linking target app/test/dpdk-test.
[3089/3097] Linking target app/dpdk-test-regex.
[3090/3097] Linking target app/dpdk-test-bbdev.
[3091/3097] Linking target app/dpdk-test-sad.
[3092/3097] Linking target app/dpdk-testpmd.
[3093/3097] Linking target app/dpdk-test-acl.
[3094/3097] Linking target app/dpdk-test-compress-perf.
[3095/3097] Linking target app/dpdk-test-gpudev.
[3096/3097] Linking target app/dpdk-test-fib.
[3097/3097] Linking target examples/dpdk-fips_validation.
Processing file ../out/acvp-aes-cbc-vectors.json...
==== End log output ====
Ubuntu 20.04
Kernel: 4.18.0-240.10.1.el8_3.x86_64
Compiler: gcc 9.3.0-17ubuntu1~20.04
To view detailed results, visit:
https://lab.dpdk.org/results/dashboard/tarballs/23391/
UNH-IOL DPDK Community Lab
To manage your email subscriptions, visit:
https://lab.dpdk.org/results/dashboard/preferences/subscriptions/
^ permalink raw reply [flat|nested] 13+ messages in thread
* |WARNING| [GIT MASTER] 31608e4db56893c896375288671b5ee38723a211
@ 2023-02-18 6:47 dpdklab
0 siblings, 0 replies; 13+ messages in thread
From: dpdklab @ 2023-02-18 6:47 UTC (permalink / raw)
To: Test Report
Cc: dpdklab, Xueming Li, Christian Ehrhardt, Kevin Traynor, Luca Boccassi
[-- Attachment #1: Type: text/plain, Size: 1751 bytes --]
_Testing issues_
Branch: tags/v21.11
31608e4db56893c896375288671b5ee38723a211 --> testing fail
Test environment and result as below:
+--------------+----------------------+
| Environment | dpdk_fips_validation |
+==============+======================+
| Ubuntu 20.04 | WARN |
+--------------+----------------------+
==== 20 line log output for Ubuntu 20.04 (dpdk_fips_validation): ====
[3079/3097] Linking target app/dpdk-test-acl.
[3080/3097] Linking target app/dpdk-test-compress-perf.
[3081/3097] Linking target app/dpdk-proc-info.
[3082/3097] Linking target drivers/librte_event_octeontx2.so.22.0.
[3083/3097] Linking target app/dpdk-test-cmdline.
[3084/3097] Linking target app/dpdk-test-gpudev.
[3085/3097] Linking target app/dpdk-dumpcap.
[3086/3097] Linking target app/dpdk-test-crypto-perf.
[3087/3097] Linking target app/dpdk-test-pipeline.
[3088/3097] Linking target app/dpdk-test-flow-perf.
[3089/3097] Linking target app/dpdk-test-eventdev.
[3090/3097] Linking target app/dpdk-test-regex.
[3091/3097] Linking target app/dpdk-test-fib.
[3092/3097] Linking target app/dpdk-test-sad.
[3093/3097] Linking target app/dpdk-pdump.
[3094/3097] Linking target app/dpdk-test-bbdev.
[3095/3097] Linking target app/test/dpdk-test.
[3096/3097] Linking target app/dpdk-testpmd.
[3097/3097] Linking target examples/dpdk-fips_validation.
Processing file ../out/acvp-aes-cbc-vectors.json...
==== End log output ====
Ubuntu 20.04
Kernel: 4.18.0-240.10.1.el8_3.x86_64
Compiler: gcc 9.3.0-17ubuntu1~20.04
To view detailed results, visit:
https://lab.dpdk.org/results/dashboard/tarballs/23386/
UNH-IOL DPDK Community Lab
To manage your email subscriptions, visit:
https://lab.dpdk.org/results/dashboard/preferences/subscriptions/
^ permalink raw reply [flat|nested] 13+ messages in thread
* |WARNING| [GIT MASTER] 31608e4db56893c896375288671b5ee38723a211
@ 2023-02-17 9:41 dpdklab
0 siblings, 0 replies; 13+ messages in thread
From: dpdklab @ 2023-02-17 9:41 UTC (permalink / raw)
To: Test Report
Cc: dpdklab, Xueming Li, Christian Ehrhardt, Kevin Traynor, Luca Boccassi
[-- Attachment #1: Type: text/plain, Size: 1751 bytes --]
_Testing issues_
Branch: tags/v21.11
31608e4db56893c896375288671b5ee38723a211 --> testing fail
Test environment and result as below:
+--------------+----------------------+
| Environment | dpdk_fips_validation |
+==============+======================+
| Ubuntu 20.04 | WARN |
+--------------+----------------------+
==== 20 line log output for Ubuntu 20.04 (dpdk_fips_validation): ====
[3042/3060] Linking target app/dpdk-test-crypto-perf.
[3043/3060] Linking target app/dpdk-test-compress-perf.
[3044/3060] Linking target app/dpdk-test-acl.
[3045/3060] Linking target app/dpdk-proc-info.
[3046/3060] Linking target app/dpdk-pdump.
[3047/3060] Linking target app/dpdk-test-bbdev.
[3048/3060] Linking target app/dpdk-test-cmdline.
[3049/3060] Linking target drivers/librte_event_octeontx2.so.22.0.
[3050/3060] Linking target app/dpdk-test-eventdev.
[3051/3060] Linking target app/dpdk-test-fib.
[3052/3060] Linking target app/dpdk-dumpcap.
[3053/3060] Linking target app/dpdk-test-flow-perf.
[3054/3060] Linking target app/test/dpdk-test.
[3055/3060] Linking target app/dpdk-test-pipeline.
[3056/3060] Linking target app/dpdk-testpmd.
[3057/3060] Linking target app/dpdk-test-gpudev.
[3058/3060] Linking target examples/dpdk-fips_validation.
[3059/3060] Linking target app/dpdk-test-sad.
[3060/3060] Linking target app/dpdk-test-regex.
Processing file ../out/acvp-aes-cbc-vectors.json...
==== End log output ====
Ubuntu 20.04
Kernel: 4.18.0-240.10.1.el8_3.x86_64
Compiler: gcc 9.3.0-17ubuntu1~20.04
To view detailed results, visit:
https://lab.dpdk.org/results/dashboard/tarballs/23372/
UNH-IOL DPDK Community Lab
To manage your email subscriptions, visit:
https://lab.dpdk.org/results/dashboard/preferences/subscriptions/
^ permalink raw reply [flat|nested] 13+ messages in thread
* |WARNING| [GIT MASTER] 31608e4db56893c896375288671b5ee38723a211
@ 2023-02-16 7:05 dpdklab
0 siblings, 0 replies; 13+ messages in thread
From: dpdklab @ 2023-02-16 7:05 UTC (permalink / raw)
To: Test Report
Cc: dpdklab, Xueming Li, Christian Ehrhardt, Kevin Traynor, Luca Boccassi
[-- Attachment #1: Type: text/plain, Size: 1751 bytes --]
_Testing issues_
Branch: tags/v21.11
31608e4db56893c896375288671b5ee38723a211 --> testing fail
Test environment and result as below:
+--------------+----------------------+
| Environment | dpdk_fips_validation |
+==============+======================+
| Ubuntu 20.04 | WARN |
+--------------+----------------------+
==== 20 line log output for Ubuntu 20.04 (dpdk_fips_validation): ====
[3042/3060] Linking target drivers/librte_event_octeontx2.so.22.0.
[3043/3060] Linking target app/dpdk-test-fib.
[3044/3060] Linking target app/dpdk-test-cmdline.
[3045/3060] Linking target app/dpdk-test-eventdev.
[3046/3060] Linking target app/dpdk-test-sad.
[3047/3060] Linking target app/dpdk-testpmd.
[3048/3060] Linking target app/dpdk-test-crypto-perf.
[3049/3060] Linking target app/dpdk-dumpcap.
[3050/3060] Linking target app/dpdk-test-compress-perf.
[3051/3060] Linking target app/dpdk-test-regex.
[3052/3060] Linking target app/dpdk-test-acl.
[3053/3060] Linking target app/dpdk-test-bbdev.
[3054/3060] Linking target app/dpdk-test-pipeline.
[3055/3060] Linking target app/dpdk-pdump.
[3056/3060] Linking target app/dpdk-test-gpudev.
[3057/3060] Linking target app/test/dpdk-test.
[3058/3060] Linking target app/dpdk-test-flow-perf.
[3059/3060] Linking target app/dpdk-proc-info.
[3060/3060] Linking target examples/dpdk-fips_validation.
Processing file ../out/acvp-aes-cbc-vectors.json...
==== End log output ====
Ubuntu 20.04
Kernel: 4.18.0-240.10.1.el8_3.x86_64
Compiler: gcc 9.3.0-17ubuntu1~20.04
To view detailed results, visit:
https://lab.dpdk.org/results/dashboard/tarballs/23340/
UNH-IOL DPDK Community Lab
To manage your email subscriptions, visit:
https://lab.dpdk.org/results/dashboard/preferences/subscriptions/
^ permalink raw reply [flat|nested] 13+ messages in thread
* |WARNING| [GIT MASTER] 31608e4db56893c896375288671b5ee38723a211
@ 2023-02-15 6:40 dpdklab
0 siblings, 0 replies; 13+ messages in thread
From: dpdklab @ 2023-02-15 6:40 UTC (permalink / raw)
To: Test Report
Cc: dpdklab, Xueming Li, Christian Ehrhardt, Kevin Traynor, Luca Boccassi
[-- Attachment #1: Type: text/plain, Size: 1792 bytes --]
_Testing issues_
Branch: tags/v21.11
31608e4db56893c896375288671b5ee38723a211 --> testing fail
Test environment and result as below:
+--------------+----------------------+
| Environment | dpdk_fips_validation |
+==============+======================+
| Ubuntu 20.04 | WARN |
+--------------+----------------------+
==== 20 line log output for Ubuntu 20.04 (dpdk_fips_validation): ====
[3042/3060] Linking target app/dpdk-pdump.
[3043/3060] Linking target app/dpdk-test-cmdline.
[3044/3060] Linking target app/dpdk-test-gpudev.
[3045/3060] Linking target app/dpdk-test-crypto-perf.
[3046/3060] Generating rte_event_octeontx2.sym_chk with a meson_exe.py custom command.
[3047/3060] Linking target app/dpdk-test-bbdev.
[3048/3060] Linking target app/test/dpdk-test.
[3049/3060] Linking target app/dpdk-test-compress-perf.
[3050/3060] Linking target app/dpdk-test-regex.
[3051/3060] Linking target drivers/librte_event_octeontx2.so.22.0.
[3052/3060] Linking target app/dpdk-testpmd.
[3053/3060] Linking target app/dpdk-dumpcap.
[3054/3060] Linking target app/dpdk-test-fib.
[3055/3060] Linking target app/dpdk-test-eventdev.
[3056/3060] Linking target app/dpdk-test-acl.
[3057/3060] Linking target app/dpdk-proc-info.
[3058/3060] Linking target app/dpdk-test-flow-perf.
[3059/3060] Linking target app/dpdk-test-pipeline.
[3060/3060] Linking target examples/dpdk-fips_validation.
Processing file ../out/acvp-aes-cbc-vectors.json...
==== End log output ====
Ubuntu 20.04
Kernel: 4.18.0-240.10.1.el8_3.x86_64
Compiler: gcc 9.3.0-17ubuntu1~20.04
To view detailed results, visit:
https://lab.dpdk.org/results/dashboard/tarballs/23326/
UNH-IOL DPDK Community Lab
To manage your email subscriptions, visit:
https://lab.dpdk.org/results/dashboard/preferences/subscriptions/
^ permalink raw reply [flat|nested] 13+ messages in thread
* |WARNING| [GIT MASTER] 31608e4db56893c896375288671b5ee38723a211
@ 2023-02-14 11:36 dpdklab
0 siblings, 0 replies; 13+ messages in thread
From: dpdklab @ 2023-02-14 11:36 UTC (permalink / raw)
To: Test Report
Cc: dpdklab, Xueming Li, Christian Ehrhardt, Kevin Traynor, Luca Boccassi
[-- Attachment #1: Type: text/plain, Size: 1789 bytes --]
_Testing issues_
Branch: tags/v21.11
31608e4db56893c896375288671b5ee38723a211 --> testing fail
Test environment and result as below:
+--------------+----------------------+
| Environment | dpdk_fips_validation |
+==============+======================+
| Ubuntu 20.04 | WARN |
+--------------+----------------------+
==== 20 line log output for Ubuntu 20.04 (dpdk_fips_validation): ====
[3042/3060] Linking target app/dpdk-test-pipeline.
[3043/3060] Linking target app/dpdk-test-cmdline.
[3044/3060] Linking target app/dpdk-test-crypto-perf.
[3045/3060] Linking target app/dpdk-test-flow-perf.
[3046/3060] Generating rte_event_octeontx2.sym_chk with a meson_exe.py custom command.
[3047/3060] Linking target app/dpdk-test-eventdev.
[3048/3060] Linking target app/dpdk-proc-info.
[3049/3060] Linking target app/dpdk-test-compress-perf.
[3050/3060] Linking target drivers/librte_event_octeontx2.so.22.0.
[3051/3060] Linking target app/dpdk-test-bbdev.
[3052/3060] Linking target app/dpdk-dumpcap.
[3053/3060] Linking target app/dpdk-pdump.
[3054/3060] Linking target app/dpdk-test-acl.
[3055/3060] Linking target app/dpdk-test-fib.
[3056/3060] Linking target app/dpdk-test-regex.
[3057/3060] Linking target app/dpdk-testpmd.
[3058/3060] Linking target app/test/dpdk-test.
[3059/3060] Linking target app/dpdk-test-sad.
[3060/3060] Linking target examples/dpdk-fips_validation.
Processing file ../out/acvp-aes-cbc-vectors.json...
==== End log output ====
Ubuntu 20.04
Kernel: 4.18.0-240.10.1.el8_3.x86_64
Compiler: gcc 9.3.0-17ubuntu1~20.04
To view detailed results, visit:
https://lab.dpdk.org/results/dashboard/tarballs/23314/
UNH-IOL DPDK Community Lab
To manage your email subscriptions, visit:
https://lab.dpdk.org/results/dashboard/preferences/subscriptions/
^ permalink raw reply [flat|nested] 13+ messages in thread
* |WARNING| [GIT MASTER] 31608e4db56893c896375288671b5ee38723a211
@ 2023-02-13 13:28 dpdklab
0 siblings, 0 replies; 13+ messages in thread
From: dpdklab @ 2023-02-13 13:28 UTC (permalink / raw)
To: Test Report
Cc: dpdklab, Xueming Li, Christian Ehrhardt, Kevin Traynor, Luca Boccassi
[-- Attachment #1: Type: text/plain, Size: 1786 bytes --]
_Testing issues_
Branch: tags/v21.11
31608e4db56893c896375288671b5ee38723a211 --> testing fail
Test environment and result as below:
+--------------+----------------------+
| Environment | dpdk_fips_validation |
+==============+======================+
| Ubuntu 20.04 | WARN |
+--------------+----------------------+
==== 20 line log output for Ubuntu 20.04 (dpdk_fips_validation): ====
[3042/3060] Linking target app/dpdk-test-eventdev.
[3043/3060] Linking target app/dpdk-test-fib.
[3044/3060] Linking target app/dpdk-test-cmdline.
[3045/3060] Generating rte_event_octeontx2.sym_chk with a meson_exe.py custom command.
[3046/3060] Linking target app/dpdk-pdump.
[3047/3060] Linking target app/dpdk-test-bbdev.
[3048/3060] Linking target app/dpdk-test-compress-perf.
[3049/3060] Linking target drivers/librte_event_octeontx2.so.22.0.
[3050/3060] Linking target app/dpdk-dumpcap.
[3051/3060] Linking target app/dpdk-test-pipeline.
[3052/3060] Linking target app/dpdk-test-gpudev.
[3053/3060] Linking target app/dpdk-test-crypto-perf.
[3054/3060] Linking target app/dpdk-testpmd.
[3055/3060] Linking target app/test/dpdk-test.
[3056/3060] Linking target app/dpdk-test-sad.
[3057/3060] Linking target app/dpdk-test-acl.
[3058/3060] Linking target app/dpdk-proc-info.
[3059/3060] Linking target app/dpdk-test-regex.
[3060/3060] Linking target examples/dpdk-fips_validation.
Processing file ../out/acvp-aes-cbc-vectors.json...
==== End log output ====
Ubuntu 20.04
Kernel: 4.18.0-240.10.1.el8_3.x86_64
Compiler: gcc 9.3.0-17ubuntu1~20.04
To view detailed results, visit:
https://lab.dpdk.org/results/dashboard/tarballs/23295/
UNH-IOL DPDK Community Lab
To manage your email subscriptions, visit:
https://lab.dpdk.org/results/dashboard/preferences/subscriptions/
^ permalink raw reply [flat|nested] 13+ messages in thread
* |WARNING| [GIT MASTER] 31608e4db56893c896375288671b5ee38723a211
@ 2023-02-13 5:57 dpdklab
0 siblings, 0 replies; 13+ messages in thread
From: dpdklab @ 2023-02-13 5:57 UTC (permalink / raw)
To: Test Report
Cc: dpdklab, Xueming Li, Christian Ehrhardt, Kevin Traynor, Luca Boccassi
[-- Attachment #1: Type: text/plain, Size: 1751 bytes --]
_Testing issues_
Branch: tags/v21.11
31608e4db56893c896375288671b5ee38723a211 --> testing fail
Test environment and result as below:
+--------------+----------------------+
| Environment | dpdk_fips_validation |
+==============+======================+
| Ubuntu 20.04 | WARN |
+--------------+----------------------+
==== 20 line log output for Ubuntu 20.04 (dpdk_fips_validation): ====
[3042/3060] Linking target app/dpdk-dumpcap.
[3043/3060] Linking target app/dpdk-proc-info.
[3044/3060] Linking target app/dpdk-test-acl.
[3045/3060] Linking target app/dpdk-test-compress-perf.
[3046/3060] Linking target app/dpdk-test-bbdev.
[3047/3060] Linking target app/dpdk-pdump.
[3048/3060] Linking target drivers/librte_event_octeontx2.so.22.0.
[3049/3060] Linking target app/dpdk-test-pipeline.
[3050/3060] Linking target app/dpdk-test-flow-perf.
[3051/3060] Linking target app/dpdk-test-gpudev.
[3052/3060] Linking target app/test/dpdk-test.
[3053/3060] Linking target app/dpdk-test-cmdline.
[3054/3060] Linking target app/dpdk-test-sad.
[3055/3060] Linking target app/dpdk-test-crypto-perf.
[3056/3060] Linking target app/dpdk-test-eventdev.
[3057/3060] Linking target app/dpdk-test-fib.
[3058/3060] Linking target app/dpdk-test-regex.
[3059/3060] Linking target app/dpdk-testpmd.
[3060/3060] Linking target examples/dpdk-fips_validation.
Processing file ../out/acvp-aes-cbc-vectors.json...
==== End log output ====
Ubuntu 20.04
Kernel: 4.18.0-240.10.1.el8_3.x86_64
Compiler: gcc 9.3.0-17ubuntu1~20.04
To view detailed results, visit:
https://lab.dpdk.org/results/dashboard/tarballs/23289/
UNH-IOL DPDK Community Lab
To manage your email subscriptions, visit:
https://lab.dpdk.org/results/dashboard/preferences/subscriptions/
^ permalink raw reply [flat|nested] 13+ messages in thread
* |WARNING| [GIT MASTER] 31608e4db56893c896375288671b5ee38723a211
@ 2023-02-13 1:31 dpdklab
0 siblings, 0 replies; 13+ messages in thread
From: dpdklab @ 2023-02-13 1:31 UTC (permalink / raw)
To: Test Report
Cc: dpdklab, Xueming Li, Christian Ehrhardt, Kevin Traynor, Luca Boccassi
[-- Attachment #1: Type: text/plain, Size: 1751 bytes --]
_Testing issues_
Branch: tags/v21.11
31608e4db56893c896375288671b5ee38723a211 --> testing fail
Test environment and result as below:
+--------------+----------------------+
| Environment | dpdk_fips_validation |
+==============+======================+
| Ubuntu 20.04 | WARN |
+--------------+----------------------+
==== 20 line log output for Ubuntu 20.04 (dpdk_fips_validation): ====
[3042/3060] Linking target app/dpdk-test-flow-perf.
[3043/3060] Linking target app/dpdk-test-fib.
[3044/3060] Linking target app/dpdk-test-crypto-perf.
[3045/3060] Linking target app/test/dpdk-test.
[3046/3060] Linking target app/dpdk-test-cmdline.
[3047/3060] Linking target app/dpdk-test-eventdev.
[3048/3060] Linking target app/dpdk-test-gpudev.
[3049/3060] Linking target drivers/librte_event_octeontx2.so.22.0.
[3050/3060] Linking target app/dpdk-proc-info.
[3051/3060] Linking target app/dpdk-test-acl.
[3052/3060] Linking target app/dpdk-test-compress-perf.
[3053/3060] Linking target app/dpdk-test-bbdev.
[3054/3060] Linking target app/dpdk-pdump.
[3055/3060] Linking target app/dpdk-dumpcap.
[3056/3060] Linking target app/dpdk-test-regex.
[3057/3060] Linking target app/dpdk-testpmd.
[3058/3060] Linking target app/dpdk-test-sad.
[3059/3060] Linking target app/dpdk-test-pipeline.
[3060/3060] Linking target examples/dpdk-fips_validation.
Processing file ../out/acvp-aes-cbc-vectors.json...
==== End log output ====
Ubuntu 20.04
Kernel: 4.18.0-240.10.1.el8_3.x86_64
Compiler: gcc 9.3.0-17ubuntu1~20.04
To view detailed results, visit:
https://lab.dpdk.org/results/dashboard/tarballs/23284/
UNH-IOL DPDK Community Lab
To manage your email subscriptions, visit:
https://lab.dpdk.org/results/dashboard/preferences/subscriptions/
^ permalink raw reply [flat|nested] 13+ messages in thread
* |WARNING| [GIT MASTER] 31608e4db56893c896375288671b5ee38723a211
@ 2023-02-11 18:49 dpdklab
0 siblings, 0 replies; 13+ messages in thread
From: dpdklab @ 2023-02-11 18:49 UTC (permalink / raw)
To: Test Report
Cc: dpdklab, Xueming Li, Christian Ehrhardt, Kevin Traynor, Luca Boccassi
[-- Attachment #1: Type: text/plain, Size: 1791 bytes --]
_Testing issues_
Branch: tags/v21.11
31608e4db56893c896375288671b5ee38723a211 --> testing fail
Test environment and result as below:
+--------------+----------------------+
| Environment | dpdk_fips_validation |
+==============+======================+
| Ubuntu 20.04 | WARN |
+--------------+----------------------+
==== 20 line log output for Ubuntu 20.04 (dpdk_fips_validation): ====
[3042/3060] Linking target app/dpdk-dumpcap.
[3043/3060] Linking target app/dpdk-test-bbdev.
[3044/3060] Generating rte_event_octeontx2.sym_chk with a meson_exe.py custom command.
[3045/3060] Linking target app/dpdk-test-sad.
[3046/3060] Linking target app/dpdk-test-compress-perf.
[3047/3060] Linking target app/dpdk-test-crypto-perf.
[3048/3060] Linking target app/dpdk-test-eventdev.
[3049/3060] Linking target app/dpdk-test-cmdline.
[3050/3060] Linking target app/dpdk-test-pipeline.
[3051/3060] Linking target drivers/librte_event_octeontx2.so.22.0.
[3052/3060] Linking target app/dpdk-test-gpudev.
[3053/3060] Linking target app/dpdk-test-flow-perf.
[3054/3060] Linking target app/dpdk-test-acl.
[3055/3060] Linking target app/dpdk-pdump.
[3056/3060] Linking target app/dpdk-testpmd.
[3057/3060] Linking target app/test/dpdk-test.
[3058/3060] Linking target app/dpdk-test-fib.
[3059/3060] Linking target app/dpdk-test-regex.
[3060/3060] Linking target examples/dpdk-fips_validation.
Processing file ../out/acvp-aes-cbc-vectors.json...
==== End log output ====
Ubuntu 20.04
Kernel: 4.18.0-240.10.1.el8_3.x86_64
Compiler: gcc 9.3.0-17ubuntu1~20.04
To view detailed results, visit:
https://lab.dpdk.org/results/dashboard/tarballs/23265/
UNH-IOL DPDK Community Lab
To manage your email subscriptions, visit:
https://lab.dpdk.org/results/dashboard/preferences/subscriptions/
^ permalink raw reply [flat|nested] 13+ messages in thread
* |WARNING| [GIT MASTER] 31608e4db56893c896375288671b5ee38723a211
@ 2023-02-10 9:45 dpdklab
0 siblings, 0 replies; 13+ messages in thread
From: dpdklab @ 2023-02-10 9:45 UTC (permalink / raw)
To: Test Report
Cc: dpdklab, Xueming Li, Christian Ehrhardt, Kevin Traynor, Luca Boccassi
[-- Attachment #1: Type: text/plain, Size: 1789 bytes --]
_Testing issues_
Branch: tags/v21.11
31608e4db56893c896375288671b5ee38723a211 --> testing fail
Test environment and result as below:
+--------------+----------------------+
| Environment | dpdk_fips_validation |
+==============+======================+
| Ubuntu 20.04 | WARN |
+--------------+----------------------+
==== 20 line log output for Ubuntu 20.04 (dpdk_fips_validation): ====
[3042/3060] Linking target app/dpdk-test-cmdline.
[3043/3060] Generating rte_event_octeontx2.sym_chk with a meson_exe.py custom command.
[3044/3060] Linking target app/dpdk-test-regex.
[3045/3060] Linking target app/dpdk-test-fib.
[3046/3060] Linking target app/dpdk-test-eventdev.
[3047/3060] Linking target app/dpdk-test-sad.
[3048/3060] Linking target drivers/librte_event_octeontx2.so.22.0.
[3049/3060] Linking target app/dpdk-test-bbdev.
[3050/3060] Linking target app/dpdk-proc-info.
[3051/3060] Linking target app/dpdk-test-acl.
[3052/3060] Linking target app/test/dpdk-test.
[3053/3060] Linking target app/dpdk-test-compress-perf.
[3054/3060] Linking target app/dpdk-test-crypto-perf.
[3055/3060] Linking target app/dpdk-pdump.
[3056/3060] Linking target app/dpdk-dumpcap.
[3057/3060] Linking target app/dpdk-test-flow-perf.
[3058/3060] Linking target app/dpdk-test-pipeline.
[3059/3060] Linking target app/dpdk-testpmd.
[3060/3060] Linking target examples/dpdk-fips_validation.
Processing file ../out/acvp-aes-cbc-vectors.json...
==== End log output ====
Ubuntu 20.04
Kernel: 4.18.0-240.10.1.el8_3.x86_64
Compiler: gcc 9.3.0-17ubuntu1~20.04
To view detailed results, visit:
https://lab.dpdk.org/results/dashboard/tarballs/23235/
UNH-IOL DPDK Community Lab
To manage your email subscriptions, visit:
https://lab.dpdk.org/results/dashboard/preferences/subscriptions/
^ permalink raw reply [flat|nested] 13+ messages in thread
end of thread, other threads:[~2023-02-20 7:12 UTC | newest]
Thread overview: 13+ messages (download: mbox.gz / follow: Atom feed)
-- links below jump to the message on this page --
2023-02-12 11:49 |WARNING| [GIT MASTER] 31608e4db56893c896375288671b5ee38723a211 dpdklab
-- strict thread matches above, loose matches on Subject: below --
2023-02-20 7:12 dpdklab
2023-02-19 6:47 dpdklab
2023-02-18 6:47 dpdklab
2023-02-17 9:41 dpdklab
2023-02-16 7:05 dpdklab
2023-02-15 6:40 dpdklab
2023-02-14 11:36 dpdklab
2023-02-13 13:28 dpdklab
2023-02-13 5:57 dpdklab
2023-02-13 1:31 dpdklab
2023-02-11 18:49 dpdklab
2023-02-10 9:45 dpdklab
This is a public inbox, see mirroring instructions
for how to clone and mirror all data and code used for this inbox;
as well as URLs for NNTP newsgroup(s).