From: dpdklab@iol.unh.edu
To: Test Report <test-report@dpdk.org>
Cc: dpdklab@iol.unh.edu, David Marchand <david.marchand@redhat.com>,
Thomas Monjalon <thomas@monjalon.net>
Subject: |SUCCESS| pw123716-123721 [PATCH] [6/6] net/hns3: extract common functions to set Rx/Tx
Date: Mon, 13 Feb 2023 02:50:39 +0000 (UTC) [thread overview]
Message-ID: <20230213025039.08E36600AB@dpdk-ubuntu.dpdklab.iol.unh.edu> (raw)
[-- Attachment #1: Type: text/plain, Size: 3261 bytes --]
Test-Label: iol-testing
Test-Status: SUCCESS
http://dpdk.org/patch/123721
_Testing PASS_
Submitter: Dongdong Liu <liudongdong3@huawei.com>
Date: Saturday, February 11 2023 09:18:30
DPDK git baseline: Repo:dpdk
Branch: master
CommitID:39d469a7eb4f157923be73aea0b0cc1015860ca7
123716-123721 --> testing pass
Test environment and result as below:
+-------------------------------+----------------+--------------------+
| Environment | dpdk_unit_test | dpdk_meson_compile |
+===============================+================+====================+
| Ubuntu 20.04 ARM GCC Native | PASS | PASS |
+-------------------------------+----------------+--------------------+
| Ubuntu 20.04 ARM Clang Native | PASS | PASS |
+-------------------------------+----------------+--------------------+
| Windows Server 2019 | PASS | SKIPPED |
+-------------------------------+----------------+--------------------+
| Ubuntu 22.04 | PASS | SKIPPED |
+-------------------------------+----------------+--------------------+
| openSUSE Leap 15 | PASS | SKIPPED |
+-------------------------------+----------------+--------------------+
| CentOS Stream 8 | PASS | SKIPPED |
+-------------------------------+----------------+--------------------+
| Debian Buster | PASS | SKIPPED |
+-------------------------------+----------------+--------------------+
| Debian Bullseye | PASS | SKIPPED |
+-------------------------------+----------------+--------------------+
| CentOS Stream 9 | PASS | SKIPPED |
+-------------------------------+----------------+--------------------+
| Ubuntu 20.04 | PASS | SKIPPED |
+-------------------------------+----------------+--------------------+
| RHEL 7 | PASS | SKIPPED |
+-------------------------------+----------------+--------------------+
Ubuntu 20.04 ARM GCC Native
Kernel: 5.4.0-53-generic
Compiler: gcc 9.3
Ubuntu 20.04 ARM Clang Native
Kernel: 5.4.0-53-generic
Compiler: clang 10.0.0-4ubuntu1
Windows Server 2019
Kernel: 10.0
Compiler: clang 14.0 and gcc 8.1.0 (MinGW)
Ubuntu 22.04
Kernel: Container Host Kernel
Compiler: gcc 12.2.1-2
openSUSE Leap 15
Kernel: 4.18.0-240.10.1.el8_3.x86_64
Compiler: gcc 7.5.0
CentOS Stream 8
Kernel: 4.18.0-240.10.1.el8_3.x86_64
Compiler: gcc 8.4.1 20200928
Debian Buster
Kernel: 5.4.0-122-generic
Compiler: gcc 8.3.0-6
Debian Bullseye
Kernel: 5.4.0-122-generic
Compiler: gcc 10.2.1-6
CentOS Stream 9
Kernel: 4.18.0-240.10.1.el8_3.x86_64
Compiler: gcc 11.3.1 20220421
Ubuntu 20.04
Kernel: 4.18.0-240.10.1.el8_3.x86_64
Compiler: gcc 9.3.0-17ubuntu1~20.04
RHEL 7
Kernel: 4.18.0-240.10.1.el8_3.x86_64
Compiler: gcc 4.8.5 20150623 (Red Hat 4.8.5-44)
To view detailed results, visit:
https://lab.dpdk.org/results/dashboard/patchsets/25356/
UNH-IOL DPDK Community Lab
To manage your email subscriptions, visit:
https://lab.dpdk.org/results/dashboard/preferences/subscriptions/
next reply other threads:[~2023-02-13 2:50 UTC|newest]
Thread overview: 33+ messages / expand[flat|nested] mbox.gz Atom feed top
2023-02-13 2:50 dpdklab [this message]
-- strict thread matches above, loose matches on Subject: below --
2023-02-14 21:33 dpdklab
2023-02-13 18:45 dpdklab
2023-02-13 2:56 dpdklab
2023-02-13 2:56 dpdklab
2023-02-13 2:54 dpdklab
2023-02-13 2:51 dpdklab
2023-02-13 2:49 dpdklab
2023-02-13 2:47 dpdklab
2023-02-13 2:46 dpdklab
2023-02-13 2:46 dpdklab
2023-02-13 2:43 dpdklab
2023-02-13 2:41 dpdklab
2023-02-13 2:39 dpdklab
2023-02-13 2:27 dpdklab
2023-02-13 2:03 dpdklab
2023-02-12 22:44 dpdklab
2023-02-11 11:32 dpdklab
2023-02-11 10:10 dpdklab
2023-02-11 10:07 dpdklab
2023-02-11 10:04 dpdklab
2023-02-11 10:03 dpdklab
2023-02-11 10:02 dpdklab
2023-02-11 10:00 dpdklab
2023-02-11 9:58 dpdklab
2023-02-11 9:55 dpdklab
2023-02-11 9:52 dpdklab
2023-02-11 9:51 dpdklab
2023-02-11 9:50 dpdklab
2023-02-11 9:47 dpdklab
2023-02-11 9:45 dpdklab
[not found] <20230211091830.3494-7-liudongdong3@huawei.com>
2023-02-11 9:08 ` |SUCCESS| pw123716-123721 [PATCH 6/6] " qemudev
2023-02-11 9:12 ` qemudev
Reply instructions:
You may reply publicly to this message via plain-text email
using any one of the following methods:
* Save the following mbox file, import it into your mail client,
and reply-to-all from there: mbox
Avoid top-posting and favor interleaved quoting:
https://en.wikipedia.org/wiki/Posting_style#Interleaved_style
* Reply using the --to, --cc, and --in-reply-to
switches of git-send-email(1):
git send-email \
--in-reply-to=20230213025039.08E36600AB@dpdk-ubuntu.dpdklab.iol.unh.edu \
--to=dpdklab@iol.unh.edu \
--cc=david.marchand@redhat.com \
--cc=test-report@dpdk.org \
--cc=thomas@monjalon.net \
/path/to/YOUR_REPLY
https://kernel.org/pub/software/scm/git/docs/git-send-email.html
* If your mail client supports setting the In-Reply-To header
via mailto: links, try the mailto: link
Be sure your reply has a Subject: header at the top and a blank line
before the message body.
This is a public inbox, see mirroring instructions
for how to clone and mirror all data and code used for this inbox;
as well as URLs for NNTP newsgroup(s).