From: dpdklab@iol.unh.edu
To: Test Report <test-report@dpdk.org>
Cc: dpdk-test-reports@iol.unh.edu,
David Marchand <david.marchand@redhat.com>,
Thomas Monjalon <thomas@monjalon.net>
Subject: |SUCCESS| pw123978-123999 [PATCH] [v7, 22/22] hash: convert RTE_LOGTYPE_HASH to dynamic type
Date: Wed, 15 Feb 2023 20:21:40 +0000 (UTC) [thread overview]
Message-ID: <20230215202140.0C3F6600E5@dpdk-ubuntu.dpdklab.iol.unh.edu> (raw)
[-- Attachment #1: Type: text/plain, Size: 1678 bytes --]
Test-Label: iol-testing
Test-Status: SUCCESS
http://dpdk.org/patch/123999
_Testing PASS_
Submitter: Stephen Hemminger <stephen@networkplumber.org>
Date: Wednesday, February 15 2023 17:23:41
DPDK git baseline: Repo:dpdk
Branch: master
CommitID:04ed18cd41f12ea1487581731ef56185d902d827
123978-123999 --> testing pass
Test environment and result as below:
+---------------------+----------------+
| Environment | dpdk_unit_test |
+=====================+================+
| Windows Server 2019 | PASS |
+---------------------+----------------+
| Debian Buster | PASS |
+---------------------+----------------+
| CentOS Stream 9 | PASS |
+---------------------+----------------+
| RHEL 7 | PASS |
+---------------------+----------------+
| Debian Bullseye | PASS |
+---------------------+----------------+
| openSUSE Leap 15 | PASS |
+---------------------+----------------+
Windows Server 2019
Kernel: 10.0
Compiler: clang 14.0 and gcc 8.1.0 (MinGW)
Debian Buster
Kernel: 5.4.0-122-generic
Compiler: gcc 8.3.0-6
CentOS Stream 9
Kernel: 4.18.0-240.10.1.el8_3.x86_64
Compiler: gcc 11.3.1 20220421
RHEL 7
Kernel: 4.18.0-240.10.1.el8_3.x86_64
Compiler: gcc 4.8.5 20150623 (Red Hat 4.8.5-44)
Debian Bullseye
Kernel: 5.4.0-122-generic
Compiler: gcc 10.2.1-6
openSUSE Leap 15
Kernel: 4.18.0-240.10.1.el8_3.x86_64
Compiler: gcc 7.5.0
To view detailed results, visit:
https://lab.dpdk.org/results/dashboard/patchsets/25413/
UNH-IOL DPDK Community Lab
To manage your email subscriptions, visit:
https://lab.dpdk.org/results/dashboard/preferences/subscriptions/
next reply other threads:[~2023-02-15 20:21 UTC|newest]
Thread overview: 26+ messages / expand[flat|nested] mbox.gz Atom feed top
2023-02-15 20:21 dpdklab [this message]
-- strict thread matches above, loose matches on Subject: below --
2023-02-18 23:15 dpdklab
2023-02-17 6:35 dpdklab
2023-02-15 21:10 dpdklab
2023-02-15 21:10 dpdklab
2023-02-15 21:00 dpdklab
2023-02-15 20:47 dpdklab
2023-02-15 20:43 dpdklab
2023-02-15 20:38 dpdklab
2023-02-15 20:36 dpdklab
2023-02-15 20:33 dpdklab
2023-02-15 20:19 dpdklab
2023-02-15 20:18 dpdklab
2023-02-15 20:14 dpdklab
2023-02-15 19:59 dpdklab
2023-02-15 19:49 dpdklab
2023-02-15 18:30 dpdklab
2023-02-15 18:21 dpdklab
2023-02-15 18:15 dpdklab
2023-02-15 18:14 dpdklab
2023-02-15 18:10 dpdklab
2023-02-15 18:03 dpdklab
2023-02-15 18:01 dpdklab
2023-02-15 18:00 dpdklab
[not found] <20230215172341.1525320-23-stephen@networkplumber.org>
2023-02-15 17:16 ` |SUCCESS| pw123978-123999 [PATCH v7 " qemudev
2023-02-15 17:20 ` qemudev
Reply instructions:
You may reply publicly to this message via plain-text email
using any one of the following methods:
* Save the following mbox file, import it into your mail client,
and reply-to-all from there: mbox
Avoid top-posting and favor interleaved quoting:
https://en.wikipedia.org/wiki/Posting_style#Interleaved_style
* Reply using the --to, --cc, and --in-reply-to
switches of git-send-email(1):
git send-email \
--in-reply-to=20230215202140.0C3F6600E5@dpdk-ubuntu.dpdklab.iol.unh.edu \
--to=dpdklab@iol.unh.edu \
--cc=david.marchand@redhat.com \
--cc=dpdk-test-reports@iol.unh.edu \
--cc=test-report@dpdk.org \
--cc=thomas@monjalon.net \
/path/to/YOUR_REPLY
https://kernel.org/pub/software/scm/git/docs/git-send-email.html
* If your mail client supports setting the In-Reply-To header
via mailto: links, try the mailto: link
Be sure your reply has a Subject: header at the top and a blank line
before the message body.
This is a public inbox, see mirroring instructions
for how to clone and mirror all data and code used for this inbox;
as well as URLs for NNTP newsgroup(s).