From mboxrd@z Thu Jan  1 00:00:00 1970
Return-Path: <test-report-bounces@dpdk.org>
Received: from mails.dpdk.org (mails.dpdk.org [217.70.189.124])
	by inbox.dpdk.org (Postfix) with ESMTP id E0E7F41D66
	for <public@inbox.dpdk.org>; Sat, 25 Feb 2023 00:41:14 +0100 (CET)
Received: from mails.dpdk.org (localhost [127.0.0.1])
	by mails.dpdk.org (Postfix) with ESMTP id C1D8240DDA;
	Sat, 25 Feb 2023 00:41:14 +0100 (CET)
Received: from mail-il1-f225.google.com (mail-il1-f225.google.com
 [209.85.166.225])
 by mails.dpdk.org (Postfix) with ESMTP id 0915D40DDA
 for <test-report@dpdk.org>; Sat, 25 Feb 2023 00:41:13 +0100 (CET)
Received: by mail-il1-f225.google.com with SMTP id u6so714850ilk.12
 for <test-report@dpdk.org>; Fri, 24 Feb 2023 15:41:12 -0800 (PST)
DKIM-Signature: v=1; a=rsa-sha256; c=relaxed/relaxed; d=iol.unh.edu; s=unh-iol;
 h=date:message-id:cc:to:from:subject:from:to:cc:subject:date
 :message-id:reply-to;
 bh=5PpYHmgdm6I87fTYBs5Ga/aI6OdUtPh6woQT+pk4YJ8=;
 b=bCtcrnC+PRwBADmGi4+HN+TlNckyhr3SXsmS1774ZbPyZOCwYRa2n/9Xsx6M351JGd
 yWjghyADmG2l3nIwgTkN45TWULBryj/qa3IEt3/PTksD65edHbnshMaBbhQbNThn+LQE
 6zWt4Jdl0F3N6yJkNNXOuR9mxb/j5tjAjiO/4=
X-Google-DKIM-Signature: v=1; a=rsa-sha256; c=relaxed/relaxed;
 d=1e100.net; s=20210112;
 h=date:message-id:cc:to:from:subject:x-gm-message-state:from:to:cc
 :subject:date:message-id:reply-to;
 bh=5PpYHmgdm6I87fTYBs5Ga/aI6OdUtPh6woQT+pk4YJ8=;
 b=1pftJ5y/7BNlE3qRhEudvGzaEc6kx895I/prSOf5i3eFnc9IelifxtrNSSax0b7r9+
 a7c86UqA4LDBlIPSWsCaie5uU83GOnSXit+/dL7kb0P3MqUAP6FjMRoPKl5ETNxj5oSf
 drMAh4q0UWSwwrFE/VpfhMpjxASkrDA8RjOHGuiKK88EHZkqWwi9weWF1pRcOvIRKUJ6
 D2A09U1ul/poAD0FASIOq3fyoc5PUwjzWJDtUo1g6nNRYwJAr6UxkWQyZZEIIdSW5eC6
 KkDNAYnYritkH7FZgUC5eMIdfG+Kh5EgR82lMkU4BC+WH0E5+04y6H+lotLmKqz1LI4C
 y2Kw==
X-Gm-Message-State: AO0yUKWQs4dVbB6XIVZ4PD2x6uDQ49dm3ZBed/LHAcXKblEiYx73uAMR
 78K30/ute7HOjKNKmtlvY6UhTlD2iYH1eYNMd/p0WZFF+se8tEWfDTc=
X-Google-Smtp-Source: AK7set+dxNGGgk+aVO+Kbxq/zN509LlDuZzygw7rZhnKk77PEQXBAmFyeGGS+G6GL8hhlMcdL/oVlyEmFeG3
X-Received: by 2002:a05:6e02:1a43:b0:317:106c:647f with SMTP id
 u3-20020a056e021a4300b00317106c647fmr3794769ilv.20.1677282072418; 
 Fri, 24 Feb 2023 15:41:12 -0800 (PST)
Received: from postal.iol.unh.edu (postal.iol.unh.edu. [132.177.123.84])
 by smtp-relay.gmail.com with ESMTPS id
 o2-20020a02cc22000000b003c50cf26cf1sm10119jap.12.2023.02.24.15.41.12
 (version=TLS1_2 cipher=ECDHE-ECDSA-AES128-GCM-SHA256 bits=128/128);
 Fri, 24 Feb 2023 15:41:12 -0800 (PST)
X-Relaying-Domain: iol.unh.edu
Received: from dpdk-ubuntu.dpdklab.iol.unh.edu (unknown [172.18.0.210])
 by postal.iol.unh.edu (Postfix) with ESMTP id F3A0C605246B;
 Fri, 24 Feb 2023 18:41:11 -0500 (EST)
Received: from dpdk-ubuntu-2.dpdklab.iol.unh.edu (localhost [IPv6:::1])
 by dpdk-ubuntu.dpdklab.iol.unh.edu (Postfix) with ESMTP id ED7A7601B1;
 Fri, 24 Feb 2023 23:41:11 +0000 (UTC)
Subject: |SUCCESS| pw124446 [PATCH] [v3] app/testpmd: fix secondary process
 not forwarding
From: dpdklab@iol.unh.edu
To: Test Report <test-report@dpdk.org>
Cc: dpdklab@iol.unh.edu, David Marchand <david.marchand@redhat.com>,
 Thomas Monjalon <thomas@monjalon.net>
Content-Type: text/plain
Message-Id: <20230224234111.ED7A7601B1@dpdk-ubuntu.dpdklab.iol.unh.edu>
Date: Fri, 24 Feb 2023 23:41:11 +0000 (UTC)
X-BeenThere: test-report@dpdk.org
X-Mailman-Version: 2.1.29
Precedence: list
List-Id: automatic DPDK test reports <test-report.dpdk.org>
List-Unsubscribe: <https://mails.dpdk.org/options/test-report>,
 <mailto:test-report-request@dpdk.org?subject=unsubscribe>
List-Archive: <http://mails.dpdk.org/archives/test-report/>
List-Post: <mailto:test-report@dpdk.org>
List-Help: <mailto:test-report-request@dpdk.org?subject=help>
List-Subscribe: <https://mails.dpdk.org/listinfo/test-report>,
 <mailto:test-report-request@dpdk.org?subject=subscribe>
Errors-To: test-report-bounces@dpdk.org

Test-Label: iol-abi-testing
Test-Status: SUCCESS
http://dpdk.org/patch/124446

_Testing PASS_

Submitter: Shiyang He <shiyangx.he@intel.com>
Date: Thursday, February 23 2023 14:41:06 
DPDK git baseline: Repo:dpdk
  Branch: master
  CommitID:7710b5d15a014872a3aaf646668dafa928ca8473

124446 --> testing pass

Test environment and result as below:

+------------------+----------+
|   Environment    | abi_test |
+==================+==========+
| RHEL 7           | PASS     |
+------------------+----------+
| RHEL8            | PASS     |
+------------------+----------+
| Ubuntu 22.04     | PASS     |
+------------------+----------+
| openSUSE Leap 15 | PASS     |
+------------------+----------+
| Debian Bullseye  | PASS     |
+------------------+----------+
| Debian Buster    | PASS     |
+------------------+----------+
| CentOS Stream 8  | PASS     |
+------------------+----------+
| CentOS Stream 9  | PASS     |
+------------------+----------+
| Ubuntu 20.04     | PASS     |
+------------------+----------+


RHEL 7
	Kernel: 4.18.0-240.10.1.el8_3.x86_64
	Compiler: gcc 4.8.5 20150623 (Red Hat 4.8.5-44)

RHEL8
	Kernel: 4.18.0-240.10.1.el8_3.x86_64
	Compiler: gcc 8.3.1 20191121 (Red Hat 8.3.1-5)

Ubuntu 22.04
	Kernel: Container Host Kernel
	Compiler: gcc 11.3.1-2

openSUSE Leap 15
	Kernel: 4.18.0-240.10.1.el8_3.x86_64
	Compiler: gcc 7.5.0

Debian Bullseye
	Kernel: 5.4.0-122-generic
	Compiler: gcc 10.2.1-6

Debian Buster
	Kernel: 5.4.0-122-generic
	Compiler: gcc 8.3.0-6

CentOS Stream 8
	Kernel: 4.18.0-240.10.1.el8_3.x86_64
	Compiler: gcc 8.4.1 20200928

CentOS Stream 9
	Kernel: 4.18.0-240.10.1.el8_3.x86_64
	Compiler: gcc 11.3.1 20220421

Ubuntu 20.04
	Kernel: 4.18.0-240.10.1.el8_3.x86_64
	Compiler: gcc 9.3.0-17ubuntu1~20.04

To view detailed results, visit:
https://lab.dpdk.org/results/dashboard/patchsets/25529/

UNH-IOL DPDK Community Lab

To manage your email subscriptions, visit: 
https://lab.dpdk.org/results/dashboard/preferences/subscriptions/