From: dpdklab@iol.unh.edu
To: Test Report <test-report@dpdk.org>
Cc: dpdklab@iol.unh.edu, David Marchand <david.marchand@redhat.com>,
Thomas Monjalon <thomas@monjalon.net>
Subject: |SUCCESS| pw124606 [PATCH] [v2] ethdev: add link speed 400G
Date: Thu, 2 Mar 2023 04:46:14 +0000 (UTC) [thread overview]
Message-ID: <20230302044614.04825601F7@dpdk-ubuntu.dpdklab.iol.unh.edu> (raw)
Test-Label: iol-aarch64-unit-testing
Test-Status: SUCCESS
http://dpdk.org/patch/124606
_Testing PASS_
Submitter: Thomas Monjalon <thomas@monjalon.net>
Date: Wednesday, March 01 2023 11:16:42
DPDK git baseline: Repo:dpdk
Branch: master
CommitID:4ef69b2877a24ddb89afaf4bb6f4e73bb52a605b
124606 --> testing pass
Test environment and result as below:
+-------------------------------+------------------------------+---------------------------+--------------+----------------+
| Environment | cryptodev_sw_snow3g_autotest | cryptodev_sw_zuc_autotest | lpm_autotest | dpdk_unit_test |
+===============================+==============================+===========================+==============+================+
| Debian 11 | PASS | PASS | SKIPPED | SKIPPED |
+-------------------------------+------------------------------+---------------------------+--------------+----------------+
| Ubuntu 20.04 ARM SVE | SKIPPED | SKIPPED | PASS | SKIPPED |
+-------------------------------+------------------------------+---------------------------+--------------+----------------+
| Ubuntu 20.04 ARM GCC Native | SKIPPED | SKIPPED | SKIPPED | PASS |
+-------------------------------+------------------------------+---------------------------+--------------+----------------+
| Ubuntu 20.04 ARM Clang Native | SKIPPED | SKIPPED | SKIPPED | PASS |
+-------------------------------+------------------------------+---------------------------+--------------+----------------+
Debian 11
Kernel: Container Host Kernel
Compiler: gcc 10.2.1
Ubuntu 20.04 ARM SVE
Kernel: 5.4.0-80-generic
Compiler: gcc 10.3.0 (Ubuntu 10.3.0-1ubuntu1~20.04)
Ubuntu 20.04 ARM GCC Native
Kernel: 5.4.0-53-generic
Compiler: gcc 9.3
Ubuntu 20.04 ARM Clang Native
Kernel: 5.4.0-53-generic
Compiler: clang 10.0.0-4ubuntu1
To view detailed results, visit:
https://lab.dpdk.org/results/dashboard/patchsets/25573/
UNH-IOL DPDK Community Lab
To manage your email subscriptions, visit:
https://lab.dpdk.org/results/dashboard/preferences/subscriptions/
next reply other threads:[~2023-03-02 4:46 UTC|newest]
Thread overview: 61+ messages / expand[flat|nested] mbox.gz Atom feed top
2023-03-02 4:46 dpdklab [this message]
-- strict thread matches above, loose matches on Subject: below --
2023-03-03 23:12 dpdklab
2023-03-03 23:12 dpdklab
2023-03-03 22:26 dpdklab
2023-03-03 22:24 dpdklab
2023-03-03 22:24 dpdklab
2023-03-03 22:22 dpdklab
2023-03-03 22:21 dpdklab
2023-03-03 22:19 dpdklab
2023-03-03 22:17 dpdklab
2023-03-03 22:16 dpdklab
2023-03-03 22:06 dpdklab
2023-03-03 22:06 dpdklab
2023-03-03 22:05 dpdklab
2023-03-03 22:05 dpdklab
2023-03-03 22:00 dpdklab
2023-03-03 21:41 dpdklab
2023-03-03 21:33 dpdklab
2023-03-03 21:31 dpdklab
2023-03-03 21:30 dpdklab
2023-03-03 21:29 dpdklab
2023-03-03 21:28 dpdklab
2023-03-03 21:22 dpdklab
2023-03-03 21:17 dpdklab
2023-03-03 21:15 dpdklab
2023-03-03 21:13 dpdklab
2023-03-03 21:06 dpdklab
2023-03-03 20:43 dpdklab
2023-03-02 22:14 dpdklab
2023-03-02 20:31 dpdklab
2023-03-02 15:42 dpdklab
2023-03-02 15:15 dpdklab
2023-03-02 10:32 dpdklab
2023-03-02 10:11 dpdklab
2023-03-02 9:59 dpdklab
2023-03-02 9:47 dpdklab
2023-03-02 9:19 dpdklab
2023-03-02 9:07 dpdklab
2023-03-02 8:50 dpdklab
2023-03-02 8:38 dpdklab
2023-03-02 5:46 dpdklab
2023-03-02 5:34 dpdklab
2023-03-02 5:18 dpdklab
2023-03-02 5:11 dpdklab
2023-03-02 4:46 dpdklab
2023-03-02 4:32 dpdklab
2023-03-02 4:23 dpdklab
2023-03-02 4:12 dpdklab
2023-03-02 4:06 dpdklab
2023-03-02 4:02 dpdklab
2023-03-02 4:00 dpdklab
2023-03-02 3:59 dpdklab
2023-03-02 3:47 dpdklab
2023-03-02 3:43 dpdklab
2023-03-02 3:39 dpdklab
2023-03-02 2:08 dpdklab
2023-03-02 1:52 dpdklab
[not found] <20230301111642.3059321-1-thomas@monjalon.net>
2023-03-01 11:08 ` |SUCCESS| pw124606 [PATCH v2] " qemudev
2023-03-01 11:12 ` qemudev
2023-03-01 11:18 ` checkpatch
2023-03-01 13:39 ` 0-day Robot
Reply instructions:
You may reply publicly to this message via plain-text email
using any one of the following methods:
* Save the following mbox file, import it into your mail client,
and reply-to-all from there: mbox
Avoid top-posting and favor interleaved quoting:
https://en.wikipedia.org/wiki/Posting_style#Interleaved_style
* Reply using the --to, --cc, and --in-reply-to
switches of git-send-email(1):
git send-email \
--in-reply-to=20230302044614.04825601F7@dpdk-ubuntu.dpdklab.iol.unh.edu \
--to=dpdklab@iol.unh.edu \
--cc=david.marchand@redhat.com \
--cc=test-report@dpdk.org \
--cc=thomas@monjalon.net \
/path/to/YOUR_REPLY
https://kernel.org/pub/software/scm/git/docs/git-send-email.html
* If your mail client supports setting the In-Reply-To header
via mailto: links, try the mailto: link
Be sure your reply has a Subject: header at the top and a blank line
before the message body.
This is a public inbox, see mirroring instructions
for how to clone and mirror all data and code used for this inbox;
as well as URLs for NNTP newsgroup(s).