From mboxrd@z Thu Jan  1 00:00:00 1970
Return-Path: <test-report-bounces@dpdk.org>
Received: from mails.dpdk.org (mails.dpdk.org [217.70.189.124])
	by inbox.dpdk.org (Postfix) with ESMTP id AA9DD41DB5
	for <public@inbox.dpdk.org>; Thu,  2 Mar 2023 14:12:05 +0100 (CET)
Received: from mails.dpdk.org (localhost [127.0.0.1])
	by mails.dpdk.org (Postfix) with ESMTP id A73AE427EE;
	Thu,  2 Mar 2023 14:12:05 +0100 (CET)
Received: from mail-pj1-f98.google.com (mail-pj1-f98.google.com
 [209.85.216.98]) by mails.dpdk.org (Postfix) with ESMTP id 34376427EE
 for <test-report@dpdk.org>; Thu,  2 Mar 2023 14:12:04 +0100 (CET)
Received: by mail-pj1-f98.google.com with SMTP id
 me6-20020a17090b17c600b0023816b0c7ceso2797750pjb.2
 for <test-report@dpdk.org>; Thu, 02 Mar 2023 05:12:04 -0800 (PST)
DKIM-Signature: v=1; a=rsa-sha256; c=relaxed/relaxed;
 d=iol.unh.edu; s=unh-iol; t=1677762723;
 h=date:message-id:cc:to:from:subject:from:to:cc:subject:date
 :message-id:reply-to;
 bh=JlkLKMhchkeihmEzkPep3tGBM4nr7JnLIKwzlvVFuyM=;
 b=Q7VWxxgm96Rd7gw48u5wgR4zHM1ZL6U+bqzwty7m55lkAKg/7lR46LCNMpqoRQmB++
 0S6VnwvFs9DWaST4/fO+dhBeurH5ryMjHJkBgdQo4jCqSa0KGoLyc1ZCVtujJD58yYvN
 Y1tkWgZ1hy/I0CkIL9S1sRsjXbJEFUfVXYmgo=
X-Google-DKIM-Signature: v=1; a=rsa-sha256; c=relaxed/relaxed;
 d=1e100.net; s=20210112; t=1677762723;
 h=date:message-id:cc:to:from:subject:x-gm-message-state:from:to:cc
 :subject:date:message-id:reply-to;
 bh=JlkLKMhchkeihmEzkPep3tGBM4nr7JnLIKwzlvVFuyM=;
 b=V9VZArY5J2MSvANSr6F/LXYx5YrtpLYdjJn1ny30vcIh7tW1GyZurlFxXkbaM8jLKv
 O0Zh/8DCLY0zxN8G5zzVk962zlrhlOeMBh9FSrNr1+azpgJ0mQy7u+MiEbbaGS7Md4qR
 7p2IJNo1omvxdEd363jCu/bbmQ35Bw+4ziYKem3ATQBxDL5cA4Ry1xnw2QmVDLH0qpXc
 WQfMesXnRI6RqQAKLUeImk29eyolB1Za8AedFa261Yq6yao6ciCxjgqJhA+NvOYm58IM
 embziLK6Mp3PkzHY34VC5rMnEPr3UjUU1pg1vG4GG6Q57enkiExbkdKPJMosE56SSQ4J
 DmDA==
X-Gm-Message-State: AO0yUKXu3mmjd/zh6rQLNoFOUEfmL+JA3xU6u/t9iDF/fmoUG89w3TZW
 DiCaHWVtZMKIMivDsimIc3emVmoQuNCYZIdxAUM2iDl91Uk1l3Tptaw=
X-Google-Smtp-Source: AK7set/BvF2sSOGzbAt6DAbWNtjCETqf5JuzmlpHlaG8w2m8aUsbJPwJCeM3xNwVHaajMwYhZ/nQvp9P38DR
X-Received: by 2002:a17:902:db09:b0:19a:9dab:3438 with SMTP id
 m9-20020a170902db0900b0019a9dab3438mr2401715plx.2.1677762723434; 
 Thu, 02 Mar 2023 05:12:03 -0800 (PST)
Received: from postal.iol.unh.edu (postal.iol.unh.edu. [132.177.123.84])
 by smtp-relay.gmail.com with ESMTPS id
 a7-20020a1709027e4700b00192bc659a88sm459320pln.108.2023.03.02.05.12.03
 (version=TLS1_2 cipher=ECDHE-ECDSA-AES128-GCM-SHA256 bits=128/128);
 Thu, 02 Mar 2023 05:12:03 -0800 (PST)
X-Relaying-Domain: iol.unh.edu
Received: from dpdk-ubuntu.dpdklab.iol.unh.edu (unknown [172.18.0.210])
 by postal.iol.unh.edu (Postfix) with ESMTP id E585A605246B;
 Thu,  2 Mar 2023 08:12:02 -0500 (EST)
Received: from dpdk-ubuntu-2.dpdklab.iol.unh.edu (localhost [IPv6:::1])
 by dpdk-ubuntu.dpdklab.iol.unh.edu (Postfix) with ESMTP id CA71A601B4;
 Thu,  2 Mar 2023 13:12:02 +0000 (UTC)
Subject: |SUCCESS| pw124616 [PATCH] [v4] bus: add platform bus
From: dpdklab@iol.unh.edu
To: Test Report <test-report@dpdk.org>
Cc: dpdklab@iol.unh.edu, David Marchand <david.marchand@redhat.com>,
 Thomas Monjalon <thomas@monjalon.net>
Content-Type: text/plain
Message-Id: <20230302131202.CA71A601B4@dpdk-ubuntu.dpdklab.iol.unh.edu>
Date: Thu,  2 Mar 2023 13:12:02 +0000 (UTC)
X-BeenThere: test-report@dpdk.org
X-Mailman-Version: 2.1.29
Precedence: list
List-Id: automatic DPDK test reports <test-report.dpdk.org>
List-Unsubscribe: <https://mails.dpdk.org/options/test-report>,
 <mailto:test-report-request@dpdk.org?subject=unsubscribe>
List-Archive: <http://mails.dpdk.org/archives/test-report/>
List-Post: <mailto:test-report@dpdk.org>
List-Help: <mailto:test-report-request@dpdk.org?subject=help>
List-Subscribe: <https://mails.dpdk.org/listinfo/test-report>,
 <mailto:test-report-request@dpdk.org?subject=subscribe>
Errors-To: test-report-bounces@dpdk.org

Test-Label: iol-aarch64-compile-testing
Test-Status: SUCCESS
http://dpdk.org/patch/124616

_Testing PASS_

Submitter: Tomasz Duszynski <tduszynski@marvell.com>
Date: Wednesday, March 01 2023 19:59:12 
DPDK git baseline: Repo:dpdk
  Branch: master
  CommitID:4ef69b2877a24ddb89afaf4bb6f4e73bb52a605b

124616 --> testing pass

Test environment and result as below:

+----------------------------------------+--------------------+
|              Environment               | dpdk_meson_compile |
+========================================+====================+
| Ubuntu 20.04 ARM Clang Native          | PASS               |
+----------------------------------------+--------------------+
| Ubuntu 20.04 ARM GCC Native            | PASS               |
+----------------------------------------+--------------------+
| Ubuntu 20.04 aarch32 GCC Cross Compile | PASS               |
+----------------------------------------+--------------------+
| Ubuntu 20.04 ARM Clang Cross Compile   | PASS               |
+----------------------------------------+--------------------+
| Ubuntu 20.04 ARM GCC Cross Compile     | PASS               |
+----------------------------------------+--------------------+
| Ubuntu 20.04 ARM SVE                   | PASS               |
+----------------------------------------+--------------------+


Ubuntu 20.04 ARM Clang Native
	Kernel: 5.4.0-53-generic
	Compiler: clang 10.0.0-4ubuntu1

Ubuntu 20.04 ARM GCC Native
	Kernel: 5.4.0-53-generic
	Compiler: gcc 9.3

Ubuntu 20.04 aarch32 GCC Cross Compile
	Kernel: 5.4.0-72-generic
	Compiler: gcc 9.3.0

Ubuntu 20.04 ARM Clang Cross Compile
	Kernel: 5.4.0-72-generic
	Compiler: clang version 10.0.0-4ubuntu1

Ubuntu 20.04 ARM GCC Cross Compile
	Kernel: 5.4.0-72-generic
	Compiler: aarch64-linux-gnu-gcc (Ubuntu 9.3.0-17ubuntu1~20.04) 9.3.0

Ubuntu 20.04 ARM SVE
	Kernel: 5.4.0-80-generic
	Compiler: gcc 10.3.0 (Ubuntu 10.3.0-1ubuntu1~20.04)

To view detailed results, visit:
https://lab.dpdk.org/results/dashboard/patchsets/25578/

UNH-IOL DPDK Community Lab

To manage your email subscriptions, visit: 
https://lab.dpdk.org/results/dashboard/preferences/subscriptions/