From mboxrd@z Thu Jan  1 00:00:00 1970
Return-Path: <test-report-bounces@dpdk.org>
Received: from mails.dpdk.org (mails.dpdk.org [217.70.189.124])
	by inbox.dpdk.org (Postfix) with ESMTP id 4088241DB5
	for <public@inbox.dpdk.org>; Thu,  2 Mar 2023 15:24:19 +0100 (CET)
Received: from mails.dpdk.org (localhost [127.0.0.1])
	by mails.dpdk.org (Postfix) with ESMTP id 23953400D6;
	Thu,  2 Mar 2023 15:24:19 +0100 (CET)
Received: from mail-oa1-f98.google.com (mail-oa1-f98.google.com
 [209.85.160.98]) by mails.dpdk.org (Postfix) with ESMTP id 65C27400D6
 for <test-report@dpdk.org>; Thu,  2 Mar 2023 15:24:18 +0100 (CET)
Received: by mail-oa1-f98.google.com with SMTP id
 586e51a60fabf-172afa7bee2so18178758fac.6
 for <test-report@dpdk.org>; Thu, 02 Mar 2023 06:24:18 -0800 (PST)
DKIM-Signature: v=1; a=rsa-sha256; c=relaxed/relaxed;
 d=iol.unh.edu; s=unh-iol; t=1677767057;
 h=date:message-id:cc:to:from:subject:from:to:cc:subject:date
 :message-id:reply-to;
 bh=9G3T4LqiCK9LBVxUsTskQhAxIird/ztv8Y7ev8umJVc=;
 b=Ulq+XUDF10lbJLZn+wswfIzJH7kgAXzfaUv7ggmIat87cethsLXGsNHYqBicxwxGSh
 vW40Ry47UiuGQhDCsQvTCieJPJG/NpDub961JKRNjnX6keG5PF6tLnuYFsHEsIdJ9yYQ
 6bsyHwbXJhCUhgYcMkqFLv7blYnvDGj5d1ntA=
X-Google-DKIM-Signature: v=1; a=rsa-sha256; c=relaxed/relaxed;
 d=1e100.net; s=20210112; t=1677767057;
 h=date:message-id:cc:to:from:subject:x-gm-message-state:from:to:cc
 :subject:date:message-id:reply-to;
 bh=9G3T4LqiCK9LBVxUsTskQhAxIird/ztv8Y7ev8umJVc=;
 b=fxVtcbcDN4518W71p6rUPCC8ki+sV5LuAee6YyjradvykJ1BPIFYXBAQuyY49QjzF2
 P7/ng/4R59n2ot7O+BOUOP3tXJr88sAL6I6YtZIQBEi+Mr8oUMvaeO4KL2S4QFw7X2q7
 VqqxWwVw/gcRsrxpkDattyR53qAdL8K0mYszCEqA0XKxC6id8x4bPjZoZWFcYP3764pg
 y8EF4rJTCrxopE0mflXIatF16+6VDesAtadCyOQ5oQxtb5LVWz3nXW2+6K/uGOaNV7X9
 ii8JQgDx/4lFDwYtv7nH1iVWrApIcK4XJ/tl7/m9Gl3Xd8vDErdfPPUqykGJLvGohIc1
 MyUA==
X-Gm-Message-State: AO0yUKW1HGYpHtr7mZyz1ZaBdU02li4BaxQB9KshONbnJ7KmRhIJuxA0
 offamzyTgt4D2+B2U/8gUKlhZC51dvUqWN9IYoOrf4JaMCIuVnYXMrQ=
X-Google-Smtp-Source: AK7set8esUC1CadzM+rvPFPodlesQc4TDO2uck6akv89qA5jUGbkKQQSgmEWUjQRb8Z0MfFIGv2RwY59x4bl
X-Received: by 2002:a05:6870:73cf:b0:15e:c4e1:c9fb with SMTP id
 a15-20020a05687073cf00b0015ec4e1c9fbmr6595270oan.31.1677767057532; 
 Thu, 02 Mar 2023 06:24:17 -0800 (PST)
Received: from postal.iol.unh.edu (postal.iol.unh.edu. [132.177.123.84])
 by smtp-relay.gmail.com with ESMTPS id
 dy29-20020a056870c79d00b001762712a183sm225728oab.18.2023.03.02.06.24.17
 (version=TLS1_2 cipher=ECDHE-ECDSA-AES128-GCM-SHA256 bits=128/128);
 Thu, 02 Mar 2023 06:24:17 -0800 (PST)
X-Relaying-Domain: iol.unh.edu
Received: from dpdk-ubuntu.dpdklab.iol.unh.edu (unknown [172.18.0.210])
 by postal.iol.unh.edu (Postfix) with ESMTP id 185D8605246B;
 Thu,  2 Mar 2023 09:24:17 -0500 (EST)
Received: from dpdk-ubuntu-2.dpdklab.iol.unh.edu (localhost [IPv6:::1])
 by dpdk-ubuntu.dpdklab.iol.unh.edu (Postfix) with ESMTP id 13549601B4;
 Thu,  2 Mar 2023 14:24:17 +0000 (UTC)
Subject: |SUCCESS| pw124616 [PATCH] [v4] bus: add platform bus
From: dpdklab@iol.unh.edu
To: Test Report <test-report@dpdk.org>
Cc: dpdklab@iol.unh.edu, David Marchand <david.marchand@redhat.com>,
 Thomas Monjalon <thomas@monjalon.net>
Content-Type: text/plain
Message-Id: <20230302142417.13549601B4@dpdk-ubuntu.dpdklab.iol.unh.edu>
Date: Thu,  2 Mar 2023 14:24:17 +0000 (UTC)
X-BeenThere: test-report@dpdk.org
X-Mailman-Version: 2.1.29
Precedence: list
List-Id: automatic DPDK test reports <test-report.dpdk.org>
List-Unsubscribe: <https://mails.dpdk.org/options/test-report>,
 <mailto:test-report-request@dpdk.org?subject=unsubscribe>
List-Archive: <http://mails.dpdk.org/archives/test-report/>
List-Post: <mailto:test-report@dpdk.org>
List-Help: <mailto:test-report-request@dpdk.org?subject=help>
List-Subscribe: <https://mails.dpdk.org/listinfo/test-report>,
 <mailto:test-report-request@dpdk.org?subject=subscribe>
Errors-To: test-report-bounces@dpdk.org

Test-Label: iol-aarch64-compile-testing
Test-Status: SUCCESS
http://dpdk.org/patch/124616

_Testing PASS_

Submitter: Tomasz Duszynski <tduszynski@marvell.com>
Date: Wednesday, March 01 2023 19:59:12 
DPDK git baseline: Repo:dpdk
  Branch: master
  CommitID:4ef69b2877a24ddb89afaf4bb6f4e73bb52a605b

124616 --> testing pass

Test environment and result as below:

+----------------------------------------+--------------------+
|              Environment               | dpdk_meson_compile |
+========================================+====================+
| Ubuntu 20.04 ARM Clang Native          | PASS               |
+----------------------------------------+--------------------+
| Ubuntu 20.04 ARM GCC Native            | PASS               |
+----------------------------------------+--------------------+
| Ubuntu 20.04 ARM GCC Cross Compile     | PASS               |
+----------------------------------------+--------------------+
| Ubuntu 20.04 ARM Clang Cross Compile   | PASS               |
+----------------------------------------+--------------------+
| Ubuntu 20.04 aarch32 GCC Cross Compile | PASS               |
+----------------------------------------+--------------------+
| Ubuntu 20.04 ARM SVE                   | PASS               |
+----------------------------------------+--------------------+


Ubuntu 20.04 ARM Clang Native
	Kernel: 5.4.0-53-generic
	Compiler: clang 10.0.0-4ubuntu1

Ubuntu 20.04 ARM GCC Native
	Kernel: 5.4.0-53-generic
	Compiler: gcc 9.3

Ubuntu 20.04 ARM GCC Cross Compile
	Kernel: 5.4.0-72-generic
	Compiler: aarch64-linux-gnu-gcc (Ubuntu 9.3.0-17ubuntu1~20.04) 9.3.0

Ubuntu 20.04 ARM Clang Cross Compile
	Kernel: 5.4.0-72-generic
	Compiler: clang version 10.0.0-4ubuntu1

Ubuntu 20.04 aarch32 GCC Cross Compile
	Kernel: 5.4.0-72-generic
	Compiler: gcc 9.3.0

Ubuntu 20.04 ARM SVE
	Kernel: 5.4.0-80-generic
	Compiler: gcc 10.3.0 (Ubuntu 10.3.0-1ubuntu1~20.04)

To view detailed results, visit:
https://lab.dpdk.org/results/dashboard/patchsets/25578/

UNH-IOL DPDK Community Lab

To manage your email subscriptions, visit: 
https://lab.dpdk.org/results/dashboard/preferences/subscriptions/