From mboxrd@z Thu Jan  1 00:00:00 1970
Return-Path: <test-report-bounces@dpdk.org>
Received: from mails.dpdk.org (mails.dpdk.org [217.70.189.124])
	by inbox.dpdk.org (Postfix) with ESMTP id 42D3541DB6
	for <public@inbox.dpdk.org>; Thu,  2 Mar 2023 19:30:44 +0100 (CET)
Received: from mails.dpdk.org (localhost [127.0.0.1])
	by mails.dpdk.org (Postfix) with ESMTP id 3EBE8400D6;
	Thu,  2 Mar 2023 19:30:44 +0100 (CET)
Received: from mail-oo1-f97.google.com (mail-oo1-f97.google.com
 [209.85.161.97]) by mails.dpdk.org (Postfix) with ESMTP id 93EA3400D6
 for <test-report@dpdk.org>; Thu,  2 Mar 2023 19:30:42 +0100 (CET)
Received: by mail-oo1-f97.google.com with SMTP id
 t5-20020a4ac885000000b005251f70a740so59725ooq.8
 for <test-report@dpdk.org>; Thu, 02 Mar 2023 10:30:42 -0800 (PST)
DKIM-Signature: v=1; a=rsa-sha256; c=relaxed/relaxed;
 d=iol.unh.edu; s=unh-iol; t=1677781842;
 h=date:message-id:cc:to:from:subject:from:to:cc:subject:date
 :message-id:reply-to;
 bh=W1eBhH+YoVGxCm2oa2lOzeR2Hv/p8imO9tjzVYcx5A4=;
 b=H6qT1Rs2H7as8uVR73m0GDoIykgqJprA+eKLt2CsoQk/wfgtygvW18yZ4nDH+dNQ8I
 LjAXXe0D0X6fs/JK6gDqzGl0ukPDi9C56Za6KOuDy+KDlNzq41k+a3O/hyv3baLw9ghO
 8/89glgXGs8iDIRpILMpqZRwztzOeFxDHpK4I=
X-Google-DKIM-Signature: v=1; a=rsa-sha256; c=relaxed/relaxed;
 d=1e100.net; s=20210112; t=1677781842;
 h=date:message-id:cc:to:from:subject:x-gm-message-state:from:to:cc
 :subject:date:message-id:reply-to;
 bh=W1eBhH+YoVGxCm2oa2lOzeR2Hv/p8imO9tjzVYcx5A4=;
 b=D3FQT5jQRsrIxiEPV5hmpFReSvAcmjNtSZKxIfR+D96Pj04CMrMB9UeFSLJXT2jFkP
 0Up66ppApJ6tybUDXebkCDnQcBIhGuSdyTSK/ketfvxrUo8Eomax/KGjeu5CMB8gusCm
 rBXNWvZrtZveli9+bHEsUkuGzkNtyYJmu20RwHUOBMeHhusX97WkP2/z4X99E/7zafIF
 F5tWIm5bDhg1aGdqL/Y5HjAG8Zy92i/J19vC9NollnxB8k6CjyIBXT2dGvBcBX8iq2gl
 9PxefB7m5rkUBJgBnicDXswTuaKWvEToPvAYgX453pH/GbN0FAbm2E3IY3UDyY8drYaI
 tKbw==
X-Gm-Message-State: AO0yUKX42WCkq+D83yaegtYcMkSbuKm0n8BKvg4nzH3AaOH0reYLW6AY
 slVjjPaIEdOraTcwXB2ZQ+8HyPeo9SCEIolkqBKux+w4REaoBpS02T0=
X-Google-Smtp-Source: AK7set+4dl8wjA9ukBymFvnRv1uSoyYvxafpgyuYsKcp0SQz82JAMCvLm/gjmxYmJum9IKcbpaZfM6b2O1vN
X-Received: by 2002:a4a:9b88:0:b0:525:5c24:fa55 with SMTP id
 x8-20020a4a9b88000000b005255c24fa55mr1668672ooj.2.1677781841952; 
 Thu, 02 Mar 2023 10:30:41 -0800 (PST)
Received: from postal.iol.unh.edu (postal.iol.unh.edu. [132.177.123.84])
 by smtp-relay.gmail.com with ESMTPS id
 z13-20020a4a984d000000b005250b2dc08esm1017482ooi.2.2023.03.02.10.30.41
 (version=TLS1_2 cipher=ECDHE-ECDSA-AES128-GCM-SHA256 bits=128/128);
 Thu, 02 Mar 2023 10:30:41 -0800 (PST)
X-Relaying-Domain: iol.unh.edu
Received: from dpdk-ubuntu.dpdklab.iol.unh.edu (unknown [172.18.0.210])
 by postal.iol.unh.edu (Postfix) with ESMTP id 80169605246B;
 Thu,  2 Mar 2023 13:30:41 -0500 (EST)
Received: from dpdk-ubuntu-2.dpdklab.iol.unh.edu (localhost [IPv6:::1])
 by dpdk-ubuntu.dpdklab.iol.unh.edu (Postfix) with ESMTP id 79F60601B4;
 Thu,  2 Mar 2023 18:30:41 +0000 (UTC)
Subject: |SUCCESS| pw124616 [PATCH] [v4] bus: add platform bus
From: dpdklab@iol.unh.edu
To: Test Report <test-report@dpdk.org>
Cc: dpdklab@iol.unh.edu, David Marchand <david.marchand@redhat.com>,
 Thomas Monjalon <thomas@monjalon.net>
Content-Type: text/plain
Message-Id: <20230302183041.79F60601B4@dpdk-ubuntu.dpdklab.iol.unh.edu>
Date: Thu,  2 Mar 2023 18:30:41 +0000 (UTC)
X-BeenThere: test-report@dpdk.org
X-Mailman-Version: 2.1.29
Precedence: list
List-Id: automatic DPDK test reports <test-report.dpdk.org>
List-Unsubscribe: <https://mails.dpdk.org/options/test-report>,
 <mailto:test-report-request@dpdk.org?subject=unsubscribe>
List-Archive: <http://mails.dpdk.org/archives/test-report/>
List-Post: <mailto:test-report@dpdk.org>
List-Help: <mailto:test-report-request@dpdk.org?subject=help>
List-Subscribe: <https://mails.dpdk.org/listinfo/test-report>,
 <mailto:test-report-request@dpdk.org?subject=subscribe>
Errors-To: test-report-bounces@dpdk.org

Test-Label: iol-x86_64-compile-testing
Test-Status: SUCCESS
http://dpdk.org/patch/124616

_Testing PASS_

Submitter: Tomasz Duszynski <tduszynski@marvell.com>
Date: Wednesday, March 01 2023 19:59:12 
DPDK git baseline: Repo:dpdk
  Branch: master
  CommitID:4ef69b2877a24ddb89afaf4bb6f4e73bb52a605b

124616 --> testing pass

Test environment and result as below:

+------------------+--------------------+
|   Environment    | dpdk_meson_compile |
+==================+====================+
| FreeBSD 13       | PASS               |
+------------------+--------------------+
| CentOS Stream 8  | PASS               |
+------------------+--------------------+
| Debian Buster    | PASS               |
+------------------+--------------------+
| CentOS Stream 9  | PASS               |
+------------------+--------------------+
| Debian Bullseye  | PASS               |
+------------------+--------------------+
| Ubuntu 22.04     | PASS               |
+------------------+--------------------+
| RHEL 7           | PASS               |
+------------------+--------------------+
| openSUSE Leap 15 | PASS               |
+------------------+--------------------+
| RHEL8            | PASS               |
+------------------+--------------------+
| Ubuntu 20.04     | PASS               |
+------------------+--------------------+


FreeBSD 13
	Kernel: 13.0
	Compiler: clang 11.0.1

CentOS Stream 8
	Kernel: 4.18.0-240.10.1.el8_3.x86_64
	Compiler: gcc 8.4.1 20200928

Debian Buster
	Kernel: 5.4.0-122-generic
	Compiler: gcc 8.3.0-6

CentOS Stream 9
	Kernel: 4.18.0-240.10.1.el8_3.x86_64
	Compiler: gcc 11.3.1 20220421

Debian Bullseye
	Kernel: 5.4.0-122-generic
	Compiler: gcc 10.2.1-6

Ubuntu 22.04
	Kernel: Container Host Kernel
	Compiler: gcc 11.3.1-2

RHEL 7
	Kernel: 4.18.0-240.10.1.el8_3.x86_64
	Compiler: gcc 4.8.5 20150623 (Red Hat 4.8.5-44)

openSUSE Leap 15
	Kernel: 4.18.0-240.10.1.el8_3.x86_64
	Compiler: gcc 7.5.0

RHEL8
	Kernel: 4.18.0-240.10.1.el8_3.x86_64
	Compiler: gcc 8.3.1 20191121 (Red Hat 8.3.1-5)

Ubuntu 20.04
	Kernel: 4.18.0-240.10.1.el8_3.x86_64
	Compiler: gcc 9.3.0-17ubuntu1~20.04

To view detailed results, visit:
https://lab.dpdk.org/results/dashboard/patchsets/25578/

UNH-IOL DPDK Community Lab

To manage your email subscriptions, visit: 
https://lab.dpdk.org/results/dashboard/preferences/subscriptions/