From mboxrd@z Thu Jan  1 00:00:00 1970
Return-Path: <test-report-bounces@dpdk.org>
Received: from mails.dpdk.org (mails.dpdk.org [217.70.189.124])
	by inbox.dpdk.org (Postfix) with ESMTP id 215E041DC9
	for <public@inbox.dpdk.org>; Fri,  3 Mar 2023 17:41:22 +0100 (CET)
Received: from mails.dpdk.org (localhost [127.0.0.1])
	by mails.dpdk.org (Postfix) with ESMTP id 1B21640ED9;
	Fri,  3 Mar 2023 17:41:22 +0100 (CET)
Received: from mail-qt1-f227.google.com (mail-qt1-f227.google.com
 [209.85.160.227])
 by mails.dpdk.org (Postfix) with ESMTP id 789B840ED9
 for <test-report@dpdk.org>; Fri,  3 Mar 2023 17:41:20 +0100 (CET)
Received: by mail-qt1-f227.google.com with SMTP id s12so3440358qtq.11
 for <test-report@dpdk.org>; Fri, 03 Mar 2023 08:41:20 -0800 (PST)
DKIM-Signature: v=1; a=rsa-sha256; c=relaxed/relaxed;
 d=iol.unh.edu; s=unh-iol; t=1677861680;
 h=date:message-id:cc:to:from:subject:from:to:cc:subject:date
 :message-id:reply-to;
 bh=MCP5bFxlP2B+X9g5zRgCOJhs1KrV4WiRZm+jZzadf9o=;
 b=jH5AukWDdHCMLC9i2I4hnF+Y4q/YrA6Nu/n6tTsKAR4wpAgMsK23Kg2Ga2uGmZB57w
 QxydZO8GwaZeIy0VEQQlkm7MURNZd0zUN8yeyGP7Q30h/VdSpTZRSn8gK6QAjKu74/8U
 YDQ3uGAkcCBPCaRNR/MTePiZJ1vHKb93kY0Fw=
X-Google-DKIM-Signature: v=1; a=rsa-sha256; c=relaxed/relaxed;
 d=1e100.net; s=20210112; t=1677861680;
 h=date:message-id:cc:to:from:subject:x-gm-message-state:from:to:cc
 :subject:date:message-id:reply-to;
 bh=MCP5bFxlP2B+X9g5zRgCOJhs1KrV4WiRZm+jZzadf9o=;
 b=iB/F+azP4U8bMbRUcipmvVVNoftBiihq/CrVoWH21hEeBfOn44+RM+OSTiuuD7uYeE
 iz5F/odI/4RBToTsbvkyvuiPRfIJWMUFO+DPP73py+lZvGjQ17EVkf1//g5AdHVfnSZk
 FrETVMA/HjSk27SkMQzXj57YaNO+B+lYnzofentOY6eEgt/Z/lijmmtV2B4wRSn+WHwc
 YAX+6tvlmmwXfQvCeAnlemdhWVp/5Rs9asSo4Ns2Wkp8BQJeph9rCOLm4gvvyXycfAp2
 WXaUusyUPry/q3y0BsBLcBfiCnZd34Tq87DYvP+11QLVFEHidcrGY+l9do6kAcKVDUvo
 cJ7A==
X-Gm-Message-State: AO0yUKW5hJre0uztrT2p7/cTKqXIBnlQphesgZwIHYhdHlEi0QiaC1xG
 KRnKCyI+lMg4asnIyPq6ZojsCYGz5yRP5btB2NKvk6fghfsgZbCjB1A=
X-Google-Smtp-Source: AK7set+gPL5pZ4KppmH2p+9KPYIIun6ltrOEr8sKU50gRRmlKqhFKTJ61OBQibNRBU4BoiuCss/aFufm7tqz
X-Received: by 2002:ac8:7d4c:0:b0:3bf:a5e2:79af with SMTP id
 h12-20020ac87d4c000000b003bfa5e279afmr3921154qtb.37.1677861679998; 
 Fri, 03 Mar 2023 08:41:19 -0800 (PST)
Received: from postal.iol.unh.edu (postal.iol.unh.edu. [132.177.123.84])
 by smtp-relay.gmail.com with ESMTPS id
 h6-20020ac87d46000000b003bfc202de2csm177494qtb.24.2023.03.03.08.41.19
 (version=TLS1_2 cipher=ECDHE-ECDSA-AES128-GCM-SHA256 bits=128/128);
 Fri, 03 Mar 2023 08:41:19 -0800 (PST)
X-Relaying-Domain: iol.unh.edu
Received: from dpdk-ubuntu.dpdklab.iol.unh.edu (unknown [172.18.0.210])
 by postal.iol.unh.edu (Postfix) with ESMTP id A647F605246B;
 Fri,  3 Mar 2023 11:41:19 -0500 (EST)
Received: from dpdk-ubuntu-2.dpdklab.iol.unh.edu (localhost [IPv6:::1])
 by dpdk-ubuntu.dpdklab.iol.unh.edu (Postfix) with ESMTP id A0BB1600AF;
 Fri,  3 Mar 2023 16:41:19 +0000 (UTC)
Subject: |SUCCESS| pw124616 [PATCH] [v4] bus: add platform bus
From: dpdklab@iol.unh.edu
To: Test Report <test-report@dpdk.org>
Cc: dpdk-test-reports@iol.unh.edu, David Marchand <david.marchand@redhat.com>,
 Thomas Monjalon <thomas@monjalon.net>
Content-Type: text/plain
Message-Id: <20230303164119.A0BB1600AF@dpdk-ubuntu.dpdklab.iol.unh.edu>
Date: Fri,  3 Mar 2023 16:41:19 +0000 (UTC)
X-BeenThere: test-report@dpdk.org
X-Mailman-Version: 2.1.29
Precedence: list
List-Id: automatic DPDK test reports <test-report.dpdk.org>
List-Unsubscribe: <https://mails.dpdk.org/options/test-report>,
 <mailto:test-report-request@dpdk.org?subject=unsubscribe>
List-Archive: <http://mails.dpdk.org/archives/test-report/>
List-Post: <mailto:test-report@dpdk.org>
List-Help: <mailto:test-report-request@dpdk.org?subject=help>
List-Subscribe: <https://mails.dpdk.org/listinfo/test-report>,
 <mailto:test-report-request@dpdk.org?subject=subscribe>
Errors-To: test-report-bounces@dpdk.org

Test-Label: iol-testing
Test-Status: SUCCESS
http://dpdk.org/patch/124616

_Testing PASS_

Submitter: Tomasz Duszynski <tduszynski@marvell.com>
Date: Wednesday, March 01 2023 19:59:12 
DPDK git baseline: Repo:dpdk
  Branch: master
  CommitID:4ef69b2877a24ddb89afaf4bb6f4e73bb52a605b

124616 --> testing pass

Test environment and result as below:

+----------------------------------------+----------------+--------------------+----------------------+
|              Environment               | dpdk_unit_test | dpdk_meson_compile | dpdk_mingw64_compile |
+========================================+================+====================+======================+
| Ubuntu 20.04 ARM Clang Native          | PASS           | PASS               | SKIPPED              |
+----------------------------------------+----------------+--------------------+----------------------+
| Ubuntu 20.04 ARM GCC Native            | PASS           | PASS               | SKIPPED              |
+----------------------------------------+----------------+--------------------+----------------------+
| Windows Server 2019                    | PASS           | PASS               | PASS                 |
+----------------------------------------+----------------+--------------------+----------------------+
| CentOS Stream 9                        | PASS           | PASS               | SKIPPED              |
+----------------------------------------+----------------+--------------------+----------------------+
| Ubuntu 22.04                           | PASS           | PASS               | SKIPPED              |
+----------------------------------------+----------------+--------------------+----------------------+
| openSUSE Leap 15                       | PASS           | PASS               | SKIPPED              |
+----------------------------------------+----------------+--------------------+----------------------+
| Debian Bullseye                        | PASS           | PASS               | SKIPPED              |
+----------------------------------------+----------------+--------------------+----------------------+
| RHEL8                                  | PASS           | PASS               | SKIPPED              |
+----------------------------------------+----------------+--------------------+----------------------+
| CentOS Stream 8                        | PASS           | PASS               | SKIPPED              |
+----------------------------------------+----------------+--------------------+----------------------+
| Ubuntu 20.04                           | PASS           | PASS               | SKIPPED              |
+----------------------------------------+----------------+--------------------+----------------------+
| Ubuntu 20.04 aarch32 GCC Cross Compile | SKIPPED        | PASS               | SKIPPED              |
+----------------------------------------+----------------+--------------------+----------------------+
| Ubuntu 20.04 ARM Clang Cross Compile   | SKIPPED        | PASS               | SKIPPED              |
+----------------------------------------+----------------+--------------------+----------------------+
| Ubuntu 20.04 ARM GCC Cross Compile     | SKIPPED        | PASS               | SKIPPED              |
+----------------------------------------+----------------+--------------------+----------------------+
| Ubuntu 20.04 ARM SVE                   | SKIPPED        | PASS               | SKIPPED              |
+----------------------------------------+----------------+--------------------+----------------------+
| FreeBSD 13                             | SKIPPED        | PASS               | SKIPPED              |
+----------------------------------------+----------------+--------------------+----------------------+
| Debian Buster                          | SKIPPED        | PASS               | SKIPPED              |
+----------------------------------------+----------------+--------------------+----------------------+
| RHEL 7                                 | SKIPPED        | PASS               | SKIPPED              |
+----------------------------------------+----------------+--------------------+----------------------+


Ubuntu 20.04 ARM Clang Native
	Kernel: 5.4.0-53-generic
	Compiler: clang 10.0.0-4ubuntu1

Ubuntu 20.04 ARM GCC Native
	Kernel: 5.4.0-53-generic
	Compiler: gcc 9.3

Windows Server 2019
	Kernel: 10.0
	Compiler: clang 14.0 and gcc 8.1.0 (MinGW)

CentOS Stream 9
	Kernel: 4.18.0-240.10.1.el8_3.x86_64
	Compiler: gcc 11.3.1 20220421

Ubuntu 22.04
	Kernel: Container Host Kernel
	Compiler: clang 14.0.5-1.fc36

openSUSE Leap 15
	Kernel: 4.18.0-240.10.1.el8_3.x86_64
	Compiler: gcc 7.5.0

Debian Bullseye
	Kernel: 5.4.0-122-generic
	Compiler: gcc 10.2.1-6

RHEL8
	Kernel: 4.18.0-240.10.1.el8_3.x86_64
	Compiler: gcc 8.3.1 20191121 (Red Hat 8.3.1-5)

CentOS Stream 8
	Kernel: 4.18.0-240.10.1.el8_3.x86_64
	Compiler: gcc 8.4.1 20200928

Ubuntu 20.04
	Kernel: 4.18.0-240.10.1.el8_3.x86_64
	Compiler: gcc 9.3.0-17ubuntu1~20.04

Ubuntu 20.04 aarch32 GCC Cross Compile
	Kernel: 5.4.0-72-generic
	Compiler: gcc 9.3.0

Ubuntu 20.04 ARM Clang Cross Compile
	Kernel: 5.4.0-72-generic
	Compiler: clang version 10.0.0-4ubuntu1

Ubuntu 20.04 ARM GCC Cross Compile
	Kernel: 5.4.0-72-generic
	Compiler: aarch64-linux-gnu-gcc (Ubuntu 9.3.0-17ubuntu1~20.04) 9.3.0

Ubuntu 20.04 ARM SVE
	Kernel: 5.4.0-80-generic
	Compiler: gcc 10.3.0 (Ubuntu 10.3.0-1ubuntu1~20.04)

FreeBSD 13
	Kernel: 13.0
	Compiler: clang 11.0.1

Debian Buster
	Kernel: 5.4.0-122-generic
	Compiler: gcc 8.3.0-6

RHEL 7
	Kernel: 4.18.0-240.10.1.el8_3.x86_64
	Compiler: gcc 4.8.5 20150623 (Red Hat 4.8.5-44)

To view detailed results, visit:
https://lab.dpdk.org/results/dashboard/patchsets/25578/

UNH-IOL DPDK Community Lab

To manage your email subscriptions, visit: 
https://lab.dpdk.org/results/dashboard/preferences/subscriptions/