From mboxrd@z Thu Jan  1 00:00:00 1970
Return-Path: <test-report-bounces@dpdk.org>
Received: from mails.dpdk.org (mails.dpdk.org [217.70.189.124])
	by inbox.dpdk.org (Postfix) with ESMTP id B418441DCA
	for <public@inbox.dpdk.org>; Fri,  3 Mar 2023 18:40:40 +0100 (CET)
Received: from mails.dpdk.org (localhost [127.0.0.1])
	by mails.dpdk.org (Postfix) with ESMTP id AD7EF40ED9;
	Fri,  3 Mar 2023 18:40:40 +0100 (CET)
Received: from mail-oa1-f100.google.com (mail-oa1-f100.google.com
 [209.85.160.100])
 by mails.dpdk.org (Postfix) with ESMTP id DEDAE40ED9
 for <test-report@dpdk.org>; Fri,  3 Mar 2023 18:40:38 +0100 (CET)
Received: by mail-oa1-f100.google.com with SMTP id
 586e51a60fabf-17264e9b575so3746874fac.9
 for <test-report@dpdk.org>; Fri, 03 Mar 2023 09:40:38 -0800 (PST)
DKIM-Signature: v=1; a=rsa-sha256; c=relaxed/relaxed;
 d=iol.unh.edu; s=unh-iol; t=1677865238;
 h=date:message-id:cc:to:from:subject:from:to:cc:subject:date
 :message-id:reply-to;
 bh=TvdafXTMLPiAnT18d/4lcyZfTV71N5ZKlYd5VWhwcvQ=;
 b=CpDJbTc03d88zA5+25bLFq03yTqL/8bGNREq6s+gCTeTgLuJbdiIpwweoCPOacE/Kc
 eqf5p5wLj++pwuOr3NK9K43MFeuTxLURj12nv2aMyjuYfeCpUNULb/Lk3COvW4jG+2fE
 JLm6eHI8lxCkt/iyJuD8IZQ6+UzTLustl4EII=
X-Google-DKIM-Signature: v=1; a=rsa-sha256; c=relaxed/relaxed;
 d=1e100.net; s=20210112; t=1677865238;
 h=date:message-id:cc:to:from:subject:x-gm-message-state:from:to:cc
 :subject:date:message-id:reply-to;
 bh=TvdafXTMLPiAnT18d/4lcyZfTV71N5ZKlYd5VWhwcvQ=;
 b=GzFBhQ0Nzy6fmWMCBH0u5vXoMWehGvYk+Qvt7TGzwlzolfLIX3QeOfje2HRj2BPAjq
 SE3JX+7gmwIRhxl8t8VIsS1DexfLZsEdviQ35z4Pn3KbsHQ0Vq9nXi/d7gAdNHhax4yW
 YMXgjvZCQkWSoWxBh+LmWzFDiE/FVFrJ1VhdzVb1MFtNjEpHpMTESqiAdOcWMKNc73Lu
 pbRTH59nEA89CD0+XjkFGGuJUoGRVGyYsR24OIn0CP8bEIjHzJwKGdsgCQUwlfBNGUJL
 sSFowYV+u6e5gVhIrRN1B18DPAjo4P0yx6BvlRp+JMxlqaNhqpE8PxiLqmFy5N7rleKI
 GdFg==
X-Gm-Message-State: AO0yUKW54L7uIZdNjqJTDtxjd6ldHHxekquE6KrD2KyM+0ezeTPeuwty
 z+dUF14XZHrQ213fsetyPa5WEkNX9kN+bYI+/WOFPHYHU5dnsJMonDYKQaT+i1J8M84LpCM=
X-Google-Smtp-Source: AK7set92aZ0xC8H6dEDFQFkp80RWApctoDP29nj6AVow4DlfDf5opfL178+YRImEJcTSRwthryQ0eVMjW8XA
X-Received: by 2002:a05:6870:f113:b0:172:4d60:c309 with SMTP id
 k19-20020a056870f11300b001724d60c309mr1557960oac.54.1677865238294; 
 Fri, 03 Mar 2023 09:40:38 -0800 (PST)
Received: from postal.iol.unh.edu (postal.iol.unh.edu.
 [2606:4100:3880:1234::84]) by smtp-relay.gmail.com with ESMTPS id
 ds5-20020a0568705b0500b001762712a183sm137791oab.18.2023.03.03.09.40.38
 (version=TLS1_2 cipher=ECDHE-ECDSA-AES128-GCM-SHA256 bits=128/128);
 Fri, 03 Mar 2023 09:40:38 -0800 (PST)
X-Relaying-Domain: iol.unh.edu
Received: from dpdk-ubuntu.dpdklab.iol.unh.edu (unknown
 [IPv6:2606:4100:3880:1722::210])
 by postal.iol.unh.edu (Postfix) with ESMTP id CDED2605246B;
 Fri,  3 Mar 2023 12:40:37 -0500 (EST)
Received: from dpdk-ubuntu-2.dpdklab.iol.unh.edu (localhost [IPv6:::1])
 by dpdk-ubuntu.dpdklab.iol.unh.edu (Postfix) with ESMTP id C9B4A600AF;
 Fri,  3 Mar 2023 17:40:37 +0000 (UTC)
Subject: |SUCCESS| pw124616 [PATCH] [v4] bus: add platform bus
From: dpdklab@iol.unh.edu
To: Test Report <test-report@dpdk.org>
Cc: dpdk-test-reports@iol.unh.edu, David Marchand <david.marchand@redhat.com>,
 Thomas Monjalon <thomas@monjalon.net>
Content-Type: text/plain
Message-Id: <20230303174037.C9B4A600AF@dpdk-ubuntu.dpdklab.iol.unh.edu>
Date: Fri,  3 Mar 2023 17:40:37 +0000 (UTC)
X-BeenThere: test-report@dpdk.org
X-Mailman-Version: 2.1.29
Precedence: list
List-Id: automatic DPDK test reports <test-report.dpdk.org>
List-Unsubscribe: <https://mails.dpdk.org/options/test-report>,
 <mailto:test-report-request@dpdk.org?subject=unsubscribe>
List-Archive: <http://mails.dpdk.org/archives/test-report/>
List-Post: <mailto:test-report@dpdk.org>
List-Help: <mailto:test-report-request@dpdk.org?subject=help>
List-Subscribe: <https://mails.dpdk.org/listinfo/test-report>,
 <mailto:test-report-request@dpdk.org?subject=subscribe>
Errors-To: test-report-bounces@dpdk.org

Test-Label: iol-testing
Test-Status: SUCCESS
http://dpdk.org/patch/124616

_Testing PASS_

Submitter: Tomasz Duszynski <tduszynski@marvell.com>
Date: Wednesday, March 01 2023 19:59:12 
DPDK git baseline: Repo:dpdk
  Branch: master
  CommitID:4ef69b2877a24ddb89afaf4bb6f4e73bb52a605b

124616 --> testing pass

Test environment and result as below:

+----------------------------------------+----------------+--------------------+----------------------+
|              Environment               | dpdk_unit_test | dpdk_meson_compile | dpdk_mingw64_compile |
+========================================+================+====================+======================+
| Ubuntu 20.04 ARM GCC Native            | PASS           | PASS               | SKIPPED              |
+----------------------------------------+----------------+--------------------+----------------------+
| Ubuntu 20.04 ARM Clang Native          | PASS           | PASS               | SKIPPED              |
+----------------------------------------+----------------+--------------------+----------------------+
| Windows Server 2019                    | PASS           | PASS               | PASS                 |
+----------------------------------------+----------------+--------------------+----------------------+
| Debian Buster                          | PASS           | PASS               | SKIPPED              |
+----------------------------------------+----------------+--------------------+----------------------+
| Ubuntu 22.04                           | PASS           | PASS               | SKIPPED              |
+----------------------------------------+----------------+--------------------+----------------------+
| CentOS Stream 8                        | PASS           | PASS               | SKIPPED              |
+----------------------------------------+----------------+--------------------+----------------------+
| RHEL 7                                 | PASS           | PASS               | SKIPPED              |
+----------------------------------------+----------------+--------------------+----------------------+
| CentOS Stream 9                        | PASS           | PASS               | SKIPPED              |
+----------------------------------------+----------------+--------------------+----------------------+
| Debian Bullseye                        | PASS           | PASS               | SKIPPED              |
+----------------------------------------+----------------+--------------------+----------------------+
| RHEL8                                  | PASS           | PASS               | SKIPPED              |
+----------------------------------------+----------------+--------------------+----------------------+
| openSUSE Leap 15                       | PASS           | PASS               | SKIPPED              |
+----------------------------------------+----------------+--------------------+----------------------+
| Ubuntu 20.04                           | PASS           | PASS               | SKIPPED              |
+----------------------------------------+----------------+--------------------+----------------------+
| Ubuntu 20.04 ARM Clang Cross Compile   | SKIPPED        | PASS               | SKIPPED              |
+----------------------------------------+----------------+--------------------+----------------------+
| Ubuntu 20.04 ARM GCC Cross Compile     | SKIPPED        | PASS               | SKIPPED              |
+----------------------------------------+----------------+--------------------+----------------------+
| Ubuntu 20.04 aarch32 GCC Cross Compile | SKIPPED        | PASS               | SKIPPED              |
+----------------------------------------+----------------+--------------------+----------------------+
| Ubuntu 20.04 ARM SVE                   | SKIPPED        | PASS               | SKIPPED              |
+----------------------------------------+----------------+--------------------+----------------------+
| FreeBSD 13                             | SKIPPED        | PASS               | SKIPPED              |
+----------------------------------------+----------------+--------------------+----------------------+


Ubuntu 20.04 ARM GCC Native
	Kernel: 5.4.0-53-generic
	Compiler: gcc 9.3

Ubuntu 20.04 ARM Clang Native
	Kernel: 5.4.0-53-generic
	Compiler: clang 10.0.0-4ubuntu1

Windows Server 2019
	Kernel: 10.0
	Compiler: clang 14.0 and gcc 8.1.0 (MinGW)

Debian Buster
	Kernel: 5.4.0-122-generic
	Compiler: gcc 8.3.0-6

Ubuntu 22.04
	Kernel: Container Host Kernel
	Compiler: gcc 11.3.1-2

CentOS Stream 8
	Kernel: 4.18.0-240.10.1.el8_3.x86_64
	Compiler: gcc 8.4.1 20200928

RHEL 7
	Kernel: 4.18.0-240.10.1.el8_3.x86_64
	Compiler: gcc 4.8.5 20150623 (Red Hat 4.8.5-44)

CentOS Stream 9
	Kernel: 4.18.0-240.10.1.el8_3.x86_64
	Compiler: gcc 11.3.1 20220421

Debian Bullseye
	Kernel: 5.4.0-122-generic
	Compiler: gcc 10.2.1-6

RHEL8
	Kernel: 4.18.0-240.10.1.el8_3.x86_64
	Compiler: gcc 8.3.1 20191121 (Red Hat 8.3.1-5)

openSUSE Leap 15
	Kernel: 4.18.0-240.10.1.el8_3.x86_64
	Compiler: gcc 7.5.0

Ubuntu 20.04
	Kernel: 4.18.0-240.10.1.el8_3.x86_64
	Compiler: gcc 9.3.0-17ubuntu1~20.04

Ubuntu 20.04 ARM Clang Cross Compile
	Kernel: 5.4.0-72-generic
	Compiler: clang version 10.0.0-4ubuntu1

Ubuntu 20.04 ARM GCC Cross Compile
	Kernel: 5.4.0-72-generic
	Compiler: aarch64-linux-gnu-gcc (Ubuntu 9.3.0-17ubuntu1~20.04) 9.3.0

Ubuntu 20.04 aarch32 GCC Cross Compile
	Kernel: 5.4.0-72-generic
	Compiler: gcc 9.3.0

Ubuntu 20.04 ARM SVE
	Kernel: 5.4.0-80-generic
	Compiler: gcc 10.3.0 (Ubuntu 10.3.0-1ubuntu1~20.04)

FreeBSD 13
	Kernel: 13.0
	Compiler: clang 11.0.1

To view detailed results, visit:
https://lab.dpdk.org/results/dashboard/patchsets/25578/

UNH-IOL DPDK Community Lab

To manage your email subscriptions, visit: 
https://lab.dpdk.org/results/dashboard/preferences/subscriptions/