From mboxrd@z Thu Jan  1 00:00:00 1970
Return-Path: <test-report-bounces@dpdk.org>
Received: from mails.dpdk.org (mails.dpdk.org [217.70.189.124])
	by inbox.dpdk.org (Postfix) with ESMTP id 3A09E41DCA
	for <public@inbox.dpdk.org>; Fri,  3 Mar 2023 19:41:59 +0100 (CET)
Received: from mails.dpdk.org (localhost [127.0.0.1])
	by mails.dpdk.org (Postfix) with ESMTP id 1E68B40ED9;
	Fri,  3 Mar 2023 19:41:59 +0100 (CET)
Received: from mail-io1-f98.google.com (mail-io1-f98.google.com
 [209.85.166.98]) by mails.dpdk.org (Postfix) with ESMTP id B2DDA40ED9
 for <test-report@dpdk.org>; Fri,  3 Mar 2023 19:41:57 +0100 (CET)
Received: by mail-io1-f98.google.com with SMTP id t129so1347119iof.12
 for <test-report@dpdk.org>; Fri, 03 Mar 2023 10:41:57 -0800 (PST)
DKIM-Signature: v=1; a=rsa-sha256; c=relaxed/relaxed;
 d=iol.unh.edu; s=unh-iol; t=1677868917;
 h=date:message-id:cc:to:from:subject:from:to:cc:subject:date
 :message-id:reply-to;
 bh=gwETIDJf0rtmQUCg6razB2AMoTBSsCKq2QblMivL4Ls=;
 b=JmUsx5mO+B6MdX1Dp8P1TYX5VFfUEHFINgrgYicRu6jpbyEZCLtMwv4Gdwn9Ol/v/p
 VWRvSsqBXx2G/Vmb1uCx8iYbpLeLKtu7HG/GJw4gGzCvmdZFXE9QdVGkSE3QzXRJ3kbL
 jcJRoEz0OzQ8iJZDg/UhYT4qoKl1TZOKjIUD4=
X-Google-DKIM-Signature: v=1; a=rsa-sha256; c=relaxed/relaxed;
 d=1e100.net; s=20210112; t=1677868917;
 h=date:message-id:cc:to:from:subject:x-gm-message-state:from:to:cc
 :subject:date:message-id:reply-to;
 bh=gwETIDJf0rtmQUCg6razB2AMoTBSsCKq2QblMivL4Ls=;
 b=To2Qi+YlUUQOWwfV+ple8J7dxE7o+K6RwvrICHfdHXxK8mDMB9fLGJjFEwRh2pFqvz
 Gew0nx8AjlQqp92zHp6l155VNqg96jGuFsn5FS4kBCfZ1ixiW2KhEcgtCeu7LG50tikt
 pTaY396bSDsD6fg0ffu7Nhfk7rO1/IrhmoUtJd2CeIO9Qzl0Y3t+dR/zkQRWHbPncYVx
 f5ShN8dpvakm9WhzZlx1tusq8r7CKF8gY+yqcbYsPE+gwPEAh3KksAVQEq4S8feFcrae
 UnvJ0gcz15jGmQcZJqhpzqykE5mkfAaBJG7kO8pznqfmjiLg3zOf7ZXxje2d0hqKB+md
 5OLQ==
X-Gm-Message-State: AO0yUKWrGFs8HceLuasN68DKlASUtaZ+o9W0OIqJI9QHWpTEbzYzM2rj
 P8acLKqmnxAqJTxIDRE1qhuhCLKcXn8QeyUXQCWBdioyZfx+yFbQ3YJkKNtXddHiwd2twac=
X-Google-Smtp-Source: AK7set+K1UWokcS/UW3LCPvduz8ktV3wRF/25pUAKHXsDCTGZe0AZrBbjPT7R18D/6amda4bVDJC4tlSVFvy
X-Received: by 2002:a5d:8245:0:b0:717:ce6a:188a with SMTP id
 n5-20020a5d8245000000b00717ce6a188amr1758062ioo.18.1677868917165; 
 Fri, 03 Mar 2023 10:41:57 -0800 (PST)
Received: from postal.iol.unh.edu (postal.iol.unh.edu.
 [2606:4100:3880:1234::84]) by smtp-relay.gmail.com with ESMTPS id
 p16-20020a927410000000b00316e7939d56sm112526ilc.36.2023.03.03.10.41.57
 (version=TLS1_2 cipher=ECDHE-ECDSA-AES128-GCM-SHA256 bits=128/128);
 Fri, 03 Mar 2023 10:41:57 -0800 (PST)
X-Relaying-Domain: iol.unh.edu
Received: from dpdk-ubuntu.dpdklab.iol.unh.edu (unknown [172.18.0.210])
 by postal.iol.unh.edu (Postfix) with ESMTP id B1FCC605246B;
 Fri,  3 Mar 2023 13:41:56 -0500 (EST)
Received: from dpdk-ubuntu-2.dpdklab.iol.unh.edu (localhost [IPv6:::1])
 by dpdk-ubuntu.dpdklab.iol.unh.edu (Postfix) with ESMTP id 7D33F600AF;
 Fri,  3 Mar 2023 18:41:56 +0000 (UTC)
Subject: |SUCCESS| pw124616 [PATCH] [v4] bus: add platform bus
From: dpdklab@iol.unh.edu
To: Test Report <test-report@dpdk.org>
Cc: dpdk-test-reports@iol.unh.edu, David Marchand <david.marchand@redhat.com>,
 Thomas Monjalon <thomas@monjalon.net>
Content-Type: text/plain
Message-Id: <20230303184156.7D33F600AF@dpdk-ubuntu.dpdklab.iol.unh.edu>
Date: Fri,  3 Mar 2023 18:41:56 +0000 (UTC)
X-BeenThere: test-report@dpdk.org
X-Mailman-Version: 2.1.29
Precedence: list
List-Id: automatic DPDK test reports <test-report.dpdk.org>
List-Unsubscribe: <https://mails.dpdk.org/options/test-report>,
 <mailto:test-report-request@dpdk.org?subject=unsubscribe>
List-Archive: <http://mails.dpdk.org/archives/test-report/>
List-Post: <mailto:test-report@dpdk.org>
List-Help: <mailto:test-report-request@dpdk.org?subject=help>
List-Subscribe: <https://mails.dpdk.org/listinfo/test-report>,
 <mailto:test-report-request@dpdk.org?subject=subscribe>
Errors-To: test-report-bounces@dpdk.org

Test-Label: iol-testing
Test-Status: SUCCESS
http://dpdk.org/patch/124616

_Testing PASS_

Submitter: Tomasz Duszynski <tduszynski@marvell.com>
Date: Wednesday, March 01 2023 19:59:12 
DPDK git baseline: Repo:dpdk
  Branch: master
  CommitID:4ef69b2877a24ddb89afaf4bb6f4e73bb52a605b

124616 --> testing pass

Test environment and result as below:

+----------------------------------------+----------------+--------------------+----------------------+
|              Environment               | dpdk_unit_test | dpdk_meson_compile | dpdk_mingw64_compile |
+========================================+================+====================+======================+
| Ubuntu 20.04 ARM GCC Native            | PASS           | PASS               | SKIPPED              |
+----------------------------------------+----------------+--------------------+----------------------+
| Ubuntu 20.04 ARM Clang Native          | PASS           | PASS               | SKIPPED              |
+----------------------------------------+----------------+--------------------+----------------------+
| Windows Server 2019                    | PASS           | PASS               | PASS                 |
+----------------------------------------+----------------+--------------------+----------------------+
| RHEL 7                                 | PASS           | PASS               | SKIPPED              |
+----------------------------------------+----------------+--------------------+----------------------+
| CentOS Stream 8                        | PASS           | PASS               | SKIPPED              |
+----------------------------------------+----------------+--------------------+----------------------+
| CentOS Stream 9                        | PASS           | PASS               | SKIPPED              |
+----------------------------------------+----------------+--------------------+----------------------+
| Ubuntu 22.04                           | PASS           | PASS               | SKIPPED              |
+----------------------------------------+----------------+--------------------+----------------------+
| Ubuntu 20.04 aarch32 GCC Cross Compile | SKIPPED        | PASS               | SKIPPED              |
+----------------------------------------+----------------+--------------------+----------------------+
| Ubuntu 20.04 ARM GCC Cross Compile     | SKIPPED        | PASS               | SKIPPED              |
+----------------------------------------+----------------+--------------------+----------------------+
| Ubuntu 20.04 ARM Clang Cross Compile   | SKIPPED        | PASS               | SKIPPED              |
+----------------------------------------+----------------+--------------------+----------------------+
| Ubuntu 20.04 ARM SVE                   | SKIPPED        | PASS               | SKIPPED              |
+----------------------------------------+----------------+--------------------+----------------------+
| FreeBSD 13                             | SKIPPED        | PASS               | SKIPPED              |
+----------------------------------------+----------------+--------------------+----------------------+
| Debian Bullseye                        | SKIPPED        | PASS               | SKIPPED              |
+----------------------------------------+----------------+--------------------+----------------------+
| Debian Buster                          | SKIPPED        | PASS               | SKIPPED              |
+----------------------------------------+----------------+--------------------+----------------------+
| openSUSE Leap 15                       | SKIPPED        | PASS               | SKIPPED              |
+----------------------------------------+----------------+--------------------+----------------------+
| RHEL8                                  | SKIPPED        | PASS               | SKIPPED              |
+----------------------------------------+----------------+--------------------+----------------------+
| Ubuntu 20.04                           | SKIPPED        | PASS               | SKIPPED              |
+----------------------------------------+----------------+--------------------+----------------------+


Ubuntu 20.04 ARM GCC Native
	Kernel: 5.4.0-53-generic
	Compiler: gcc 9.3

Ubuntu 20.04 ARM Clang Native
	Kernel: 5.4.0-53-generic
	Compiler: clang 10.0.0-4ubuntu1

Windows Server 2019
	Kernel: 10.0
	Compiler: clang 14.0 and gcc 8.1.0 (MinGW)

RHEL 7
	Kernel: 4.18.0-240.10.1.el8_3.x86_64
	Compiler: gcc 4.8.5 20150623 (Red Hat 4.8.5-44)

CentOS Stream 8
	Kernel: 4.18.0-240.10.1.el8_3.x86_64
	Compiler: gcc 8.4.1 20200928

CentOS Stream 9
	Kernel: 4.18.0-240.10.1.el8_3.x86_64
	Compiler: gcc 11.3.1 20220421

Ubuntu 22.04
	Kernel: Container Host Kernel
	Compiler: clang 14.0.5-1.fc36

Ubuntu 20.04 aarch32 GCC Cross Compile
	Kernel: 5.4.0-72-generic
	Compiler: gcc 9.3.0

Ubuntu 20.04 ARM GCC Cross Compile
	Kernel: 5.4.0-72-generic
	Compiler: aarch64-linux-gnu-gcc (Ubuntu 9.3.0-17ubuntu1~20.04) 9.3.0

Ubuntu 20.04 ARM Clang Cross Compile
	Kernel: 5.4.0-72-generic
	Compiler: clang version 10.0.0-4ubuntu1

Ubuntu 20.04 ARM SVE
	Kernel: 5.4.0-80-generic
	Compiler: gcc 10.3.0 (Ubuntu 10.3.0-1ubuntu1~20.04)

FreeBSD 13
	Kernel: 13.0
	Compiler: clang 11.0.1

Debian Bullseye
	Kernel: 5.4.0-122-generic
	Compiler: gcc 10.2.1-6

Debian Buster
	Kernel: 5.4.0-122-generic
	Compiler: gcc 8.3.0-6

openSUSE Leap 15
	Kernel: 4.18.0-240.10.1.el8_3.x86_64
	Compiler: gcc 7.5.0

RHEL8
	Kernel: 4.18.0-240.10.1.el8_3.x86_64
	Compiler: gcc 8.3.1 20191121 (Red Hat 8.3.1-5)

Ubuntu 20.04
	Kernel: 4.18.0-240.10.1.el8_3.x86_64
	Compiler: gcc 9.3.0-17ubuntu1~20.04

To view detailed results, visit:
https://lab.dpdk.org/results/dashboard/patchsets/25578/

UNH-IOL DPDK Community Lab

To manage your email subscriptions, visit: 
https://lab.dpdk.org/results/dashboard/preferences/subscriptions/