From: dpdklab@iol.unh.edu
To: Test Report <test-report@dpdk.org>
Cc: dpdk-test-reports@iol.unh.edu,
David Marchand <david.marchand@redhat.com>,
Thomas Monjalon <thomas@monjalon.net>
Subject: |SUCCESS| pw124755 [PATCH] net/mana: use trace points for data path logs
Date: Sat, 4 Mar 2023 17:59:40 +0000 (UTC) [thread overview]
Message-ID: <20230304175940.D925D60095@dpdk-ubuntu.dpdklab.iol.unh.edu> (raw)
Test-Label: iol-testing
Test-Status: SUCCESS
http://dpdk.org/patch/124755
_Testing PASS_
Submitter: Long Li <longli@linuxonhyperv.com>
Date: Friday, March 03 2023 02:14:17
DPDK git baseline: Repo:dpdk
Branch: master
CommitID:4ef69b2877a24ddb89afaf4bb6f4e73bb52a605b
124755 --> testing pass
Test environment and result as below:
+----------------------------------------+----------------+--------------------+----------------------+
| Environment | dpdk_unit_test | dpdk_meson_compile | dpdk_mingw64_compile |
+========================================+================+====================+======================+
| Ubuntu 20.04 ARM GCC Native | PASS | PASS | SKIPPED |
+----------------------------------------+----------------+--------------------+----------------------+
| Ubuntu 20.04 ARM Clang Native | PASS | PASS | SKIPPED |
+----------------------------------------+----------------+--------------------+----------------------+
| Windows Server 2019 | PASS | PASS | PASS |
+----------------------------------------+----------------+--------------------+----------------------+
| Debian Bullseye | PASS | PASS | SKIPPED |
+----------------------------------------+----------------+--------------------+----------------------+
| RHEL8 | PASS | PASS | SKIPPED |
+----------------------------------------+----------------+--------------------+----------------------+
| Debian Buster | PASS | PASS | SKIPPED |
+----------------------------------------+----------------+--------------------+----------------------+
| RHEL 7 | PASS | PASS | SKIPPED |
+----------------------------------------+----------------+--------------------+----------------------+
| openSUSE Leap 15 | PASS | PASS | SKIPPED |
+----------------------------------------+----------------+--------------------+----------------------+
| CentOS Stream 8 | PASS | PASS | SKIPPED |
+----------------------------------------+----------------+--------------------+----------------------+
| Ubuntu 22.04 | PASS | PASS | SKIPPED |
+----------------------------------------+----------------+--------------------+----------------------+
| CentOS Stream 9 | PASS | PASS | SKIPPED |
+----------------------------------------+----------------+--------------------+----------------------+
| Ubuntu 20.04 ARM GCC Cross Compile | SKIPPED | PASS | SKIPPED |
+----------------------------------------+----------------+--------------------+----------------------+
| Ubuntu 20.04 aarch32 GCC Cross Compile | SKIPPED | PASS | SKIPPED |
+----------------------------------------+----------------+--------------------+----------------------+
| Ubuntu 20.04 ARM SVE | SKIPPED | PASS | SKIPPED |
+----------------------------------------+----------------+--------------------+----------------------+
| Ubuntu 20.04 ARM Clang Cross Compile | SKIPPED | PASS | SKIPPED |
+----------------------------------------+----------------+--------------------+----------------------+
| FreeBSD 13 | SKIPPED | PASS | SKIPPED |
+----------------------------------------+----------------+--------------------+----------------------+
| Ubuntu 20.04 | SKIPPED | PASS | SKIPPED |
+----------------------------------------+----------------+--------------------+----------------------+
Ubuntu 20.04 ARM GCC Native
Kernel: 5.4.0-53-generic
Compiler: gcc 9.3
Ubuntu 20.04 ARM Clang Native
Kernel: 5.4.0-53-generic
Compiler: clang 10.0.0-4ubuntu1
Windows Server 2019
Kernel: 10.0
Compiler: clang 14.0 and gcc 8.1.0 (MinGW)
Debian Bullseye
Kernel: 5.4.0-122-generic
Compiler: gcc 10.2.1-6
RHEL8
Kernel: 4.18.0-240.10.1.el8_3.x86_64
Compiler: gcc 8.3.1 20191121 (Red Hat 8.3.1-5)
Debian Buster
Kernel: 5.4.0-122-generic
Compiler: gcc 8.3.0-6
RHEL 7
Kernel: 4.18.0-240.10.1.el8_3.x86_64
Compiler: gcc 4.8.5 20150623 (Red Hat 4.8.5-44)
openSUSE Leap 15
Kernel: 4.18.0-240.10.1.el8_3.x86_64
Compiler: gcc 7.5.0
CentOS Stream 8
Kernel: 4.18.0-240.10.1.el8_3.x86_64
Compiler: gcc 8.4.1 20200928
Ubuntu 22.04
Kernel: Container Host Kernel
Compiler: clang 14.0.5-1.fc36
CentOS Stream 9
Kernel: 4.18.0-240.10.1.el8_3.x86_64
Compiler: gcc 11.3.1 20220421
Ubuntu 20.04 ARM GCC Cross Compile
Kernel: 5.4.0-72-generic
Compiler: aarch64-linux-gnu-gcc (Ubuntu 9.3.0-17ubuntu1~20.04) 9.3.0
Ubuntu 20.04 aarch32 GCC Cross Compile
Kernel: 5.4.0-72-generic
Compiler: gcc 9.3.0
Ubuntu 20.04 ARM SVE
Kernel: 5.4.0-80-generic
Compiler: gcc 10.3.0 (Ubuntu 10.3.0-1ubuntu1~20.04)
Ubuntu 20.04 ARM Clang Cross Compile
Kernel: 5.4.0-72-generic
Compiler: clang version 10.0.0-4ubuntu1
FreeBSD 13
Kernel: 13.0
Compiler: clang 11.0.1
Ubuntu 20.04
Kernel: 4.18.0-240.10.1.el8_3.x86_64
Compiler: gcc 9.3.0-17ubuntu1~20.04
To view detailed results, visit:
https://lab.dpdk.org/results/dashboard/patchsets/25600/
UNH-IOL DPDK Community Lab
To manage your email subscriptions, visit:
https://lab.dpdk.org/results/dashboard/preferences/subscriptions/
next reply other threads:[~2023-03-04 17:59 UTC|newest]
Thread overview: 61+ messages / expand[flat|nested] mbox.gz Atom feed top
2023-03-04 17:59 dpdklab [this message]
[not found] <1677809657-26847-1-git-send-email-longli@linuxonhyperv.com>
2023-03-03 3:59 ` 0-day Robot
2023-03-06 7:14 ` qemudev
2023-03-06 7:14 ` qemudev
-- strict thread matches above, loose matches on Subject: below --
2023-03-04 18:17 dpdklab
2023-03-04 18:05 dpdklab
2023-03-04 18:03 dpdklab
2023-03-04 17:58 dpdklab
2023-03-04 17:56 dpdklab
2023-03-04 17:55 dpdklab
2023-03-04 17:54 dpdklab
2023-03-04 17:53 dpdklab
2023-03-04 17:50 dpdklab
2023-03-04 17:50 dpdklab
2023-03-04 17:40 dpdklab
2023-03-04 17:38 dpdklab
2023-03-04 17:32 dpdklab
2023-03-04 17:32 dpdklab
2023-03-04 17:17 dpdklab
2023-03-04 17:09 dpdklab
2023-03-04 17:07 dpdklab
2023-03-04 17:04 dpdklab
2023-03-04 17:01 dpdklab
2023-03-04 16:56 dpdklab
2023-03-04 16:54 dpdklab
2023-03-04 16:53 dpdklab
2023-03-04 16:52 dpdklab
2023-03-04 16:51 dpdklab
2023-03-04 16:45 dpdklab
2023-03-03 17:06 dpdklab
2023-03-03 16:05 dpdklab
2023-03-03 9:10 dpdklab
2023-03-03 6:55 dpdklab
2023-03-03 6:01 dpdklab
2023-03-03 4:52 dpdklab
2023-03-03 4:52 dpdklab
2023-03-03 4:30 dpdklab
2023-03-03 4:15 dpdklab
2023-03-03 4:11 dpdklab
2023-03-03 4:03 dpdklab
2023-03-03 4:02 dpdklab
2023-03-03 4:00 dpdklab
2023-03-03 3:58 dpdklab
2023-03-03 3:56 dpdklab
2023-03-03 3:55 dpdklab
2023-03-03 3:55 dpdklab
2023-03-03 3:53 dpdklab
2023-03-03 3:51 dpdklab
2023-03-03 3:44 dpdklab
2023-03-03 3:39 dpdklab
2023-03-03 3:34 dpdklab
2023-03-03 3:28 dpdklab
2023-03-03 3:26 dpdklab
2023-03-03 3:25 dpdklab
2023-03-03 3:24 dpdklab
2023-03-03 3:22 dpdklab
2023-03-03 3:20 dpdklab
2023-03-03 3:20 dpdklab
2023-03-03 3:17 dpdklab
2023-03-03 3:16 dpdklab
2023-03-03 3:14 dpdklab
Reply instructions:
You may reply publicly to this message via plain-text email
using any one of the following methods:
* Save the following mbox file, import it into your mail client,
and reply-to-all from there: mbox
Avoid top-posting and favor interleaved quoting:
https://en.wikipedia.org/wiki/Posting_style#Interleaved_style
* Reply using the --to, --cc, and --in-reply-to
switches of git-send-email(1):
git send-email \
--in-reply-to=20230304175940.D925D60095@dpdk-ubuntu.dpdklab.iol.unh.edu \
--to=dpdklab@iol.unh.edu \
--cc=david.marchand@redhat.com \
--cc=dpdk-test-reports@iol.unh.edu \
--cc=test-report@dpdk.org \
--cc=thomas@monjalon.net \
/path/to/YOUR_REPLY
https://kernel.org/pub/software/scm/git/docs/git-send-email.html
* If your mail client supports setting the In-Reply-To header
via mailto: links, try the mailto: link
Be sure your reply has a Subject: header at the top and a blank line
before the message body.
This is a public inbox, see mirroring instructions
for how to clone and mirror all data and code used for this inbox;
as well as URLs for NNTP newsgroup(s).