* |WARNING| pw124755 [PATCH] net/mana: use trace points for data path logs @ 2023-03-04 18:17 dpdklab 0 siblings, 0 replies; 3+ messages in thread From: dpdklab @ 2023-03-04 18:17 UTC (permalink / raw) To: Test Report; +Cc: dpdklab, David Marchand, Thomas Monjalon, Long Li Test-Label: iol-testing Test-Status: WARNING http://dpdk.org/patch/124755 _Testing issues_ Submitter: Long Li <longli@linuxonhyperv.com> Date: Friday, March 03 2023 02:14:17 DPDK git baseline: Repo:dpdk Branch: master CommitID:4ef69b2877a24ddb89afaf4bb6f4e73bb52a605b 124755 --> testing fail Test environment and result as below: +--------------+----------------------+ | Environment | dpdk_fips_validation | +==============+======================+ | Ubuntu 20.04 | WARN | +--------------+----------------------+ ==== 20 line log output for Ubuntu 20.04 (dpdk_fips_validation): ==== [3172/3190] Compiling C object 'examples/c590b3c@@dpdk-fips_validation@exe/fips_validation_fips_validation_xts.c.o'. [3173/3190] Compiling C object 'app/test/3062f5d@@dpdk-test@exe/test_table_combined.c.o'. [3174/3190] Compiling C object 'examples/c590b3c@@dpdk-fips_validation@exe/fips_validation_fips_validation_ecdsa.c.o'. [3175/3190] Compiling C object 'examples/c590b3c@@dpdk-fips_validation@exe/fips_validation_fips_validation_ccm.c.o'. [3176/3190] Compiling C object 'examples/c590b3c@@dpdk-fips_validation@exe/fips_validation_fips_validation_aes.c.o'. [3177/3190] Compiling C object 'examples/c590b3c@@dpdk-fips_validation@exe/fips_validation_fips_validation_gcm.c.o'. [3178/3190] Compiling C object 'app/test/3062f5d@@dpdk-test@exe/test_link_bonding.c.o'. [3179/3190] Compiling C object 'examples/c590b3c@@dpdk-fips_validation@exe/fips_validation_fips_validation_tdes.c.o'. [3180/3190] Compiling C object 'examples/c590b3c@@dpdk-fips_validation@exe/fips_validation_fips_validation_sha.c.o'. [3181/3190] Compiling C object 'app/test/3062f5d@@dpdk-test@exe/test_link_bonding_mode4.c.o'. [3182/3190] Compiling C object 'examples/c590b3c@@dpdk-fips_validation@exe/fips_validation_fips_validation_rsa.c.o'. [3183/3190] Compiling C object 'examples/c590b3c@@dpdk-fips_validation@exe/fips_validation_fips_dev_self_test.c.o'. [3184/3190] Compiling C object 'app/test/3062f5d@@dpdk-test@exe/test_compressdev.c.o'. [3185/3190] Compiling C object 'app/test/3062f5d@@dpdk-test@exe/test_trace_perf.c.o'. [3186/3190] Compiling C object 'examples/c590b3c@@dpdk-fips_validation@exe/fips_validation_main.c.o'. [3187/3190] Compiling C object 'app/test/3062f5d@@dpdk-test@exe/test_ring_perf.c.o'. [3188/3190] Linking target examples/dpdk-fips_validation. [3189/3190] Compiling C object 'app/test/3062f5d@@dpdk-test@exe/test_ring.c.o'. [3190/3190] Linking target app/test/dpdk-test. Processing file ../out/acvp-aes-cbc-vectors.json... Processing file ../out/cmac-aes-vectors.json... Processing file ../out/acvp-aes-gmac-vectors.json... Processing file ../out/hmac-sha-1-vectors.json... Processing file ../out/acvp-tdes-cbc-vectors.json... Processing file ../out/acvp-aes-ctr-vectors.json... ==== End log output ==== Ubuntu 20.04 Kernel: 4.18.0-240.10.1.el8_3.x86_64 Compiler: gcc 9.3.0-17ubuntu1~20.04 To view detailed results, visit: https://lab.dpdk.org/results/dashboard/patchsets/25600/ UNH-IOL DPDK Community Lab To manage your email subscriptions, visit: https://lab.dpdk.org/results/dashboard/preferences/subscriptions/ ^ permalink raw reply [flat|nested] 3+ messages in thread
* |WARNING| pw124755 [PATCH] net/mana: use trace points for data path logs @ 2023-03-04 17:20 dpdklab 0 siblings, 0 replies; 3+ messages in thread From: dpdklab @ 2023-03-04 17:20 UTC (permalink / raw) To: Test Report; +Cc: dpdklab, David Marchand, Thomas Monjalon, Long Li Test-Label: iol-testing Test-Status: WARNING http://dpdk.org/patch/124755 _Testing issues_ Submitter: Long Li <longli@linuxonhyperv.com> Date: Friday, March 03 2023 02:14:17 DPDK git baseline: Repo:dpdk Branch: master CommitID:4ef69b2877a24ddb89afaf4bb6f4e73bb52a605b 124755 --> testing fail Test environment and result as below: +--------------+----------------------+ | Environment | dpdk_fips_validation | +==============+======================+ | Ubuntu 20.04 | WARN | +--------------+----------------------+ ==== 20 line log output for Ubuntu 20.04 (dpdk_fips_validation): ==== [3172/3190] Linking target app/dpdk-dumpcap. [3173/3190] Linking target app/dpdk-test-cmdline. [3174/3190] Linking target app/dpdk-test-compress-perf. [3175/3190] Linking target app/dpdk-test-fib. [3176/3190] Compiling C object 'app/test/3062f5d@@dpdk-test@exe/test_trace_perf.c.o'. [3177/3190] Linking target app/dpdk-test-acl. [3178/3190] Linking target app/dpdk-test-pipeline. [3179/3190] Linking target app/dpdk-test-gpudev. [3180/3190] Linking target app/dpdk-test-bbdev. [3181/3190] Linking target app/dpdk-test-security-perf. [3182/3190] Linking target app/dpdk-test-crypto-perf. [3183/3190] Linking target app/dpdk-testpmd. [3184/3190] Linking target app/dpdk-proc-info. [3185/3190] Linking target app/dpdk-test-sad. [3186/3190] Linking target app/dpdk-test-regex. [3187/3190] Linking target examples/dpdk-fips_validation. [3188/3190] Compiling C object 'app/test/3062f5d@@dpdk-test@exe/test_ring_perf.c.o'. [3189/3190] Compiling C object 'app/test/3062f5d@@dpdk-test@exe/test_ring.c.o'. [3190/3190] Linking target app/test/dpdk-test. Processing file ../out/acvp-aes-cbc-vectors.json... Processing file ../out/cmac-aes-vectors.json... Processing file ../out/acvp-aes-gmac-vectors.json... Processing file ../out/hmac-sha-1-vectors.json... Processing file ../out/acvp-tdes-cbc-vectors.json... Processing file ../out/acvp-aes-ctr-vectors.json... ==== End log output ==== Ubuntu 20.04 Kernel: 4.18.0-240.10.1.el8_3.x86_64 Compiler: gcc 9.3.0-17ubuntu1~20.04 To view detailed results, visit: https://lab.dpdk.org/results/dashboard/patchsets/25600/ UNH-IOL DPDK Community Lab To manage your email subscriptions, visit: https://lab.dpdk.org/results/dashboard/preferences/subscriptions/ ^ permalink raw reply [flat|nested] 3+ messages in thread
[parent not found: <1677809657-26847-1-git-send-email-longli@linuxonhyperv.com>]
* |WARNING| pw124755 [PATCH] net/mana: use trace points for data path logs [not found] <1677809657-26847-1-git-send-email-longli@linuxonhyperv.com> @ 2023-03-03 2:14 ` checkpatch 0 siblings, 0 replies; 3+ messages in thread From: checkpatch @ 2023-03-03 2:14 UTC (permalink / raw) To: test-report; +Cc: longli Test-Label: checkpatch Test-Status: WARNING http://dpdk.org/patch/124755 _coding style issues_ CHECK:OPEN_ENDED_LINE: Lines should not end with a '(' #216: FILE: drivers/net/mana/mana_trace.h:10: +RTE_TRACE_POINT_FP( CHECK:OPEN_ENDED_LINE: Lines should not end with a '(' #223: FILE: drivers/net/mana/mana_trace.h:17: +RTE_TRACE_POINT_FP( CHECK:OPEN_ENDED_LINE: Lines should not end with a '(' #231: FILE: drivers/net/mana/mana_trace.h:25: +RTE_TRACE_POINT_FP( CHECK:OPEN_ENDED_LINE: Lines should not end with a '(' #238: FILE: drivers/net/mana/mana_trace.h:32: +RTE_TRACE_POINT_FP( CHECK:OPEN_ENDED_LINE: Lines should not end with a '(' #246: FILE: drivers/net/mana/mana_trace.h:40: +RTE_TRACE_POINT_FP( CHECK:OPEN_ENDED_LINE: Lines should not end with a '(' #254: FILE: drivers/net/mana/mana_trace.h:48: +RTE_TRACE_POINT_FP( CHECK:OPEN_ENDED_LINE: Lines should not end with a '(' #262: FILE: drivers/net/mana/mana_trace.h:56: +RTE_TRACE_POINT_FP( CHECK:OPEN_ENDED_LINE: Lines should not end with a '(' #270: FILE: drivers/net/mana/mana_trace.h:64: +RTE_TRACE_POINT_FP( CHECK:OPEN_ENDED_LINE: Lines should not end with a '(' #277: FILE: drivers/net/mana/mana_trace.h:71: +RTE_TRACE_POINT_FP( CHECK:OPEN_ENDED_LINE: Lines should not end with a '(' #286: FILE: drivers/net/mana/mana_trace.h:80: +RTE_TRACE_POINT_FP( CHECK:OPEN_ENDED_LINE: Lines should not end with a '(' #294: FILE: drivers/net/mana/mana_trace.h:88: +RTE_TRACE_POINT_FP( WARNING:LONG_LINE: line length of 173 exceeds 100 columns #296: FILE: drivers/net/mana/mana_trace.h:90: + RTE_TRACE_POINT_ARGS(uintptr_t buf, uint32_t num_sgl, uint32_t inline_oob_size_dw, uint32_t client_data_unit, uintptr_t inline_oob_data, uint32_t inline_oob_size_b), CHECK:OPEN_ENDED_LINE: Lines should not end with a '(' #305: FILE: drivers/net/mana/mana_trace.h:99: +RTE_TRACE_POINT_FP( WARNING:LONG_LINE: line length of 129 exceeds 100 columns #307: FILE: drivers/net/mana/mana_trace.h:101: + RTE_TRACE_POINT_ARGS(uint32_t num_sge, uintptr_t addr, uint32_t size, uint32_t lkey, uint32_t list_size, uint32_t flags), CHECK:OPEN_ENDED_LINE: Lines should not end with a '(' #316: FILE: drivers/net/mana/mana_trace.h:110: +RTE_TRACE_POINT_FP( CHECK:OPEN_ENDED_LINE: Lines should not end with a '(' #325: FILE: drivers/net/mana/mana_trace.h:119: +RTE_TRACE_POINT_FP( CHECK:OPEN_ENDED_LINE: Lines should not end with a '(' #333: FILE: drivers/net/mana/mana_trace.h:127: +RTE_TRACE_POINT_FP( WARNING:LONG_LINE: line length of 129 exceeds 100 columns #335: FILE: drivers/net/mana/mana_trace.h:129: + RTE_TRACE_POINT_ARGS(uintptr_t page, uintptr_t addr, uint32_t queue_id, uint32_t queue_type, uint32_t tail, uint8_t arm), CHECK:OPEN_ENDED_LINE: Lines should not end with a '(' #344: FILE: drivers/net/mana/mana_trace.h:138: +RTE_TRACE_POINT_FP( CHECK:OPEN_ENDED_LINE: Lines should not end with a '(' #351: FILE: drivers/net/mana/mana_trace.h:145: +RTE_TRACE_POINT_FP( WARNING:LONG_LINE: line length of 176 exceeds 100 columns #353: FILE: drivers/net/mana/mana_trace.h:147: + RTE_TRACE_POINT_ARGS(uint32_t new_owner_bits, uint32_t old_owner_bits, uint32_t cqe_owner_bits, uint32_t work_queue_number, uint32_t send_work_queue, uint32_t cq_head), CHECK:OPEN_ENDED_LINE: Lines should not end with a '(' #362: FILE: drivers/net/mana/mana_trace.h:156: +RTE_TRACE_POINT_FP( CHECK:OPEN_ENDED_LINE: Lines should not end with a '(' #369: FILE: drivers/net/mana/mana_trace.h:163: +RTE_TRACE_POINT_FP( WARNING:LONG_LINE: line length of 259 exceeds 100 columns #371: FILE: drivers/net/mana/mana_trace.h:165: + RTE_TRACE_POINT_ARGS(uint16_t pkt_idx, uintptr_t buf, uint32_t nb_segs, uint32_t pkt_len, uint32_t format, uint32_t outer_ipv4, uint32_t outer_ipv6, uint32_t ip_checksum, uint32_t tcp_checksum, uint32_t udp_checksum, uint32_t transport_header_offset), CHECK:OPEN_ENDED_LINE: Lines should not end with a '(' #385: FILE: drivers/net/mana/mana_trace.h:179: +RTE_TRACE_POINT_FP( CHECK:OPEN_ENDED_LINE: Lines should not end with a '(' #392: FILE: drivers/net/mana/mana_trace.h:186: +RTE_TRACE_POINT_FP( CHECK:OPEN_ENDED_LINE: Lines should not end with a '(' #397: FILE: drivers/net/mana/mana_trace.h:191: +RTE_TRACE_POINT_FP( CHECK:OPEN_ENDED_LINE: Lines should not end with a '(' #402: FILE: drivers/net/mana/mana_trace.h:196: +RTE_TRACE_POINT_FP( CHECK:OPEN_ENDED_LINE: Lines should not end with a '(' #408: FILE: drivers/net/mana/mana_trace.h:202: +RTE_TRACE_POINT_FP( CHECK:OPEN_ENDED_LINE: Lines should not end with a '(' #413: FILE: drivers/net/mana/mana_trace.h:207: +RTE_TRACE_POINT_FP( CHECK:OPEN_ENDED_LINE: Lines should not end with a '(' #421: FILE: drivers/net/mana/mana_trace.h:215: +RTE_TRACE_POINT_FP( total: 0 errors, 5 warnings, 26 checks, 685 lines checked ^ permalink raw reply [flat|nested] 3+ messages in thread
end of thread, other threads:[~2023-03-04 18:17 UTC | newest] Thread overview: 3+ messages (download: mbox.gz / follow: Atom feed) -- links below jump to the message on this page -- 2023-03-04 18:17 |WARNING| pw124755 [PATCH] net/mana: use trace points for data path logs dpdklab -- strict thread matches above, loose matches on Subject: below -- 2023-03-04 17:20 dpdklab [not found] <1677809657-26847-1-git-send-email-longli@linuxonhyperv.com> 2023-03-03 2:14 ` checkpatch
This is a public inbox, see mirroring instructions for how to clone and mirror all data and code used for this inbox; as well as URLs for NNTP newsgroup(s).