From: dpdklab@iol.unh.edu
To: Test Report <test-report@dpdk.org>
Cc: dpdk-test-reports@iol.unh.edu,
David Marchand <david.marchand@redhat.com>,
Thomas Monjalon <thomas@monjalon.net>
Subject: |SUCCESS| [GIT MASTER] 4ef69b2877a24ddb89afaf4bb6f4e73bb52a605b
Date: Sun, 5 Mar 2023 08:11:58 +0000 (UTC) [thread overview]
Message-ID: <20230305081158.C5A7D60095@dpdk-ubuntu.dpdklab.iol.unh.edu> (raw)
_Testing PASS_
Branch: dpdk
4ef69b2877a24ddb89afaf4bb6f4e73bb52a605b --> testing pass
Test environment and result as below:
+----------------------------------------+----------------+--------------------+----------------------+
| Environment | dpdk_unit_test | dpdk_meson_compile | dpdk_mingw64_compile |
+========================================+================+====================+======================+
| Ubuntu 20.04 ARM GCC Native | PASS | PASS | SKIPPED |
+----------------------------------------+----------------+--------------------+----------------------+
| Ubuntu 20.04 ARM Clang Native | PASS | PASS | SKIPPED |
+----------------------------------------+----------------+--------------------+----------------------+
| Windows Server 2019 | PASS | PASS | PASS |
+----------------------------------------+----------------+--------------------+----------------------+
| Ubuntu 22.04 | PASS | PASS | SKIPPED |
+----------------------------------------+----------------+--------------------+----------------------+
| Debian Buster | PASS | PASS | SKIPPED |
+----------------------------------------+----------------+--------------------+----------------------+
| RHEL 7 | PASS | PASS | SKIPPED |
+----------------------------------------+----------------+--------------------+----------------------+
| CentOS Stream 9 | PASS | PASS | SKIPPED |
+----------------------------------------+----------------+--------------------+----------------------+
| Arch Linux | PASS | PASS | SKIPPED |
+----------------------------------------+----------------+--------------------+----------------------+
| CentOS Stream 8 | PASS | PASS | SKIPPED |
+----------------------------------------+----------------+--------------------+----------------------+
| RHEL8 | PASS | PASS | SKIPPED |
+----------------------------------------+----------------+--------------------+----------------------+
| Ubuntu 20.04 | PASS | PASS | SKIPPED |
+----------------------------------------+----------------+--------------------+----------------------+
| openSUSE Leap 15 | PASS | PASS | SKIPPED |
+----------------------------------------+----------------+--------------------+----------------------+
| Debian Bullseye | PASS | PASS | SKIPPED |
+----------------------------------------+----------------+--------------------+----------------------+
| Ubuntu 20.04 aarch32 GCC Cross Compile | SKIPPED | PASS | SKIPPED |
+----------------------------------------+----------------+--------------------+----------------------+
| Ubuntu 20.04 ARM GCC Cross Compile | SKIPPED | PASS | SKIPPED |
+----------------------------------------+----------------+--------------------+----------------------+
| Ubuntu 20.04 ARM Clang Cross Compile | SKIPPED | PASS | SKIPPED |
+----------------------------------------+----------------+--------------------+----------------------+
| Ubuntu 20.04 ARM SVE | SKIPPED | PASS | SKIPPED |
+----------------------------------------+----------------+--------------------+----------------------+
| FreeBSD 13 | SKIPPED | PASS | SKIPPED |
+----------------------------------------+----------------+--------------------+----------------------+
Ubuntu 20.04 ARM GCC Native
Kernel: 5.4.0-53-generic
Compiler: gcc 9.3
Ubuntu 20.04 ARM Clang Native
Kernel: 5.4.0-53-generic
Compiler: clang 10.0.0-4ubuntu1
Windows Server 2019
Kernel: 10.0
Compiler: clang 14.0 and gcc 8.1.0 (MinGW)
Ubuntu 22.04
Kernel: Container Host Kernel
Compiler: clang 14.0.5-1.fc36
Debian Buster
Kernel: 5.4.0-122-generic
Compiler: gcc 8.3.0-6
RHEL 7
Kernel: 4.18.0-240.10.1.el8_3.x86_64
Compiler: gcc 4.8.5 20150623 (Red Hat 4.8.5-44)
CentOS Stream 9
Kernel: 4.18.0-240.10.1.el8_3.x86_64
Compiler: gcc 11.3.1 20220421
Arch Linux
Kernel: 5.4.0-73-generic
Compiler: gcc 11.1.0
CentOS Stream 8
Kernel: 4.18.0-240.10.1.el8_3.x86_64
Compiler: gcc 8.4.1 20200928
RHEL8
Kernel: 4.18.0-240.10.1.el8_3.x86_64
Compiler: gcc 8.3.1 20191121 (Red Hat 8.3.1-5)
Ubuntu 20.04
Kernel: 4.18.0-240.10.1.el8_3.x86_64
Compiler: gcc 9.3.0-17ubuntu1~20.04
openSUSE Leap 15
Kernel: 4.18.0-240.10.1.el8_3.x86_64
Compiler: gcc 7.5.0
Debian Bullseye
Kernel: 5.4.0-122-generic
Compiler: gcc 10.2.1-6
Ubuntu 20.04 aarch32 GCC Cross Compile
Kernel: 5.4.0-72-generic
Compiler: gcc 9.3.0
Ubuntu 20.04 ARM GCC Cross Compile
Kernel: 5.4.0-72-generic
Compiler: aarch64-linux-gnu-gcc (Ubuntu 9.3.0-17ubuntu1~20.04) 9.3.0
Ubuntu 20.04 ARM Clang Cross Compile
Kernel: 5.4.0-72-generic
Compiler: clang version 10.0.0-4ubuntu1
Ubuntu 20.04 ARM SVE
Kernel: 5.4.0-80-generic
Compiler: gcc 10.3.0 (Ubuntu 10.3.0-1ubuntu1~20.04)
FreeBSD 13
Kernel: 13.0
Compiler: clang 11.0.1
To view detailed results, visit:
https://lab.dpdk.org/results/dashboard/tarballs/23646/
UNH-IOL DPDK Community Lab
To manage your email subscriptions, visit:
https://lab.dpdk.org/results/dashboard/preferences/subscriptions/
next reply other threads:[~2023-03-05 8:12 UTC|newest]
Thread overview: 120+ messages / expand[flat|nested] mbox.gz Atom feed top
2023-03-05 8:11 dpdklab [this message]
-- strict thread matches above, loose matches on Subject: below --
2023-03-05 8:28 dpdklab
2023-03-05 8:28 dpdklab
2023-03-05 8:10 dpdklab
2023-03-05 8:08 dpdklab
2023-03-05 8:06 dpdklab
2023-03-05 8:05 dpdklab
2023-03-05 8:04 dpdklab
2023-03-05 8:02 dpdklab
2023-03-05 8:00 dpdklab
2023-03-05 8:00 dpdklab
2023-03-05 7:54 dpdklab
2023-03-05 7:54 dpdklab
2023-03-05 7:52 dpdklab
2023-03-04 9:28 dpdklab
2023-03-04 8:57 dpdklab
2023-03-04 1:35 dpdklab
2023-03-03 19:16 dpdklab
2023-03-03 18:38 dpdklab
2023-03-03 18:34 dpdklab
2023-03-03 18:27 dpdklab
2023-03-03 18:25 dpdklab
2023-03-03 18:23 dpdklab
2023-03-03 18:21 dpdklab
2023-03-03 18:19 dpdklab
2023-03-03 18:18 dpdklab
2023-03-03 18:18 dpdklab
2023-03-03 18:17 dpdklab
2023-03-03 18:17 dpdklab
2023-03-03 18:16 dpdklab
2023-03-03 18:06 dpdklab
2023-03-03 3:00 dpdklab
2023-03-03 2:59 dpdklab
2023-03-03 2:47 dpdklab
2023-03-03 2:46 dpdklab
2023-03-03 2:45 dpdklab
2023-03-03 2:44 dpdklab
2023-03-03 2:43 dpdklab
2023-03-03 2:42 dpdklab
2023-03-03 2:40 dpdklab
2023-03-03 2:37 dpdklab
2023-03-03 2:35 dpdklab
2023-03-03 2:29 dpdklab
2023-03-03 2:16 dpdklab
2023-03-03 2:10 dpdklab
2023-03-03 2:01 dpdklab
2023-03-03 1:21 dpdklab
2023-03-03 1:21 dpdklab
2023-03-03 1:05 dpdklab
2023-03-03 0:54 dpdklab
2023-03-03 0:52 dpdklab
2023-03-03 0:48 dpdklab
2023-03-03 0:46 dpdklab
2023-03-03 0:45 dpdklab
2023-03-03 0:44 dpdklab
2023-03-03 0:35 dpdklab
2023-03-03 0:30 dpdklab
2023-03-03 0:28 dpdklab
2023-03-03 0:27 dpdklab
2023-03-03 0:24 dpdklab
2023-03-02 23:33 dpdklab
2023-03-02 23:33 dpdklab
2023-03-02 23:29 dpdklab
2023-03-02 23:25 dpdklab
2023-03-02 23:23 dpdklab
2023-03-02 23:21 dpdklab
2023-03-02 23:19 dpdklab
2023-03-02 23:17 dpdklab
2023-03-02 23:17 dpdklab
2023-03-02 23:14 dpdklab
2023-03-02 23:03 dpdklab
2023-03-02 22:57 dpdklab
2023-03-02 22:53 dpdklab
2023-03-02 22:53 dpdklab
2023-03-02 22:51 dpdklab
2023-03-02 9:31 dpdklab
2023-03-02 8:35 dpdklab
2023-03-02 6:57 dpdklab
2023-03-02 6:43 dpdklab
2023-03-02 4:57 dpdklab
2023-03-02 4:26 dpdklab
2023-03-02 1:41 dpdklab
2023-03-02 0:46 dpdklab
2023-03-02 0:40 dpdklab
2023-03-02 0:28 dpdklab
2023-03-01 23:57 dpdklab
2023-03-01 23:45 dpdklab
2023-03-01 23:45 dpdklab
2023-03-01 23:42 dpdklab
2023-03-01 23:39 dpdklab
2023-03-01 23:38 dpdklab
2023-03-01 23:25 dpdklab
2023-03-01 22:51 dpdklab
2023-03-01 22:43 dpdklab
2023-03-01 22:38 dpdklab
2023-03-01 22:36 dpdklab
2023-03-01 22:31 dpdklab
2023-03-01 22:25 dpdklab
2023-03-01 22:17 dpdklab
2023-03-01 22:12 dpdklab
2023-03-01 22:09 dpdklab
2023-03-01 22:08 dpdklab
2023-03-01 22:06 dpdklab
2023-03-01 21:59 dpdklab
2023-03-01 21:48 dpdklab
2023-03-01 21:36 dpdklab
2023-03-01 21:32 dpdklab
2023-03-01 21:32 dpdklab
2023-03-01 21:31 dpdklab
2023-03-01 21:30 dpdklab
2023-03-01 21:29 dpdklab
2023-03-01 21:19 dpdklab
2023-03-01 21:02 dpdklab
2023-03-01 20:52 dpdklab
2023-03-01 20:51 dpdklab
2023-03-01 20:48 dpdklab
2023-03-01 20:47 dpdklab
2023-03-01 20:36 dpdklab
2023-03-01 20:35 dpdklab
2023-03-01 20:22 dpdklab
Reply instructions:
You may reply publicly to this message via plain-text email
using any one of the following methods:
* Save the following mbox file, import it into your mail client,
and reply-to-all from there: mbox
Avoid top-posting and favor interleaved quoting:
https://en.wikipedia.org/wiki/Posting_style#Interleaved_style
* Reply using the --to, --cc, and --in-reply-to
switches of git-send-email(1):
git send-email \
--in-reply-to=20230305081158.C5A7D60095@dpdk-ubuntu.dpdklab.iol.unh.edu \
--to=dpdklab@iol.unh.edu \
--cc=david.marchand@redhat.com \
--cc=dpdk-test-reports@iol.unh.edu \
--cc=test-report@dpdk.org \
--cc=thomas@monjalon.net \
/path/to/YOUR_REPLY
https://kernel.org/pub/software/scm/git/docs/git-send-email.html
* If your mail client supports setting the In-Reply-To header
via mailto: links, try the mailto: link
Be sure your reply has a Subject: header at the top and a blank line
before the message body.
This is a public inbox, see mirroring instructions
for how to clone and mirror all data and code used for this inbox;
as well as URLs for NNTP newsgroup(s).