From mboxrd@z Thu Jan  1 00:00:00 1970
Return-Path: <test-report-bounces@dpdk.org>
Received: from mails.dpdk.org (mails.dpdk.org [217.70.189.124])
	by inbox.dpdk.org (Postfix) with ESMTP id 8B2AD41DFB
	for <public@inbox.dpdk.org>; Tue,  7 Mar 2023 06:45:22 +0100 (CET)
Received: from mails.dpdk.org (localhost [127.0.0.1])
	by mails.dpdk.org (Postfix) with ESMTP id 8475A4067E;
	Tue,  7 Mar 2023 06:45:22 +0100 (CET)
Received: from mail-pj1-f100.google.com (mail-pj1-f100.google.com
 [209.85.216.100])
 by mails.dpdk.org (Postfix) with ESMTP id 229704067E
 for <test-report@dpdk.org>; Tue,  7 Mar 2023 06:45:21 +0100 (CET)
Received: by mail-pj1-f100.google.com with SMTP id l1so12171164pjt.2
 for <test-report@dpdk.org>; Mon, 06 Mar 2023 21:45:21 -0800 (PST)
DKIM-Signature: v=1; a=rsa-sha256; c=relaxed/relaxed;
 d=iol.unh.edu; s=unh-iol; t=1678167920;
 h=date:message-id:cc:to:from:subject:from:to:cc:subject:date
 :message-id:reply-to;
 bh=QETAoanWvPP/cYYYKZWCf4z2SxjI5ms1sfhgUJZITBE=;
 b=dE0KMejSgZAs87ELSneNhcKt5Gz/1cGGcog60TMRz/kAXBehUkqf7uamSdWGpHxfQ4
 LTtfk1AHmrSL6s0Z5Hi5voFzADIam3qxukac+RlN9re4J1baZ7URE3k5rMZ847NN9OnT
 V2ztAjL5xNnqA006mAYC7+ZqrcbR7SzKqur/E=
X-Google-DKIM-Signature: v=1; a=rsa-sha256; c=relaxed/relaxed;
 d=1e100.net; s=20210112; t=1678167920;
 h=date:message-id:cc:to:from:subject:x-gm-message-state:from:to:cc
 :subject:date:message-id:reply-to;
 bh=QETAoanWvPP/cYYYKZWCf4z2SxjI5ms1sfhgUJZITBE=;
 b=NpTsu3R+80+ISqBHOxyQluOcOxg1ThVfjeMVP/AMh0wYJ2mhunBCS8wX/78pJcnSki
 S5N/RFUck4AXOTlfMkbcuvN/TO+OijogZF2LaFLwNSgogqlHh8xan+99WF6NK0FUb9gz
 y2p2FkX2ZjCPU9hkFBtQBAhgEPtYpmgjrYFPGERs1ZmvecKFL46IKzfjxuJ0O0kAl4FU
 JDWsEUEMl5fDWjZcXhIdlMcxCIEItFGl8M/TFN9MOUwJYxpCRJya4kLJYCdeiukGuoyl
 HcDDddxYrug5Z3oruk4umlFnzgdlZ6h1qvTw4COtxV/WWIfBcByAB2xLiEydtgeDY/lI
 SA2w==
X-Gm-Message-State: AO0yUKXSbz5DfVa8IlMbwG0WM7vZ9BxZKSDX76yx3+9AfNa/9WOLE2as
 HszuVWyj5+cUpGP+j5f30v6bzsuHiMqLmt6YhXceG5ClvnWY4Ok9WwdDLA==
X-Google-Smtp-Source: AK7set8RqljK0OYnc0SkIm3x2IkMSo/RC23yMdPuf1SoATdb04lmHq9WpCtRdpBMCf2xMHqQqpoIcxbpGqw7
X-Received: by 2002:a17:90b:3a8c:b0:233:f65e:8f1b with SMTP id
 om12-20020a17090b3a8c00b00233f65e8f1bmr14905916pjb.5.1678167920299; 
 Mon, 06 Mar 2023 21:45:20 -0800 (PST)
Received: from postal.iol.unh.edu (postal.iol.unh.edu. [132.177.123.84])
 by smtp-relay.gmail.com with ESMTPS id
 lr10-20020a17090b4b8a00b002372da166f9sm1464559pjb.5.2023.03.06.21.45.20
 (version=TLS1_2 cipher=ECDHE-ECDSA-AES128-GCM-SHA256 bits=128/128);
 Mon, 06 Mar 2023 21:45:20 -0800 (PST)
X-Relaying-Domain: iol.unh.edu
Received: from dpdk-ubuntu.dpdklab.iol.unh.edu (unknown [172.18.0.210])
 by postal.iol.unh.edu (Postfix) with ESMTP id 90792605246B;
 Tue,  7 Mar 2023 00:45:19 -0500 (EST)
Received: from dpdk-ubuntu-2.dpdklab.iol.unh.edu (localhost [IPv6:::1])
 by dpdk-ubuntu.dpdklab.iol.unh.edu (Postfix) with ESMTP id 8E04360095;
 Tue,  7 Mar 2023 05:45:19 +0000 (UTC)
Subject: |SUCCESS| pw124827-124828 [PATCH] [v3,
 2/2] eal: add option to put timestamp on console output
From: dpdklab@iol.unh.edu
To: Test Report <test-report@dpdk.org>
Cc: dpdklab@iol.unh.edu, David Marchand <david.marchand@redhat.com>,
 Thomas Monjalon <thomas@monjalon.net>
Content-Type: text/plain
Message-Id: <20230307054519.8E04360095@dpdk-ubuntu.dpdklab.iol.unh.edu>
Date: Tue,  7 Mar 2023 05:45:19 +0000 (UTC)
X-BeenThere: test-report@dpdk.org
X-Mailman-Version: 2.1.29
Precedence: list
List-Id: automatic DPDK test reports <test-report.dpdk.org>
List-Unsubscribe: <https://mails.dpdk.org/options/test-report>,
 <mailto:test-report-request@dpdk.org?subject=unsubscribe>
List-Archive: <http://mails.dpdk.org/archives/test-report/>
List-Post: <mailto:test-report@dpdk.org>
List-Help: <mailto:test-report-request@dpdk.org?subject=help>
List-Subscribe: <https://mails.dpdk.org/listinfo/test-report>,
 <mailto:test-report-request@dpdk.org?subject=subscribe>
Errors-To: test-report-bounces@dpdk.org

Test-Label: iol-x86_64-unit-testing
Test-Status: SUCCESS
http://dpdk.org/patch/124828

_Testing PASS_

Submitter: Stephen Hemminger <stephen@networkplumber.org>
Date: Monday, March 06 2023 19:28:10 
DPDK git baseline: Repo:dpdk
  Branch: master
  CommitID:e0fb0051ff8f621a2b001d9243cebe50f3d42cf5

124827-124828 --> testing pass

Test environment and result as below:

+---------------------+----------------+
|     Environment     | dpdk_unit_test |
+=====================+================+
| Windows Server 2019 | PASS           |
+---------------------+----------------+
| RHEL 7              | PASS           |
+---------------------+----------------+
| Ubuntu 22.04        | PASS           |
+---------------------+----------------+
| RHEL8               | PASS           |
+---------------------+----------------+
| Ubuntu 20.04        | PASS           |
+---------------------+----------------+
| CentOS Stream 9     | PASS           |
+---------------------+----------------+
| Debian Bullseye     | PASS           |
+---------------------+----------------+
| CentOS Stream 8     | PASS           |
+---------------------+----------------+
| Debian Buster       | PASS           |
+---------------------+----------------+
| openSUSE Leap 15    | PASS           |
+---------------------+----------------+


Windows Server 2019
	Kernel: 10.0
	Compiler: clang 14.0 and gcc 8.1.0 (MinGW)

RHEL 7
	Kernel: 4.18.0-240.10.1.el8_3.x86_64
	Compiler: gcc 4.8.5 20150623 (Red Hat 4.8.5-44)

Ubuntu 22.04
	Kernel: Container Host Kernel
	Compiler: gcc 11.3.1-2

RHEL8
	Kernel: 4.18.0-240.10.1.el8_3.x86_64
	Compiler: gcc 8.3.1 20191121 (Red Hat 8.3.1-5)

Ubuntu 20.04
	Kernel: 4.18.0-240.10.1.el8_3.x86_64
	Compiler: gcc 9.3.0-17ubuntu1~20.04

CentOS Stream 9
	Kernel: 4.18.0-240.10.1.el8_3.x86_64
	Compiler: gcc 11.3.1 20220421

Debian Bullseye
	Kernel: 5.4.0-122-generic
	Compiler: gcc 10.2.1-6

CentOS Stream 8
	Kernel: 4.18.0-240.10.1.el8_3.x86_64
	Compiler: gcc 8.4.1 20200928

Debian Buster
	Kernel: 5.4.0-122-generic
	Compiler: gcc 8.3.0-6

openSUSE Leap 15
	Kernel: 4.18.0-240.10.1.el8_3.x86_64
	Compiler: gcc 7.5.0

To view detailed results, visit:
https://lab.dpdk.org/results/dashboard/patchsets/25630/

UNH-IOL DPDK Community Lab

To manage your email subscriptions, visit: 
https://lab.dpdk.org/results/dashboard/preferences/subscriptions/