From mboxrd@z Thu Jan  1 00:00:00 1970
Return-Path: <test-report-bounces@dpdk.org>
Received: from mails.dpdk.org (mails.dpdk.org [217.70.189.124])
	by inbox.dpdk.org (Postfix) with ESMTP id 6623141E77
	for <public@inbox.dpdk.org>; Sat, 11 Mar 2023 22:23:56 +0100 (CET)
Received: from mails.dpdk.org (localhost [127.0.0.1])
	by mails.dpdk.org (Postfix) with ESMTP id 6113240ED9;
	Sat, 11 Mar 2023 22:23:56 +0100 (CET)
Received: from mail-qt1-f225.google.com (mail-qt1-f225.google.com
 [209.85.160.225])
 by mails.dpdk.org (Postfix) with ESMTP id A9CCD40ED9
 for <test-report@dpdk.org>; Sat, 11 Mar 2023 22:23:54 +0100 (CET)
Received: by mail-qt1-f225.google.com with SMTP id d7so9517475qtr.12
 for <test-report@dpdk.org>; Sat, 11 Mar 2023 13:23:54 -0800 (PST)
DKIM-Signature: v=1; a=rsa-sha256; c=relaxed/relaxed;
 d=iol.unh.edu; s=unh-iol; t=1678569834;
 h=date:message-id:cc:to:from:subject:from:to:cc:subject:date
 :message-id:reply-to;
 bh=kMY3D9jkHoyndGOXd90I46QX3Y1sfDnrbmUwSUVGbxM=;
 b=Yu+VvU3ut1lEQ2akVeC1kyHtg1mUSx+lrLmiLd/kfHVdBHZVZ9pr64O2doudxNNOUz
 9VeeLAAyIUMa9Ks27bjSHLx8QdquqzhBBjsE8Mtr/bLu+utvMKDVt71KGPJSgBWChHxe
 Bcxagz1VEVQp9QCKKaz4lYVqLTlnW7YHcDO6M=
X-Google-DKIM-Signature: v=1; a=rsa-sha256; c=relaxed/relaxed;
 d=1e100.net; s=20210112; t=1678569834;
 h=date:message-id:cc:to:from:subject:x-gm-message-state:from:to:cc
 :subject:date:message-id:reply-to;
 bh=kMY3D9jkHoyndGOXd90I46QX3Y1sfDnrbmUwSUVGbxM=;
 b=VaMrpCp4gZTtwO3wUeisfo0UoMIHgKIG5k4BkjP4H9NppRBj55heFsHZ4GF96ZbRcw
 /i0oQeGe1rxPnED/0sExaSzofkfpLCvmVtKvBxqTm0J83zbia+ikaOcmYbyNUKjWhS/8
 1ZK5phd8Q0sPFZcw6ItvbY51+VEBEEpmbxPr0kNwyykb21d86kH/LaLuZqtj0btlftiU
 hSvwdQqdCzsiWnrmLKKNfDCkB8khSbyt7O1O/x8KMzNZrFEYz31V3mYLx7pr0P97Cv53
 MinYvCnOYtrqRlPzdrGkdWNBPF3WIpJTVYDvvDktqLHfGUUlEY7tsVqlCktSWtflYP+e
 A4zQ==
X-Gm-Message-State: AO0yUKU3OIp84zG51dv2eIXms+8mnueE+DKAxT0uisCVdoTwbChXduj4
 uqC25z2Cdl5SghcRCMh4T806ygAkNHfXdoZ5QdQEE8Nxl8Oj+uy3y13qIA==
X-Google-Smtp-Source: AK7set8Cm2Ii0SHzMgO3Z29rGQEWcXtR+Ide0VFN0dDfLIG3406le/OK5mVcWXd46TiwFbM+WQ9Y6rNLjZMe
X-Received: by 2002:a05:622a:1a0b:b0:3b8:683c:40f with SMTP id
 f11-20020a05622a1a0b00b003b8683c040fmr52422662qtb.30.1678569834230; 
 Sat, 11 Mar 2023 13:23:54 -0800 (PST)
Received: from postal.iol.unh.edu (postal.iol.unh.edu. [132.177.123.84])
 by smtp-relay.gmail.com with ESMTPS id
 u18-20020ac858d2000000b003b9bad9796bsm284857qta.23.2023.03.11.13.23.54
 (version=TLS1_2 cipher=ECDHE-ECDSA-AES128-GCM-SHA256 bits=128/128);
 Sat, 11 Mar 2023 13:23:54 -0800 (PST)
X-Relaying-Domain: iol.unh.edu
Received: from dpdk-ubuntu.dpdklab.iol.unh.edu (unknown
 [IPv6:2606:4100:3880:1722::210])
 by postal.iol.unh.edu (Postfix) with ESMTP id F0845605246B;
 Sat, 11 Mar 2023 16:23:53 -0500 (EST)
Received: from dpdk-ubuntu-2.dpdklab.iol.unh.edu (localhost [IPv6:::1])
 by dpdk-ubuntu.dpdklab.iol.unh.edu (Postfix) with ESMTP id EE09A6011D;
 Sat, 11 Mar 2023 21:23:53 +0000 (UTC)
Subject: |SUCCESS| pw124889 [PATCH] doc: deprecation notice to remove LiquidIO
 ethdev driver
From: dpdklab@iol.unh.edu
To: Test Report <test-report@dpdk.org>
Cc: dpdklab@iol.unh.edu, David Marchand <david.marchand@redhat.com>,
 Thomas Monjalon <thomas@monjalon.net>
Content-Type: text/plain
Message-Id: <20230311212353.EE09A6011D@dpdk-ubuntu.dpdklab.iol.unh.edu>
Date: Sat, 11 Mar 2023 21:23:53 +0000 (UTC)
X-BeenThere: test-report@dpdk.org
X-Mailman-Version: 2.1.29
Precedence: list
List-Id: automatic DPDK test reports <test-report.dpdk.org>
List-Unsubscribe: <https://mails.dpdk.org/options/test-report>,
 <mailto:test-report-request@dpdk.org?subject=unsubscribe>
List-Archive: <http://mails.dpdk.org/archives/test-report/>
List-Post: <mailto:test-report@dpdk.org>
List-Help: <mailto:test-report-request@dpdk.org?subject=help>
List-Subscribe: <https://mails.dpdk.org/listinfo/test-report>,
 <mailto:test-report-request@dpdk.org?subject=subscribe>
Errors-To: test-report-bounces@dpdk.org

Test-Label: iol-x86_64-compile-testing
Test-Status: SUCCESS
http://dpdk.org/patch/124889

_Testing PASS_

Submitter: Jerin Jacob Kollanukkaran <jerinj@marvell.com>
Date: Thursday, March 09 2023 07:07:33 
DPDK git baseline: Repo:dpdk
  Branch: master
  CommitID:b15d75b2872efce397d827dac78692a919358302

124889 --> testing pass

Test environment and result as below:

+------------------+--------------------+
|   Environment    | dpdk_meson_compile |
+==================+====================+
| FreeBSD 13       | PASS               |
+------------------+--------------------+
| CentOS Stream 9  | PASS               |
+------------------+--------------------+
| CentOS Stream 8  | PASS               |
+------------------+--------------------+
| Debian Buster    | PASS               |
+------------------+--------------------+
| Debian Bullseye  | PASS               |
+------------------+--------------------+
| Ubuntu 22.04     | PASS               |
+------------------+--------------------+
| openSUSE Leap 15 | PASS               |
+------------------+--------------------+
| RHEL 7           | PASS               |
+------------------+--------------------+
| RHEL8            | PASS               |
+------------------+--------------------+
| Ubuntu 20.04     | PASS               |
+------------------+--------------------+


FreeBSD 13
	Kernel: 13.0
	Compiler: clang 11.0.1

CentOS Stream 9
	Kernel: 4.18.0-240.10.1.el8_3.x86_64
	Compiler: gcc 11.3.1 20220421

CentOS Stream 8
	Kernel: 4.18.0-240.10.1.el8_3.x86_64
	Compiler: gcc 8.4.1 20200928

Debian Buster
	Kernel: 5.4.0-122-generic
	Compiler: gcc 8.3.0-6

Debian Bullseye
	Kernel: 5.4.0-122-generic
	Compiler: gcc 10.2.1-6

Ubuntu 22.04
	Kernel: Container Host Kernel
	Compiler: gcc 11.3.1-2

openSUSE Leap 15
	Kernel: 4.18.0-240.10.1.el8_3.x86_64
	Compiler: gcc 7.5.0

RHEL 7
	Kernel: 4.18.0-240.10.1.el8_3.x86_64
	Compiler: gcc 4.8.5 20150623 (Red Hat 4.8.5-44)

RHEL8
	Kernel: 4.18.0-240.10.1.el8_3.x86_64
	Compiler: gcc 8.3.1 20191121 (Red Hat 8.3.1-5)

Ubuntu 20.04
	Kernel: 4.18.0-240.10.1.el8_3.x86_64
	Compiler: gcc 9.3.0-17ubuntu1~20.04

To view detailed results, visit:
https://lab.dpdk.org/results/dashboard/patchsets/25656/

UNH-IOL DPDK Community Lab

To manage your email subscriptions, visit: 
https://lab.dpdk.org/results/dashboard/preferences/subscriptions/