From mboxrd@z Thu Jan  1 00:00:00 1970
Return-Path: <test-report-bounces@dpdk.org>
Received: from mails.dpdk.org (mails.dpdk.org [217.70.189.124])
	by inbox.dpdk.org (Postfix) with ESMTP id D67A041E7D
	for <public@inbox.dpdk.org>; Sun, 12 Mar 2023 10:33:41 +0100 (CET)
Received: from mails.dpdk.org (localhost [127.0.0.1])
	by mails.dpdk.org (Postfix) with ESMTP id D19E1406A2;
	Sun, 12 Mar 2023 10:33:41 +0100 (CET)
Received: from mail-pl1-f228.google.com (mail-pl1-f228.google.com
 [209.85.214.228])
 by mails.dpdk.org (Postfix) with ESMTP id 8028A406A2
 for <test-report@dpdk.org>; Sun, 12 Mar 2023 10:33:40 +0100 (CET)
Received: by mail-pl1-f228.google.com with SMTP id p20so9916104plw.13
 for <test-report@dpdk.org>; Sun, 12 Mar 2023 01:33:40 -0800 (PST)
DKIM-Signature: v=1; a=rsa-sha256; c=relaxed/relaxed;
 d=iol.unh.edu; s=unh-iol; t=1678613619;
 h=date:message-id:cc:to:from:subject:from:to:cc:subject:date
 :message-id:reply-to;
 bh=qIZoTXXwjVeF2vj0Oqmpb7ORCvo0xTxiNJxedXGHNt0=;
 b=Qgd3T1BC+OeFcqzGOmt4WSWfgcO1YO49teujj1r+dyeVeyRBEoSlFNHgClLizn69P/
 9O/ZyQnb98yEGALf6uoj0DXCarZBeS0t/vkv7Vvdolyhx5l0bdsOOOOaD4Ebzpo4cfau
 aSWsp0Y7p3ySg7dfStTq1PRCVj04q+nBynNMU=
X-Google-DKIM-Signature: v=1; a=rsa-sha256; c=relaxed/relaxed;
 d=1e100.net; s=20210112; t=1678613619;
 h=date:message-id:cc:to:from:subject:x-gm-message-state:from:to:cc
 :subject:date:message-id:reply-to;
 bh=qIZoTXXwjVeF2vj0Oqmpb7ORCvo0xTxiNJxedXGHNt0=;
 b=iFkpi2pohVrCUzq0QK9PNDWDCtDPDOu0pMLPlf7iwNpZfc++AuQexeHC7kXUWJoF2a
 a0pNNMmBy43Y/KVuULBJExWfMd+hyd3g0DBhan4x5hBWNCtj07h8fsEtUxp1SfTHwUIL
 y1qDi5tCblnk1/aXewAEJFm678NM7Jf2jnRCCM/qTQDL/4kKhXDjFYEvZ51jWRJaiaf2
 D9ggFjYLdh+chfOVRBOK/v/ex2FShIrCohTw3Fmi4f43505XmPfCILodifTLE1R/gQdi
 m7+Pu8eDP2eP0n29p+jncqMCh6iUM8udqL0a5Iqj/PmhA5rbfmohovkFofgFG18nztRM
 Sv6g==
X-Gm-Message-State: AO0yUKUxuRrqFCeq/Z3yszw0KlMEXVx2LLmhLVa02n6/Sh//4FWgZuDh
 8SLKAaIClJ1y0wjLflJUU4ZEFT5AUzKT/DCoC9yT39PdabmU+cT39DOjBQ==
X-Google-Smtp-Source: AK7set9dqYhNUhRFpmvu+mPS/QRPJVvz8HpjcQguJZJcmFxBg/bkGOLxkCmkNr4BivvoYS76+5cqlR1gnAb2
X-Received: by 2002:a17:902:7e48:b0:199:12d5:5b97 with SMTP id
 a8-20020a1709027e4800b0019912d55b97mr5000795pln.12.1678613619703; 
 Sun, 12 Mar 2023 01:33:39 -0800 (PST)
Received: from postal.iol.unh.edu (postal.iol.unh.edu. [132.177.123.84])
 by smtp-relay.gmail.com with ESMTPS id
 ki5-20020a170903068500b0019a97a43231sm139590plb.53.2023.03.12.01.33.39
 (version=TLS1_2 cipher=ECDHE-ECDSA-AES128-GCM-SHA256 bits=128/128);
 Sun, 12 Mar 2023 01:33:39 -0800 (PST)
X-Relaying-Domain: iol.unh.edu
Received: from dpdk-ubuntu.dpdklab.iol.unh.edu (unknown [172.18.0.210])
 by postal.iol.unh.edu (Postfix) with ESMTP id EF15D605246B;
 Sun, 12 Mar 2023 05:33:38 -0400 (EDT)
Received: from dpdk-ubuntu-2.dpdklab.iol.unh.edu (localhost [IPv6:::1])
 by dpdk-ubuntu.dpdklab.iol.unh.edu (Postfix) with ESMTP id ED25E6011D;
 Sun, 12 Mar 2023 09:33:38 +0000 (UTC)
Subject: |SUCCESS| pw125051 [PATCH] [v4] lib/bpf: Rename bpf function names to
 avoid potential conflict with libpcap
From: dpdklab@iol.unh.edu
To: Test Report <test-report@dpdk.org>
Cc: dpdklab@iol.unh.edu, David Marchand <david.marchand@redhat.com>,
 Thomas Monjalon <thomas@monjalon.net>
Content-Type: text/plain
Message-Id: <20230312093338.ED25E6011D@dpdk-ubuntu.dpdklab.iol.unh.edu>
Date: Sun, 12 Mar 2023 09:33:38 +0000 (UTC)
X-BeenThere: test-report@dpdk.org
X-Mailman-Version: 2.1.29
Precedence: list
List-Id: automatic DPDK test reports <test-report.dpdk.org>
List-Unsubscribe: <https://mails.dpdk.org/options/test-report>,
 <mailto:test-report-request@dpdk.org?subject=unsubscribe>
List-Archive: <http://mails.dpdk.org/archives/test-report/>
List-Post: <mailto:test-report@dpdk.org>
List-Help: <mailto:test-report-request@dpdk.org?subject=help>
List-Subscribe: <https://mails.dpdk.org/listinfo/test-report>,
 <mailto:test-report-request@dpdk.org?subject=subscribe>
Errors-To: test-report-bounces@dpdk.org

Test-Label: iol-aarch64-unit-testing
Test-Status: SUCCESS
http://dpdk.org/patch/125051

_Testing PASS_

Submitter: J.J. Martzki <mars14850@gmail.com>
Date: Sunday, March 12 2023 06:20:20 
DPDK git baseline: Repo:dpdk
  Branch: master
  CommitID:0fd1386c30c3ad9365d7fdd2829bf7cb2e1b9dff

125051 --> testing pass

Test environment and result as below:

+-------------------------------+----------------+------------------------------+---------------------------+--------------+
|          Environment          | dpdk_unit_test | cryptodev_sw_snow3g_autotest | cryptodev_sw_zuc_autotest | lpm_autotest |
+===============================+================+==============================+===========================+==============+
| Ubuntu 20.04 ARM GCC Native   | PASS           | SKIPPED                      | SKIPPED                   | SKIPPED      |
+-------------------------------+----------------+------------------------------+---------------------------+--------------+
| Ubuntu 20.04 ARM Clang Native | PASS           | SKIPPED                      | SKIPPED                   | SKIPPED      |
+-------------------------------+----------------+------------------------------+---------------------------+--------------+
| Debian 11                     | SKIPPED        | PASS                         | PASS                      | SKIPPED      |
+-------------------------------+----------------+------------------------------+---------------------------+--------------+
| Ubuntu 20.04 ARM SVE          | SKIPPED        | SKIPPED                      | SKIPPED                   | PASS         |
+-------------------------------+----------------+------------------------------+---------------------------+--------------+


Ubuntu 20.04 ARM GCC Native
	Kernel: 5.4.0-53-generic
	Compiler: gcc 9.3

Ubuntu 20.04 ARM Clang Native
	Kernel: 5.4.0-53-generic
	Compiler: clang 10.0.0-4ubuntu1

Debian 11
	Kernel: Container Host Kernel
	Compiler: gcc 10.2.1

Ubuntu 20.04 ARM SVE
	Kernel: 5.4.0-80-generic
	Compiler: gcc 10.3.0 (Ubuntu 10.3.0-1ubuntu1~20.04)

To view detailed results, visit:
https://lab.dpdk.org/results/dashboard/patchsets/25697/

UNH-IOL DPDK Community Lab

To manage your email subscriptions, visit: 
https://lab.dpdk.org/results/dashboard/preferences/subscriptions/