From mboxrd@z Thu Jan  1 00:00:00 1970
Return-Path: <test-report-bounces@dpdk.org>
Received: from mails.dpdk.org (mails.dpdk.org [217.70.189.124])
	by inbox.dpdk.org (Postfix) with ESMTP id 15D2D41E86
	for <public@inbox.dpdk.org>; Mon, 13 Mar 2023 11:08:08 +0100 (CET)
Received: from mails.dpdk.org (localhost [127.0.0.1])
	by mails.dpdk.org (Postfix) with ESMTP id 0FC4440151;
	Mon, 13 Mar 2023 11:08:08 +0100 (CET)
Received: from mail-oa1-f97.google.com (mail-oa1-f97.google.com
 [209.85.160.97]) by mails.dpdk.org (Postfix) with ESMTP id D6C3840151
 for <test-report@dpdk.org>; Mon, 13 Mar 2023 11:08:06 +0100 (CET)
Received: by mail-oa1-f97.google.com with SMTP id
 586e51a60fabf-176d93cd0daso13181814fac.4
 for <test-report@dpdk.org>; Mon, 13 Mar 2023 03:08:06 -0700 (PDT)
DKIM-Signature: v=1; a=rsa-sha256; c=relaxed/relaxed;
 d=iol.unh.edu; s=unh-iol; t=1678702086;
 h=date:message-id:cc:to:from:subject:from:to:cc:subject:date
 :message-id:reply-to;
 bh=M8qY5EQeOHkIWilc5ciPQSQ5TYIwWr2Uqi2HtSzRbTA=;
 b=XzKYmxtjYs3tKJFAFg/eo41S+J+KIH8BsWCXn0Brl1HXTKYPiZiJRuoSkgM+c9hp6K
 c2lHaukYFNJPpH62PyKAef54O0Xlr15Z1er74flHUS7J1+aJbxNIf27Q9dKYFoU8SePP
 KF7qz96KjyunAllZifNCPHIjgwPY7cKbTl9lc=
X-Google-DKIM-Signature: v=1; a=rsa-sha256; c=relaxed/relaxed;
 d=1e100.net; s=20210112; t=1678702086;
 h=date:message-id:cc:to:from:subject:x-gm-message-state:from:to:cc
 :subject:date:message-id:reply-to;
 bh=M8qY5EQeOHkIWilc5ciPQSQ5TYIwWr2Uqi2HtSzRbTA=;
 b=106rlBoP/v4Asfj/td0dqC9aW3yESqUAsCNUPfiljh9dBbOH64w9zcthE5ERLRZKSE
 NcqWAwIjvPF3fWuLJXxEQq6PWdTy8VCvueYfS6S8y2cU37LXQhoNrYulnDqqkQOiZ5v7
 9H7Rl4jptewjy5zHBG+u3usjVdtxanoI6TCmZFYJ3wSTvtL4nEBH1ZraeV1dRoPdBB1U
 D4/+3YOOY+dfkh0tUGVhu/d9LvavR8uV9H/uoxcMhZlunAz0ztk7pFKHLIoXKyrf6YSy
 hsub+oabFRrtfHfB04TqiCxBVZqXgRwYVEN3zwPvFJN1yR8GwA7MNqoPazTevuZ6ueqU
 0eug==
X-Gm-Message-State: AO0yUKW+SqgS3J0vvfrXgXU1JpAkAOdyl/39Exs+adOS6nTI9tdpjiFr
 wCwKCaTg3cxGjyDPtOHKEn4QIhiCoyqGVYNRCJdOxHgWVaDIki0SaypBgw==
X-Google-Smtp-Source: AK7set8+cci+zcI/5woc9DMrl5Wze12jY1jNmA5jcECNyKbOy+iKb8HgSwj9cFgenPktRO0z6e/42Sikc/f9
X-Received: by 2002:a05:6870:20e:b0:163:4e13:cd90 with SMTP id
 j14-20020a056870020e00b001634e13cd90mr22052472oad.26.1678702086253; 
 Mon, 13 Mar 2023 03:08:06 -0700 (PDT)
Received: from postal.iol.unh.edu (postal.iol.unh.edu. [132.177.123.84])
 by smtp-relay.gmail.com with ESMTPS id
 ee14-20020a056870c80e00b0017294a2ef5bsm286685oab.49.2023.03.13.03.08.06
 (version=TLS1_2 cipher=ECDHE-ECDSA-AES128-GCM-SHA256 bits=128/128);
 Mon, 13 Mar 2023 03:08:06 -0700 (PDT)
X-Relaying-Domain: iol.unh.edu
Received: from dpdk-ubuntu.dpdklab.iol.unh.edu (unknown
 [IPv6:2606:4100:3880:1722::210])
 by postal.iol.unh.edu (Postfix) with ESMTP id DAC45605246B;
 Mon, 13 Mar 2023 06:08:05 -0400 (EDT)
Received: from dpdk-ubuntu-2.dpdklab.iol.unh.edu (localhost [IPv6:::1])
 by dpdk-ubuntu.dpdklab.iol.unh.edu (Postfix) with ESMTP id D9A286011D;
 Mon, 13 Mar 2023 10:08:05 +0000 (UTC)
Subject: |SUCCESS| pw125051 [PATCH] [v4] lib/bpf: Rename bpf function names to
 avoid potential conflict with libpcap
From: dpdklab@iol.unh.edu
To: Test Report <test-report@dpdk.org>
Cc: dpdk-test-reports@iol.unh.edu, David Marchand <david.marchand@redhat.com>,
 Thomas Monjalon <thomas@monjalon.net>
Content-Type: text/plain
Message-Id: <20230313100805.D9A286011D@dpdk-ubuntu.dpdklab.iol.unh.edu>
Date: Mon, 13 Mar 2023 10:08:05 +0000 (UTC)
X-BeenThere: test-report@dpdk.org
X-Mailman-Version: 2.1.29
Precedence: list
List-Id: automatic DPDK test reports <test-report.dpdk.org>
List-Unsubscribe: <https://mails.dpdk.org/options/test-report>,
 <mailto:test-report-request@dpdk.org?subject=unsubscribe>
List-Archive: <http://mails.dpdk.org/archives/test-report/>
List-Post: <mailto:test-report@dpdk.org>
List-Help: <mailto:test-report-request@dpdk.org?subject=help>
List-Subscribe: <https://mails.dpdk.org/listinfo/test-report>,
 <mailto:test-report-request@dpdk.org?subject=subscribe>
Errors-To: test-report-bounces@dpdk.org

Test-Label: iol-testing
Test-Status: SUCCESS
http://dpdk.org/patch/125051

_Testing PASS_

Submitter: J.J. Mars <mars14850@gmail.com>
Date: Sunday, March 12 2023 06:20:20 
DPDK git baseline: Repo:dpdk
  Branch: master
  CommitID:0fd1386c30c3ad9365d7fdd2829bf7cb2e1b9dff

125051 --> testing pass

Test environment and result as below:

+----------------------------------------+----------------+--------------------+----------------------+
|              Environment               | dpdk_unit_test | dpdk_meson_compile | dpdk_mingw64_compile |
+========================================+================+====================+======================+
| Ubuntu 20.04 ARM Clang Native          | PASS           | PASS               | SKIPPED              |
+----------------------------------------+----------------+--------------------+----------------------+
| Ubuntu 20.04 ARM GCC Native            | PASS           | PASS               | SKIPPED              |
+----------------------------------------+----------------+--------------------+----------------------+
| Windows Server 2019                    | PASS           | PASS               | PASS                 |
+----------------------------------------+----------------+--------------------+----------------------+
| openSUSE Leap 15                       | PASS           | PASS               | SKIPPED              |
+----------------------------------------+----------------+--------------------+----------------------+
| RHEL8                                  | PASS           | PASS               | SKIPPED              |
+----------------------------------------+----------------+--------------------+----------------------+
| FreeBSD 13                             | SKIPPED        | PASS               | SKIPPED              |
+----------------------------------------+----------------+--------------------+----------------------+
| CentOS Stream 8                        | SKIPPED        | PASS               | SKIPPED              |
+----------------------------------------+----------------+--------------------+----------------------+
| CentOS Stream 9                        | SKIPPED        | PASS               | SKIPPED              |
+----------------------------------------+----------------+--------------------+----------------------+
| Debian Buster                          | SKIPPED        | PASS               | SKIPPED              |
+----------------------------------------+----------------+--------------------+----------------------+
| Debian Bullseye                        | SKIPPED        | PASS               | SKIPPED              |
+----------------------------------------+----------------+--------------------+----------------------+
| Ubuntu 22.04                           | SKIPPED        | PASS               | SKIPPED              |
+----------------------------------------+----------------+--------------------+----------------------+
| RHEL 7                                 | SKIPPED        | PASS               | SKIPPED              |
+----------------------------------------+----------------+--------------------+----------------------+
| Ubuntu 20.04                           | SKIPPED        | PASS               | SKIPPED              |
+----------------------------------------+----------------+--------------------+----------------------+
| Ubuntu 20.04 ARM GCC Cross Compile     | SKIPPED        | PASS               | SKIPPED              |
+----------------------------------------+----------------+--------------------+----------------------+
| Ubuntu 20.04 aarch32 GCC Cross Compile | SKIPPED        | PASS               | SKIPPED              |
+----------------------------------------+----------------+--------------------+----------------------+
| Ubuntu 20.04 ARM Clang Cross Compile   | SKIPPED        | PASS               | SKIPPED              |
+----------------------------------------+----------------+--------------------+----------------------+
| Ubuntu 20.04 ARM SVE                   | SKIPPED        | PASS               | SKIPPED              |
+----------------------------------------+----------------+--------------------+----------------------+


Ubuntu 20.04 ARM Clang Native
	Kernel: 5.4.0-53-generic
	Compiler: clang 10.0.0-4ubuntu1

Ubuntu 20.04 ARM GCC Native
	Kernel: 5.4.0-53-generic
	Compiler: gcc 9.3

Windows Server 2019
	Kernel: 10.0
	Compiler: clang 14.0 and gcc 8.1.0 (MinGW)

openSUSE Leap 15
	Kernel: 4.18.0-240.10.1.el8_3.x86_64
	Compiler: gcc 7.5.0

RHEL8
	Kernel: 4.18.0-240.10.1.el8_3.x86_64
	Compiler: gcc 8.3.1 20191121 (Red Hat 8.3.1-5)

FreeBSD 13
	Kernel: 13.0
	Compiler: clang 11.0.1

CentOS Stream 8
	Kernel: 4.18.0-240.10.1.el8_3.x86_64
	Compiler: gcc 8.4.1 20200928

CentOS Stream 9
	Kernel: 4.18.0-240.10.1.el8_3.x86_64
	Compiler: gcc 11.3.1 20220421

Debian Buster
	Kernel: 5.4.0-122-generic
	Compiler: gcc 8.3.0-6

Debian Bullseye
	Kernel: 5.4.0-122-generic
	Compiler: gcc 10.2.1-6

Ubuntu 22.04
	Kernel: Container Host Kernel
	Compiler: gcc 11.3.1-2

RHEL 7
	Kernel: 4.18.0-240.10.1.el8_3.x86_64
	Compiler: gcc 4.8.5 20150623 (Red Hat 4.8.5-44)

Ubuntu 20.04
	Kernel: 4.18.0-240.10.1.el8_3.x86_64
	Compiler: gcc 9.3.0-17ubuntu1~20.04

Ubuntu 20.04 ARM GCC Cross Compile
	Kernel: 5.4.0-72-generic
	Compiler: aarch64-linux-gnu-gcc (Ubuntu 9.3.0-17ubuntu1~20.04) 9.3.0

Ubuntu 20.04 aarch32 GCC Cross Compile
	Kernel: 5.4.0-72-generic
	Compiler: gcc 9.3.0

Ubuntu 20.04 ARM Clang Cross Compile
	Kernel: 5.4.0-72-generic
	Compiler: clang version 10.0.0-4ubuntu1

Ubuntu 20.04 ARM SVE
	Kernel: 5.4.0-80-generic
	Compiler: gcc 10.3.0 (Ubuntu 10.3.0-1ubuntu1~20.04)

To view detailed results, visit:
https://lab.dpdk.org/results/dashboard/patchsets/25697/

UNH-IOL DPDK Community Lab

To manage your email subscriptions, visit: 
https://lab.dpdk.org/results/dashboard/preferences/subscriptions/