From mboxrd@z Thu Jan  1 00:00:00 1970
Return-Path: <test-report-bounces@dpdk.org>
Received: from mails.dpdk.org (mails.dpdk.org [217.70.189.124])
	by inbox.dpdk.org (Postfix) with ESMTP id ED06941E90
	for <public@inbox.dpdk.org>; Tue, 14 Mar 2023 15:56:23 +0100 (CET)
Received: from mails.dpdk.org (localhost [127.0.0.1])
	by mails.dpdk.org (Postfix) with ESMTP id E88C940A7E;
	Tue, 14 Mar 2023 15:56:23 +0100 (CET)
Received: from mail-pj1-f100.google.com (mail-pj1-f100.google.com
 [209.85.216.100])
 by mails.dpdk.org (Postfix) with ESMTP id 8F4CC40A7E
 for <test-report@dpdk.org>; Tue, 14 Mar 2023 15:56:20 +0100 (CET)
Received: by mail-pj1-f100.google.com with SMTP id
 y15-20020a17090aa40f00b00237ad8ee3a0so15423252pjp.2
 for <test-report@dpdk.org>; Tue, 14 Mar 2023 07:56:20 -0700 (PDT)
DKIM-Signature: v=1; a=rsa-sha256; c=relaxed/relaxed;
 d=iol.unh.edu; s=unh-iol; t=1678805780;
 h=date:message-id:cc:to:from:subject:from:to:cc:subject:date
 :message-id:reply-to;
 bh=sd3iOAFZ7PJxSXScJ3UCWnQaqgZEdCA3+Nkrx6bBrys=;
 b=WdV2w+Uj1GDyZ/WqeKXoFF67YXfV/r18Vbd4fdk6uA4keC4iiEEszreVtBANKrJKi0
 bSpmt9USlX7Q8X4JTBhxFiqc+H1piKQ3NWTWfmF7L2JeZpvIXlqfwbraUXzqZOHzrm1d
 kmQPvWZ1cnroUDEaMI8IC+9BKHor26RFEIg+M=
X-Google-DKIM-Signature: v=1; a=rsa-sha256; c=relaxed/relaxed;
 d=1e100.net; s=20210112; t=1678805780;
 h=date:message-id:cc:to:from:subject:x-gm-message-state:from:to:cc
 :subject:date:message-id:reply-to;
 bh=sd3iOAFZ7PJxSXScJ3UCWnQaqgZEdCA3+Nkrx6bBrys=;
 b=U3WA+tqKz/ExCFn4R68cUs1yQC89mpnVYyDhHds8PEGNTso9LMCjY1SJu9IhQe7Frt
 S7WdtrdLncNkJmEceavOFZotIvwrUF/AeCMiNbWrR8W3FqhF/Sxe74nAVIVa8+bbrQB1
 A8xWR9cbrNBuli79VXOt6IiVRtKz+r5vJUrGMZJ9knrQyBNXYjRf/u0k3z1kxFLPw/BD
 vTLjzbBuwz10DA+Aw0Zorp/71C+5AQOloSMCG7jhkVMghLJpjfxsJEwNh5a2fBdZ5z/t
 KNgE/bDpvUPp2O2rJPcCH7ULdYw0pXnv9Epv4etq0jLTw7ouc35jjjyx0QdeJR+GAnAx
 P3EA==
X-Gm-Message-State: AO0yUKX/trVb+UZ0OSv/OWBe8wnkS54qpVavTJG8OZjIj9KeDLWVJHlb
 6owpq27cTM/RuBpfJYT3Ughq/WeDSM+welromRP3SnBgEgEW6M651IuG3Q==
X-Google-Smtp-Source: AK7set+vL1LX7ohnJbgUiFwrPCm7xu8Y1j4EdRVXvZ/3kF9L4s7pqoVW+eXHu46F1RA95Y/Et9zV/09aQIL6
X-Received: by 2002:a17:903:48b:b0:1a0:48ff:5383 with SMTP id
 jj11-20020a170903048b00b001a048ff5383mr6237853plb.11.1678805779587; 
 Tue, 14 Mar 2023 07:56:19 -0700 (PDT)
Received: from postal.iol.unh.edu (postal.iol.unh.edu. [132.177.123.84])
 by smtp-relay.gmail.com with ESMTPS id
 na13-20020a17090b4c0d00b0022c3a4ada97sm259126pjb.5.2023.03.14.07.56.19
 (version=TLS1_2 cipher=ECDHE-ECDSA-AES128-GCM-SHA256 bits=128/128);
 Tue, 14 Mar 2023 07:56:19 -0700 (PDT)
X-Relaying-Domain: iol.unh.edu
Received: from dpdk-ubuntu.dpdklab.iol.unh.edu (unknown [172.18.0.210])
 by postal.iol.unh.edu (Postfix) with ESMTP id D5DA5605246B;
 Tue, 14 Mar 2023 10:56:18 -0400 (EDT)
Received: from dpdk-ubuntu-2.dpdklab.iol.unh.edu (localhost [IPv6:::1])
 by dpdk-ubuntu.dpdklab.iol.unh.edu (Postfix) with ESMTP id D51256011D;
 Tue, 14 Mar 2023 14:56:18 +0000 (UTC)
Subject: |SUCCESS| pw125096 [PATCH] app/testpmd: support dump ethdev private
 cmd
From: dpdklab@iol.unh.edu
To: Test Report <test-report@dpdk.org>
Cc: dpdklab@iol.unh.edu, David Marchand <david.marchand@redhat.com>,
 Thomas Monjalon <thomas@monjalon.net>
Content-Type: text/plain
Message-Id: <20230314145618.D51256011D@dpdk-ubuntu.dpdklab.iol.unh.edu>
Date: Tue, 14 Mar 2023 14:56:18 +0000 (UTC)
X-BeenThere: test-report@dpdk.org
X-Mailman-Version: 2.1.29
Precedence: list
List-Id: automatic DPDK test reports <test-report.dpdk.org>
List-Unsubscribe: <https://mails.dpdk.org/options/test-report>,
 <mailto:test-report-request@dpdk.org?subject=unsubscribe>
List-Archive: <http://mails.dpdk.org/archives/test-report/>
List-Post: <mailto:test-report@dpdk.org>
List-Help: <mailto:test-report-request@dpdk.org?subject=help>
List-Subscribe: <https://mails.dpdk.org/listinfo/test-report>,
 <mailto:test-report-request@dpdk.org?subject=subscribe>
Errors-To: test-report-bounces@dpdk.org

Test-Label: iol-aarch64-unit-testing
Test-Status: SUCCESS
http://dpdk.org/patch/125096

_Testing PASS_

Submitter: Chengwen Feng <fengchengwen@huawei.com>
Date: Tuesday, March 14 2023 11:50:35 
DPDK git baseline: Repo:dpdk
  Branch: master
  CommitID:baf13c3135d0c5998fff7edc23fb89412dc89246

125096 --> testing pass

Test environment and result as below:

+-------------------------------+----------------+---------------------------+------------------------------+--------------+
|          Environment          | dpdk_unit_test | cryptodev_sw_zuc_autotest | cryptodev_sw_snow3g_autotest | lpm_autotest |
+===============================+================+===========================+==============================+==============+
| Ubuntu 20.04 ARM Clang Native | PASS           | SKIPPED                   | SKIPPED                      | SKIPPED      |
+-------------------------------+----------------+---------------------------+------------------------------+--------------+
| Ubuntu 20.04 ARM GCC Native   | PASS           | SKIPPED                   | SKIPPED                      | SKIPPED      |
+-------------------------------+----------------+---------------------------+------------------------------+--------------+
| Debian 11                     | SKIPPED        | PASS                      | PASS                         | SKIPPED      |
+-------------------------------+----------------+---------------------------+------------------------------+--------------+
| Ubuntu 20.04 ARM SVE          | SKIPPED        | SKIPPED                   | SKIPPED                      | PASS         |
+-------------------------------+----------------+---------------------------+------------------------------+--------------+


Ubuntu 20.04 ARM Clang Native
	Kernel: 5.4.0-53-generic
	Compiler: clang 10.0.0-4ubuntu1

Ubuntu 20.04 ARM GCC Native
	Kernel: 5.4.0-53-generic
	Compiler: gcc 9.3

Debian 11
	Kernel: Container Host Kernel
	Compiler: gcc 10.2.1

Ubuntu 20.04 ARM SVE
	Kernel: 5.4.0-80-generic
	Compiler: gcc 10.3.0 (Ubuntu 10.3.0-1ubuntu1~20.04)

To view detailed results, visit:
https://lab.dpdk.org/results/dashboard/patchsets/25727/

UNH-IOL DPDK Community Lab

To manage your email subscriptions, visit: 
https://lab.dpdk.org/results/dashboard/preferences/subscriptions/