From mboxrd@z Thu Jan 1 00:00:00 1970 Return-Path: Received: from mails.dpdk.org (mails.dpdk.org [217.70.189.124]) by inbox.dpdk.org (Postfix) with ESMTP id 7ABB841E98 for ; Wed, 15 Mar 2023 01:38:31 +0100 (CET) Received: from mails.dpdk.org (localhost [127.0.0.1]) by mails.dpdk.org (Postfix) with ESMTP id 7499A400EF; Wed, 15 Mar 2023 01:38:31 +0100 (CET) Received: from mail-il1-f227.google.com (mail-il1-f227.google.com [209.85.166.227]) by mails.dpdk.org (Postfix) with ESMTP id 4AD24400EF for ; Wed, 15 Mar 2023 01:38:30 +0100 (CET) Received: by mail-il1-f227.google.com with SMTP id 4so9557227ilz.6 for ; Tue, 14 Mar 2023 17:38:30 -0700 (PDT) DKIM-Signature: v=1; a=rsa-sha256; c=relaxed/relaxed; d=iol.unh.edu; s=unh-iol; t=1678840709; h=date:message-id:cc:to:from:subject:from:to:cc:subject:date :message-id:reply-to; bh=Lc7g+PbcRMckTAojpWPr6gZ0J75uZOcwOgLzeudeNj8=; b=QT3kXgMrdQ3oXyHH/eAVQcCocG7YVWSKCV40O3jmdXZccq2AP07n5NfJHqjbHwSQxh prv9Agja8zYNJhlJ/FKyKT/T1wMILri6NvheBRqkXR1SVv7Rxl0TcMq+eC4zh3xkXwc7 nmt9cBt9Z0o+7H1R5+I8okKvdLk+4ApXHJVk4= X-Google-DKIM-Signature: v=1; a=rsa-sha256; c=relaxed/relaxed; d=1e100.net; s=20210112; t=1678840709; h=date:message-id:cc:to:from:subject:x-gm-message-state:from:to:cc :subject:date:message-id:reply-to; bh=Lc7g+PbcRMckTAojpWPr6gZ0J75uZOcwOgLzeudeNj8=; b=zT6ngL0scYEZwNIalzV3bdEQo0nn8YyJF0SCsAkWd6n1shzPCHuf73CeKyuvcsubbL nIEeTCGYMaDOCRc33aNkQnWtv0fy6gBaQUF9L5WdllXAg9LHAQfsc9S1zQ5O6eerF0p/ HDd4JvP87oZSU6KFc8yB92HYn1RSJ3Tu98GvCbcUcCq9ddlsPVKnVn+l3BH8+2L59wGa 51b5Yo1VjbmASyRA/FvMa+50iZB0Y5coBiiKY2p6/MXKkkPudIF5eoGWpyfTQSka1Jt7 2fetADqY3OnxxJxnyA4celips5NLAg7oKxJop+AQSRSu6NIbLMBZ4UeSgGmKjYCpuRGB utQQ== X-Gm-Message-State: AO0yUKUEo0c2UEF6Z9atPJXiV7OcLK0+ikhIuJNbCgstNzNd3u5u2lzv Nxom7qdObXNdtUj+lOoYYRzsfPm/9TSMi0F7AW6t+FbALC1aF4HAPBoR7g== X-Google-Smtp-Source: AK7set9o3nK6eew/YLCRf7mfufQW43G5xi3ev3i/voJ95fWueJXiRN40QxeGekdeLVAWmjRdu3pJkIO0sVIF X-Received: by 2002:a05:6e02:1ca8:b0:322:fe79:8141 with SMTP id x8-20020a056e021ca800b00322fe798141mr4602288ill.1.1678840709658; Tue, 14 Mar 2023 17:38:29 -0700 (PDT) Received: from postal.iol.unh.edu (postal.iol.unh.edu. [132.177.123.84]) by smtp-relay.gmail.com with ESMTPS id t15-20020a02c90f000000b003afc6f77577sm175368jao.64.2023.03.14.17.38.29 (version=TLS1_2 cipher=ECDHE-ECDSA-AES128-GCM-SHA256 bits=128/128); Tue, 14 Mar 2023 17:38:29 -0700 (PDT) X-Relaying-Domain: iol.unh.edu Received: from dpdk-ubuntu.dpdklab.iol.unh.edu (unknown [172.18.0.210]) by postal.iol.unh.edu (Postfix) with ESMTP id 5200E605246B; Tue, 14 Mar 2023 20:38:29 -0400 (EDT) Received: from dpdk-ubuntu-2.dpdklab.iol.unh.edu (localhost [IPv6:::1]) by dpdk-ubuntu.dpdklab.iol.unh.edu (Postfix) with ESMTP id 515AE6011D; Wed, 15 Mar 2023 00:38:29 +0000 (UTC) Subject: |SUCCESS| pw125126-125127 [PATCH] [v4, 2/2] eal: fix failure path race setting new thread affinity From: dpdklab@iol.unh.edu To: Test Report Cc: dpdklab@iol.unh.edu, David Marchand , Thomas Monjalon Content-Type: text/plain Message-Id: <20230315003829.515AE6011D@dpdk-ubuntu.dpdklab.iol.unh.edu> Date: Wed, 15 Mar 2023 00:38:29 +0000 (UTC) X-BeenThere: test-report@dpdk.org X-Mailman-Version: 2.1.29 Precedence: list List-Id: automatic DPDK test reports List-Unsubscribe: , List-Archive: List-Post: List-Help: List-Subscribe: , Errors-To: test-report-bounces@dpdk.org Test-Label: iol-aarch64-unit-testing Test-Status: SUCCESS http://dpdk.org/patch/125127 _Testing PASS_ Submitter: Tyler Retzlaff Date: Tuesday, March 14 2023 22:50:39 DPDK git baseline: Repo:dpdk Branch: master CommitID:baf13c3135d0c5998fff7edc23fb89412dc89246 125126-125127 --> testing pass Test environment and result as below: +-------------------------------+----------------+------------------------------+---------------------------+--------------+ | Environment | dpdk_unit_test | cryptodev_sw_snow3g_autotest | cryptodev_sw_zuc_autotest | lpm_autotest | +===============================+================+==============================+===========================+==============+ | Ubuntu 20.04 ARM GCC Native | PASS | SKIPPED | SKIPPED | SKIPPED | +-------------------------------+----------------+------------------------------+---------------------------+--------------+ | Ubuntu 20.04 ARM Clang Native | PASS | SKIPPED | SKIPPED | SKIPPED | +-------------------------------+----------------+------------------------------+---------------------------+--------------+ | Debian 11 | SKIPPED | PASS | PASS | SKIPPED | +-------------------------------+----------------+------------------------------+---------------------------+--------------+ | Ubuntu 20.04 ARM SVE | SKIPPED | SKIPPED | SKIPPED | PASS | +-------------------------------+----------------+------------------------------+---------------------------+--------------+ Ubuntu 20.04 ARM GCC Native Kernel: 5.4.0-53-generic Compiler: gcc 9.3 Ubuntu 20.04 ARM Clang Native Kernel: 5.4.0-53-generic Compiler: clang 10.0.0-4ubuntu1 Debian 11 Kernel: Container Host Kernel Compiler: gcc 10.2.1 Ubuntu 20.04 ARM SVE Kernel: 5.4.0-80-generic Compiler: gcc 10.3.0 (Ubuntu 10.3.0-1ubuntu1~20.04) To view detailed results, visit: https://lab.dpdk.org/results/dashboard/patchsets/25738/ UNH-IOL DPDK Community Lab To manage your email subscriptions, visit: https://lab.dpdk.org/results/dashboard/preferences/subscriptions/