From mboxrd@z Thu Jan  1 00:00:00 1970
Return-Path: <test-report-bounces@dpdk.org>
Received: from mails.dpdk.org (mails.dpdk.org [217.70.189.124])
	by inbox.dpdk.org (Postfix) with ESMTP id 660B141EA2
	for <public@inbox.dpdk.org>; Wed, 15 Mar 2023 18:02:09 +0100 (CET)
Received: from mails.dpdk.org (localhost [127.0.0.1])
	by mails.dpdk.org (Postfix) with ESMTP id 62E9E40141;
	Wed, 15 Mar 2023 18:02:09 +0100 (CET)
Received: from mail-pl1-f227.google.com (mail-pl1-f227.google.com
 [209.85.214.227])
 by mails.dpdk.org (Postfix) with ESMTP id 9568C40141
 for <test-report@dpdk.org>; Wed, 15 Mar 2023 18:02:07 +0100 (CET)
Received: by mail-pl1-f227.google.com with SMTP id p20so20724043plw.13
 for <test-report@dpdk.org>; Wed, 15 Mar 2023 10:02:07 -0700 (PDT)
DKIM-Signature: v=1; a=rsa-sha256; c=relaxed/relaxed;
 d=iol.unh.edu; s=unh-iol; t=1678899727;
 h=date:message-id:cc:to:from:subject:from:to:cc:subject:date
 :message-id:reply-to;
 bh=O9JwW096ABGLmd0bz4vWEYOEYcv8Npt79jCr7fUBWOY=;
 b=Cwl4qmCg0t2rL9AG+MyPj0FyAMoVA3m0hG5r05PaUUIbH7WfR1ZTFEJ86oDD6smBGo
 ft+PJxjlq7HwgrJ1dXCZzc2pNFAJzKAO8mbuQgnThmr88+WTq/jwqhHc5g0rJDok0FWf
 Exo/nxnRlow8df1HK0KPndpxZgOV55lRU98+I=
X-Google-DKIM-Signature: v=1; a=rsa-sha256; c=relaxed/relaxed;
 d=1e100.net; s=20210112; t=1678899727;
 h=date:message-id:cc:to:from:subject:x-gm-message-state:from:to:cc
 :subject:date:message-id:reply-to;
 bh=O9JwW096ABGLmd0bz4vWEYOEYcv8Npt79jCr7fUBWOY=;
 b=i1hyorGzlPF+Ok3ysm79HyREA4SubEvOXTJSoa91FL1Wxm9BlaPljfP4k3yPfJx+7W
 Y6kqbuIaY7ZfOIkKHRTe5b7laDxcXPf2OH0stm3jW3h8uIu3gC82mlM+CXRdftzPaMtB
 GugiNreGXR7E8WyUlb8pn6MY8TqFPcYEP9Pl63yVpuSNSzuix+2mMFRsGS0yhp57asCJ
 LArNg0VGQsP72bsgPegk8oJea09451yc1X/4XrgaciXgUzCseAu/kH5DZQOEtPjWqXqL
 w/4JFX0MIRz3RWGmRuGzUJjcX0qb8y3rJju8TKP/bqxVkKENLP3mUiHIPXgokL1hpWY2
 aK6w==
X-Gm-Message-State: AO0yUKXm3AZLWZa8ywF7/z6/+m1DmnMnQ9ebrcimwQ1AfFqj4D0SKAZQ
 zzpWtaetFVi+YlVnzPQyRrS9jYAvND7uSLkIKHW/0tofK1NqDY2MNS5BSg==
X-Google-Smtp-Source: AK7set+wOmo1DaQJU2hVulCpzBFvcMkMNLujm+C/7tGDjlTnydn6evl4Uv7+xRwOaehi7F+oeG6KGS+GZtpC
X-Received: by 2002:a17:903:4d:b0:19a:bbd0:c5cc with SMTP id
 l13-20020a170903004d00b0019abbd0c5ccmr107313pla.60.1678899726770; 
 Wed, 15 Mar 2023 10:02:06 -0700 (PDT)
Received: from postal.iol.unh.edu (postal.iol.unh.edu. [132.177.123.84])
 by smtp-relay.gmail.com with ESMTPS id
 kl6-20020a170903074600b0019d1aa5f62esm207179plb.20.2023.03.15.10.02.06
 (version=TLS1_2 cipher=ECDHE-ECDSA-AES128-GCM-SHA256 bits=128/128);
 Wed, 15 Mar 2023 10:02:06 -0700 (PDT)
X-Relaying-Domain: iol.unh.edu
Received: from dpdk-ubuntu.dpdklab.iol.unh.edu (unknown
 [IPv6:2606:4100:3880:1722::210])
 by postal.iol.unh.edu (Postfix) with ESMTP id 44343605246B;
 Wed, 15 Mar 2023 13:02:06 -0400 (EDT)
Received: from dpdk-ubuntu-2.dpdklab.iol.unh.edu (localhost [IPv6:::1])
 by dpdk-ubuntu.dpdklab.iol.unh.edu (Postfix) with ESMTP id 435CE6011D;
 Wed, 15 Mar 2023 17:02:06 +0000 (UTC)
Subject: |SUCCESS| pw125096 [PATCH] app/testpmd: support dump ethdev private
 cmd
From: dpdklab@iol.unh.edu
To: Test Report <test-report@dpdk.org>
Cc: dpdklab@iol.unh.edu, David Marchand <david.marchand@redhat.com>,
 Thomas Monjalon <thomas@monjalon.net>
Content-Type: text/plain
Message-Id: <20230315170206.435CE6011D@dpdk-ubuntu.dpdklab.iol.unh.edu>
Date: Wed, 15 Mar 2023 17:02:06 +0000 (UTC)
X-BeenThere: test-report@dpdk.org
X-Mailman-Version: 2.1.29
Precedence: list
List-Id: automatic DPDK test reports <test-report.dpdk.org>
List-Unsubscribe: <https://mails.dpdk.org/options/test-report>,
 <mailto:test-report-request@dpdk.org?subject=unsubscribe>
List-Archive: <http://mails.dpdk.org/archives/test-report/>
List-Post: <mailto:test-report@dpdk.org>
List-Help: <mailto:test-report-request@dpdk.org?subject=help>
List-Subscribe: <https://mails.dpdk.org/listinfo/test-report>,
 <mailto:test-report-request@dpdk.org?subject=subscribe>
Errors-To: test-report-bounces@dpdk.org

Test-Label: iol-x86_64-unit-testing
Test-Status: SUCCESS
http://dpdk.org/patch/125096

_Testing PASS_

Submitter: Chengwen Feng <fengchengwen@huawei.com>
Date: Tuesday, March 14 2023 11:50:35 
DPDK git baseline: Repo:dpdk
  Branch: master
  CommitID:baf13c3135d0c5998fff7edc23fb89412dc89246

125096 --> testing pass

Test environment and result as below:

+---------------------+----------------+
|     Environment     | dpdk_unit_test |
+=====================+================+
| Windows Server 2019 | PASS           |
+---------------------+----------------+
| openSUSE Leap 15    | PASS           |
+---------------------+----------------+
| Debian Bullseye     | PASS           |
+---------------------+----------------+
| Ubuntu 22.04        | PASS           |
+---------------------+----------------+
| CentOS Stream 8     | PASS           |
+---------------------+----------------+
| RHEL 7              | PASS           |
+---------------------+----------------+
| CentOS Stream 9     | PASS           |
+---------------------+----------------+
| Debian Buster       | PASS           |
+---------------------+----------------+
| RHEL8               | PASS           |
+---------------------+----------------+
| Ubuntu 20.04        | PASS           |
+---------------------+----------------+


Windows Server 2019
	Kernel: 10.0
	Compiler: clang 14.0 and gcc 8.1.0 (MinGW)

openSUSE Leap 15
	Kernel: 4.18.0-240.10.1.el8_3.x86_64
	Compiler: gcc 7.5.0

Debian Bullseye
	Kernel: 5.4.0-122-generic
	Compiler: gcc 10.2.1-6

Ubuntu 22.04
	Kernel: Container Host Kernel
	Compiler: clang 14.0.5-1.fc36

CentOS Stream 8
	Kernel: 4.18.0-240.10.1.el8_3.x86_64
	Compiler: gcc 8.4.1 20200928

RHEL 7
	Kernel: 4.18.0-240.10.1.el8_3.x86_64
	Compiler: gcc 4.8.5 20150623 (Red Hat 4.8.5-44)

CentOS Stream 9
	Kernel: 4.18.0-240.10.1.el8_3.x86_64
	Compiler: gcc 11.3.1 20220421

Debian Buster
	Kernel: 5.4.0-122-generic
	Compiler: gcc 8.3.0-6

RHEL8
	Kernel: 4.18.0-240.10.1.el8_3.x86_64
	Compiler: gcc 8.3.1 20191121 (Red Hat 8.3.1-5)

Ubuntu 20.04
	Kernel: 4.18.0-240.10.1.el8_3.x86_64
	Compiler: gcc 9.3.0-17ubuntu1~20.04

To view detailed results, visit:
https://lab.dpdk.org/results/dashboard/patchsets/25727/

UNH-IOL DPDK Community Lab

To manage your email subscriptions, visit: 
https://lab.dpdk.org/results/dashboard/preferences/subscriptions/