From: dpdklab@iol.unh.edu
To: Test Report <test-report@dpdk.org>
Cc: dpdk-test-reports@iol.unh.edu,
David Marchand <david.marchand@redhat.com>,
Thomas Monjalon <thomas@monjalon.net>
Subject: |SUCCESS| pw125099-125102 [PATCH] [5/5] net/sfc: fix segment fault when parse devargs
Date: Wed, 15 Mar 2023 18:23:14 +0000 (UTC) [thread overview]
Message-ID: <20230315182314.2F5D86011D@dpdk-ubuntu.dpdklab.iol.unh.edu> (raw)
Test-Label: iol-testing
Test-Status: SUCCESS
http://dpdk.org/patch/125102
_Testing PASS_
Submitter: Chengwen Feng <fengchengwen@huawei.com>
Date: Tuesday, March 14 2023 12:48:13
DPDK git baseline: Repo:dpdk
Branch: master
CommitID:baf13c3135d0c5998fff7edc23fb89412dc89246
125099-125102 --> testing pass
Test environment and result as below:
+--------------------------------------+----------------+--------------------+----------------------+
| Environment | dpdk_unit_test | dpdk_meson_compile | dpdk_mingw64_compile |
+======================================+================+====================+======================+
| Ubuntu 20.04 ARM Clang Native | PASS | PASS | SKIPPED |
+--------------------------------------+----------------+--------------------+----------------------+
| Ubuntu 20.04 ARM GCC Native | PASS | PASS | SKIPPED |
+--------------------------------------+----------------+--------------------+----------------------+
| Windows Server 2019 | PASS | PASS | PASS |
+--------------------------------------+----------------+--------------------+----------------------+
| Ubuntu 22.04 | PASS | PASS | SKIPPED |
+--------------------------------------+----------------+--------------------+----------------------+
| openSUSE Leap 15 | PASS | PASS | SKIPPED |
+--------------------------------------+----------------+--------------------+----------------------+
| Debian Bullseye | PASS | PASS | SKIPPED |
+--------------------------------------+----------------+--------------------+----------------------+
| CentOS Stream 8 | PASS | PASS | SKIPPED |
+--------------------------------------+----------------+--------------------+----------------------+
| RHEL 7 | PASS | PASS | SKIPPED |
+--------------------------------------+----------------+--------------------+----------------------+
| Debian Buster | PASS | PASS | SKIPPED |
+--------------------------------------+----------------+--------------------+----------------------+
| CentOS Stream 9 | PASS | PASS | SKIPPED |
+--------------------------------------+----------------+--------------------+----------------------+
| FreeBSD 13 | SKIPPED | PASS | SKIPPED |
+--------------------------------------+----------------+--------------------+----------------------+
| Ubuntu 20.04 | SKIPPED | PASS | SKIPPED |
+--------------------------------------+----------------+--------------------+----------------------+
| RHEL8 | SKIPPED | PASS | SKIPPED |
+--------------------------------------+----------------+--------------------+----------------------+
| Ubuntu 20.04 ARM Clang Cross Compile | SKIPPED | PASS | SKIPPED |
+--------------------------------------+----------------+--------------------+----------------------+
| Ubuntu 20.04 ARM SVE | SKIPPED | PASS | SKIPPED |
+--------------------------------------+----------------+--------------------+----------------------+
Ubuntu 20.04 ARM Clang Native
Kernel: 5.4.0-53-generic
Compiler: clang 10.0.0-4ubuntu1
Ubuntu 20.04 ARM GCC Native
Kernel: 5.4.0-53-generic
Compiler: gcc 9.3
Windows Server 2019
Kernel: 10.0
Compiler: clang 14.0 and gcc 8.1.0 (MinGW)
Ubuntu 22.04
Kernel: Container Host Kernel
Compiler: gcc 12.2.1-2
openSUSE Leap 15
Kernel: 4.18.0-240.10.1.el8_3.x86_64
Compiler: gcc 7.5.0
Debian Bullseye
Kernel: 5.4.0-122-generic
Compiler: gcc 10.2.1-6
CentOS Stream 8
Kernel: 4.18.0-240.10.1.el8_3.x86_64
Compiler: gcc 8.4.1 20200928
RHEL 7
Kernel: 4.18.0-240.10.1.el8_3.x86_64
Compiler: gcc 4.8.5 20150623 (Red Hat 4.8.5-44)
Debian Buster
Kernel: 5.4.0-122-generic
Compiler: gcc 8.3.0-6
CentOS Stream 9
Kernel: 4.18.0-240.10.1.el8_3.x86_64
Compiler: gcc 11.3.1 20220421
FreeBSD 13
Kernel: 13.0
Compiler: clang 11.0.1
Ubuntu 20.04
Kernel: 4.18.0-240.10.1.el8_3.x86_64
Compiler: gcc 9.3.0-17ubuntu1~20.04
RHEL8
Kernel: 4.18.0-240.10.1.el8_3.x86_64
Compiler: gcc 8.3.1 20191121 (Red Hat 8.3.1-5)
Ubuntu 20.04 ARM Clang Cross Compile
Kernel: 5.4.0-72-generic
Compiler: clang version 10.0.0-4ubuntu1
Ubuntu 20.04 ARM SVE
Kernel: 5.4.0-80-generic
Compiler: gcc 10.3.0 (Ubuntu 10.3.0-1ubuntu1~20.04)
To view detailed results, visit:
https://lab.dpdk.org/results/dashboard/patchsets/25728/
UNH-IOL DPDK Community Lab
To manage your email subscriptions, visit:
https://lab.dpdk.org/results/dashboard/preferences/subscriptions/
next reply other threads:[~2023-03-15 18:23 UTC|newest]
Thread overview: 33+ messages / expand[flat|nested] mbox.gz Atom feed top
2023-03-15 18:23 dpdklab [this message]
-- strict thread matches above, loose matches on Subject: below --
2023-03-16 14:52 dpdklab
2023-03-15 18:49 dpdklab
2023-03-15 18:49 dpdklab
2023-03-15 18:42 dpdklab
2023-03-15 18:40 dpdklab
2023-03-15 18:35 dpdklab
2023-03-15 18:25 dpdklab
2023-03-15 18:24 dpdklab
2023-03-15 18:14 dpdklab
2023-03-15 18:05 dpdklab
2023-03-15 18:05 dpdklab
2023-03-15 17:53 dpdklab
2023-03-15 17:52 dpdklab
2023-03-15 17:49 dpdklab
[not found] <20230314124813.39521-6-fengchengwen@huawei.com>
2023-03-15 0:47 ` |SUCCESS| pw125099-125102 [PATCH 5/5] " qemudev
2023-03-15 0:47 ` qemudev
2023-03-14 23:42 |SUCCESS| pw125099-125102 [PATCH] [5/5] " dpdklab
2023-03-14 23:29 dpdklab
2023-03-14 17:38 dpdklab
2023-03-14 15:55 dpdklab
2023-03-14 15:51 dpdklab
2023-03-14 15:47 dpdklab
2023-03-14 15:42 dpdklab
2023-03-14 15:40 dpdklab
2023-03-14 15:38 dpdklab
2023-03-14 15:36 dpdklab
2023-03-14 15:35 dpdklab
2023-03-14 15:32 dpdklab
2023-03-14 15:30 dpdklab
2023-03-14 15:29 dpdklab
2023-03-14 15:26 dpdklab
2023-03-14 15:23 dpdklab
Reply instructions:
You may reply publicly to this message via plain-text email
using any one of the following methods:
* Save the following mbox file, import it into your mail client,
and reply-to-all from there: mbox
Avoid top-posting and favor interleaved quoting:
https://en.wikipedia.org/wiki/Posting_style#Interleaved_style
* Reply using the --to, --cc, and --in-reply-to
switches of git-send-email(1):
git send-email \
--in-reply-to=20230315182314.2F5D86011D@dpdk-ubuntu.dpdklab.iol.unh.edu \
--to=dpdklab@iol.unh.edu \
--cc=david.marchand@redhat.com \
--cc=dpdk-test-reports@iol.unh.edu \
--cc=test-report@dpdk.org \
--cc=thomas@monjalon.net \
/path/to/YOUR_REPLY
https://kernel.org/pub/software/scm/git/docs/git-send-email.html
* If your mail client supports setting the In-Reply-To header
via mailto: links, try the mailto: link
Be sure your reply has a Subject: header at the top and a blank line
before the message body.
This is a public inbox, see mirroring instructions
for how to clone and mirror all data and code used for this inbox;
as well as URLs for NNTP newsgroup(s).