From: dpdklab@iol.unh.edu
To: Test Report <test-report@dpdk.org>
Cc: dpdk-test-reports@iol.unh.edu,
David Marchand <david.marchand@redhat.com>,
Thomas Monjalon <thomas@monjalon.net>
Subject: |SUCCESS| pw125113 [PATCH] doc: announce deprecation of cmdline_poll
Date: Thu, 16 Mar 2023 03:02:59 +0000 (UTC) [thread overview]
Message-ID: <20230316030259.51B8C6011D@dpdk-ubuntu.dpdklab.iol.unh.edu> (raw)
Test-Label: iol-testing
Test-Status: SUCCESS
http://dpdk.org/patch/125113
_Testing PASS_
Submitter: Stephen Hemminger <stephen@networkplumber.org>
Date: Tuesday, March 14 2023 17:18:58
DPDK git baseline: Repo:dpdk
Branch: master
CommitID:baf13c3135d0c5998fff7edc23fb89412dc89246
125113 --> testing pass
Test environment and result as below:
+----------------------------------------+----------------+--------------------+----------------------+
| Environment | dpdk_unit_test | dpdk_meson_compile | dpdk_mingw64_compile |
+========================================+================+====================+======================+
| Ubuntu 20.04 ARM GCC Native | PASS | PASS | SKIPPED |
+----------------------------------------+----------------+--------------------+----------------------+
| Ubuntu 20.04 ARM Clang Native | PASS | PASS | SKIPPED |
+----------------------------------------+----------------+--------------------+----------------------+
| Windows Server 2019 | PASS | PASS | PASS |
+----------------------------------------+----------------+--------------------+----------------------+
| CentOS Stream 8 | PASS | PASS | SKIPPED |
+----------------------------------------+----------------+--------------------+----------------------+
| FreeBSD 13 | SKIPPED | PASS | SKIPPED |
+----------------------------------------+----------------+--------------------+----------------------+
| Ubuntu 22.04 | SKIPPED | PASS | SKIPPED |
+----------------------------------------+----------------+--------------------+----------------------+
| RHEL 7 | SKIPPED | PASS | SKIPPED |
+----------------------------------------+----------------+--------------------+----------------------+
| openSUSE Leap 15 | SKIPPED | PASS | SKIPPED |
+----------------------------------------+----------------+--------------------+----------------------+
| Debian Bullseye | SKIPPED | PASS | SKIPPED |
+----------------------------------------+----------------+--------------------+----------------------+
| CentOS Stream 9 | SKIPPED | PASS | SKIPPED |
+----------------------------------------+----------------+--------------------+----------------------+
| Debian Buster | SKIPPED | PASS | SKIPPED |
+----------------------------------------+----------------+--------------------+----------------------+
| RHEL8 | SKIPPED | PASS | SKIPPED |
+----------------------------------------+----------------+--------------------+----------------------+
| Ubuntu 20.04 | SKIPPED | PASS | SKIPPED |
+----------------------------------------+----------------+--------------------+----------------------+
| Ubuntu 20.04 ARM GCC Cross Compile | SKIPPED | PASS | SKIPPED |
+----------------------------------------+----------------+--------------------+----------------------+
| Ubuntu 20.04 ARM Clang Cross Compile | SKIPPED | PASS | SKIPPED |
+----------------------------------------+----------------+--------------------+----------------------+
| Ubuntu 20.04 aarch32 GCC Cross Compile | SKIPPED | PASS | SKIPPED |
+----------------------------------------+----------------+--------------------+----------------------+
| Ubuntu 20.04 ARM SVE | SKIPPED | PASS | SKIPPED |
+----------------------------------------+----------------+--------------------+----------------------+
Ubuntu 20.04 ARM GCC Native
Kernel: 5.4.0-53-generic
Compiler: gcc 9.3
Ubuntu 20.04 ARM Clang Native
Kernel: 5.4.0-53-generic
Compiler: clang 10.0.0-4ubuntu1
Windows Server 2019
Kernel: 10.0
Compiler: clang 14.0 and gcc 8.1.0 (MinGW)
CentOS Stream 8
Kernel: 4.18.0-240.10.1.el8_3.x86_64
Compiler: gcc 8.4.1 20200928
FreeBSD 13
Kernel: 13.0
Compiler: clang 11.0.1
Ubuntu 22.04
Kernel: 4.18.0-240.10.1.el8_3.x86_64
Compiler: gcc 11.3.0
RHEL 7
Kernel: 4.18.0-240.10.1.el8_3.x86_64
Compiler: gcc 4.8.5 20150623 (Red Hat 4.8.5-44)
openSUSE Leap 15
Kernel: 4.18.0-240.10.1.el8_3.x86_64
Compiler: gcc 7.5.0
Debian Bullseye
Kernel: 5.4.0-122-generic
Compiler: gcc 10.2.1-6
CentOS Stream 9
Kernel: 4.18.0-240.10.1.el8_3.x86_64
Compiler: gcc 11.3.1 20220421
Debian Buster
Kernel: 5.4.0-122-generic
Compiler: gcc 8.3.0-6
RHEL8
Kernel: 4.18.0-240.10.1.el8_3.x86_64
Compiler: gcc 8.3.1 20191121 (Red Hat 8.3.1-5)
Ubuntu 20.04
Kernel: 4.18.0-240.10.1.el8_3.x86_64
Compiler: gcc 9.3.0-17ubuntu1~20.04
Ubuntu 20.04 ARM GCC Cross Compile
Kernel: 5.4.0-72-generic
Compiler: aarch64-linux-gnu-gcc (Ubuntu 9.3.0-17ubuntu1~20.04) 9.3.0
Ubuntu 20.04 ARM Clang Cross Compile
Kernel: 5.4.0-72-generic
Compiler: clang version 10.0.0-4ubuntu1
Ubuntu 20.04 aarch32 GCC Cross Compile
Kernel: 5.4.0-72-generic
Compiler: gcc 9.3.0
Ubuntu 20.04 ARM SVE
Kernel: 5.4.0-80-generic
Compiler: gcc 10.3.0 (Ubuntu 10.3.0-1ubuntu1~20.04)
To view detailed results, visit:
https://lab.dpdk.org/results/dashboard/patchsets/25734/
UNH-IOL DPDK Community Lab
To manage your email subscriptions, visit:
https://lab.dpdk.org/results/dashboard/preferences/subscriptions/
next reply other threads:[~2023-03-16 3:03 UTC|newest]
Thread overview: 33+ messages / expand[flat|nested] mbox.gz Atom feed top
2023-03-16 3:02 dpdklab [this message]
-- strict thread matches above, loose matches on Subject: below --
2023-03-16 22:37 dpdklab
2023-03-16 3:50 dpdklab
2023-03-16 3:49 dpdklab
2023-03-16 3:47 dpdklab
2023-03-16 3:36 dpdklab
2023-03-16 3:35 dpdklab
2023-03-16 3:31 dpdklab
2023-03-16 3:26 dpdklab
2023-03-16 3:19 dpdklab
2023-03-16 3:15 dpdklab
2023-03-16 3:11 dpdklab
2023-03-16 3:05 dpdklab
2023-03-16 2:04 dpdklab
2023-03-15 2:26 dpdklab
2023-03-15 2:21 dpdklab
2023-03-14 21:10 dpdklab
2023-03-14 19:48 dpdklab
[not found] <20230314171858.67446-1-stephen@networkplumber.org>
2023-03-14 17:08 ` qemudev
2023-03-14 17:12 ` qemudev
2023-03-14 19:39 ` 0-day Robot
2023-03-14 19:35 dpdklab
2023-03-14 19:32 dpdklab
2023-03-14 19:22 dpdklab
2023-03-14 19:16 dpdklab
2023-03-14 19:15 dpdklab
2023-03-14 19:15 dpdklab
2023-03-14 19:12 dpdklab
2023-03-14 19:03 dpdklab
2023-03-14 19:02 dpdklab
2023-03-14 19:02 dpdklab
2023-03-14 18:56 dpdklab
2023-03-14 18:50 dpdklab
Reply instructions:
You may reply publicly to this message via plain-text email
using any one of the following methods:
* Save the following mbox file, import it into your mail client,
and reply-to-all from there: mbox
Avoid top-posting and favor interleaved quoting:
https://en.wikipedia.org/wiki/Posting_style#Interleaved_style
* Reply using the --to, --cc, and --in-reply-to
switches of git-send-email(1):
git send-email \
--in-reply-to=20230316030259.51B8C6011D@dpdk-ubuntu.dpdklab.iol.unh.edu \
--to=dpdklab@iol.unh.edu \
--cc=david.marchand@redhat.com \
--cc=dpdk-test-reports@iol.unh.edu \
--cc=test-report@dpdk.org \
--cc=thomas@monjalon.net \
/path/to/YOUR_REPLY
https://kernel.org/pub/software/scm/git/docs/git-send-email.html
* If your mail client supports setting the In-Reply-To header
via mailto: links, try the mailto: link
Be sure your reply has a Subject: header at the top and a blank line
before the message body.
This is a public inbox, see mirroring instructions
for how to clone and mirror all data and code used for this inbox;
as well as URLs for NNTP newsgroup(s).