From mboxrd@z Thu Jan  1 00:00:00 1970
Return-Path: <test-report-bounces@dpdk.org>
Received: from mails.dpdk.org (mails.dpdk.org [217.70.189.124])
	by inbox.dpdk.org (Postfix) with ESMTP id A787341EB1
	for <public@inbox.dpdk.org>; Thu, 16 Mar 2023 15:04:19 +0100 (CET)
Received: from mails.dpdk.org (localhost [127.0.0.1])
	by mails.dpdk.org (Postfix) with ESMTP id 8650440A89;
	Thu, 16 Mar 2023 15:04:19 +0100 (CET)
Received: from mail-oa1-f97.google.com (mail-oa1-f97.google.com
 [209.85.160.97]) by mails.dpdk.org (Postfix) with ESMTP id D2E8240A89
 for <test-report@dpdk.org>; Thu, 16 Mar 2023 15:04:17 +0100 (CET)
Received: by mail-oa1-f97.google.com with SMTP id
 586e51a60fabf-17aaa51a911so2281781fac.5
 for <test-report@dpdk.org>; Thu, 16 Mar 2023 07:04:17 -0700 (PDT)
DKIM-Signature: v=1; a=rsa-sha256; c=relaxed/relaxed;
 d=iol.unh.edu; s=unh-iol; t=1678975457;
 h=date:message-id:cc:to:from:subject:from:to:cc:subject:date
 :message-id:reply-to;
 bh=Xkm8qNg2qgPliCROrvaXjMtPlTeR3TMZBvy//JiWQ2Q=;
 b=SsAu273+X8A+zQ7THv8vNNRDbCYv474IaVXICAs13MAvKIvOrY/HzS3XDL7c96jlHA
 tpeiLKpRTEOurDBFAW76jN7cfo1dFNY8xWh0Z4CgFUN8ZBJV1oODuJxXWHMCI4m4/AqT
 TqoDHH8tgTjlW4TUwlv79tZLcSmrb6LLPs3OE=
X-Google-DKIM-Signature: v=1; a=rsa-sha256; c=relaxed/relaxed;
 d=1e100.net; s=20210112; t=1678975457;
 h=date:message-id:cc:to:from:subject:x-gm-message-state:from:to:cc
 :subject:date:message-id:reply-to;
 bh=Xkm8qNg2qgPliCROrvaXjMtPlTeR3TMZBvy//JiWQ2Q=;
 b=7+qrIZ8JAR+UNxDUfu0IypLhAD4/hrmyc+6YiBV+ECJ+P7JTed4S4JafGiCnk5Vr4N
 xaZehbwpwB/eFuCh2bHORCM8h9bxCIeVzJj/0MuLbU2oRZ5Dvb/8fQsg2BDVw4a4JYEu
 igGPQ8IdVXSDuv1JPw14BYj1kVKdq89IHH6hNaXxlUIMASsHjaPFVVMd3C/aVTol6vGH
 uHvf2D/vEUkrkVnQKFHwkK8ygm++i7YT5BUDwPQBAVLNUJtyp/xalj3X8Aae2gkwQSoj
 xBoe3c1SCDzeNLD++Q50JRpNW7OxA+K1vGfoUx/hK3e5f3J+nwYwtZx8B/OziwIWIRyO
 9eeA==
X-Gm-Message-State: AO0yUKV200R9whDflBGriL41bxi+BDSCHue3lNySsggJV6Ss/IEdQHif
 +WlGPvwzVRwEbZSw95ebyNpnw44Enwz/2geq/Gej0loN2jWJWy/WguH1RQ==
X-Google-Smtp-Source: AK7set+BvCPUrPe9BwWdsUEPd/4XFwFOqHzIsCBTrWj6KAi7XsNAU5lr7qH24HrzVmAhQQvkblDMQ87QWF7C
X-Received: by 2002:a05:6870:ea9b:b0:172:289b:93c5 with SMTP id
 s27-20020a056870ea9b00b00172289b93c5mr11161279oap.0.1678975457053; 
 Thu, 16 Mar 2023 07:04:17 -0700 (PDT)
Received: from postal.iol.unh.edu (postal.iol.unh.edu. [132.177.123.84])
 by smtp-relay.gmail.com with ESMTPS id
 zd40-20020a05687127a800b00172899e4e7dsm128265oab.29.2023.03.16.07.04.16
 (version=TLS1_2 cipher=ECDHE-ECDSA-AES128-GCM-SHA256 bits=128/128);
 Thu, 16 Mar 2023 07:04:17 -0700 (PDT)
X-Relaying-Domain: iol.unh.edu
Received: from dpdk-ubuntu.dpdklab.iol.unh.edu (unknown
 [IPv6:2606:4100:3880:1722::210])
 by postal.iol.unh.edu (Postfix) with ESMTP id 86496605246B;
 Thu, 16 Mar 2023 10:04:16 -0400 (EDT)
Received: from dpdk-ubuntu-2.dpdklab.iol.unh.edu (localhost [IPv6:::1])
 by dpdk-ubuntu.dpdklab.iol.unh.edu (Postfix) with ESMTP id 7C1C06011D;
 Thu, 16 Mar 2023 14:04:16 +0000 (UTC)
Subject: |SUCCESS| pw125181 [PATCH] gpudev: export header file for external
 drivers
From: dpdklab@iol.unh.edu
To: Test Report <test-report@dpdk.org>
Cc: dpdklab@iol.unh.edu, David Marchand <david.marchand@redhat.com>,
 Thomas Monjalon <thomas@monjalon.net>
Content-Type: text/plain
Message-Id: <20230316140416.7C1C06011D@dpdk-ubuntu.dpdklab.iol.unh.edu>
Date: Thu, 16 Mar 2023 14:04:16 +0000 (UTC)
X-BeenThere: test-report@dpdk.org
X-Mailman-Version: 2.1.29
Precedence: list
List-Id: automatic DPDK test reports <test-report.dpdk.org>
List-Unsubscribe: <https://mails.dpdk.org/options/test-report>,
 <mailto:test-report-request@dpdk.org?subject=unsubscribe>
List-Archive: <http://mails.dpdk.org/archives/test-report/>
List-Post: <mailto:test-report@dpdk.org>
List-Help: <mailto:test-report-request@dpdk.org?subject=help>
List-Subscribe: <https://mails.dpdk.org/listinfo/test-report>,
 <mailto:test-report-request@dpdk.org?subject=subscribe>
Errors-To: test-report-bounces@dpdk.org

Test-Label: iol-x86_64-compile-testing
Test-Status: SUCCESS
http://dpdk.org/patch/125181

_Testing PASS_

Submitter: Thomas Monjalon <thomas@monjalon.net>
Date: Thursday, March 16 2023 08:59:19 
DPDK git baseline: Repo:dpdk
  Branch: master
  CommitID:8c9bfcb1553d756eb5392a56ac7813b3865c3ec7

125181 --> testing pass

Test environment and result as below:

+------------------+--------------------+
|   Environment    | dpdk_meson_compile |
+==================+====================+
| FreeBSD 13       | PASS               |
+------------------+--------------------+
| Debian Buster    | PASS               |
+------------------+--------------------+
| Debian Bullseye  | PASS               |
+------------------+--------------------+
| Ubuntu 22.04     | PASS               |
+------------------+--------------------+
| CentOS Stream 8  | PASS               |
+------------------+--------------------+
| CentOS Stream 9  | PASS               |
+------------------+--------------------+
| RHEL 7           | PASS               |
+------------------+--------------------+
| RHEL8            | PASS               |
+------------------+--------------------+
| Ubuntu 20.04     | PASS               |
+------------------+--------------------+
| openSUSE Leap 15 | PASS               |
+------------------+--------------------+


FreeBSD 13
	Kernel: 13.0
	Compiler: clang 11.0.1

Debian Buster
	Kernel: 5.4.0-122-generic
	Compiler: gcc 8.3.0-6

Debian Bullseye
	Kernel: 5.4.0-122-generic
	Compiler: gcc 10.2.1-6

Ubuntu 22.04
	Kernel: Container Host Kernel
	Compiler: gcc 11.3.1-2

CentOS Stream 8
	Kernel: 4.18.0-240.10.1.el8_3.x86_64
	Compiler: gcc 8.4.1 20200928

CentOS Stream 9
	Kernel: 4.18.0-240.10.1.el8_3.x86_64
	Compiler: gcc 11.3.1 20220421

RHEL 7
	Kernel: 4.18.0-240.10.1.el8_3.x86_64
	Compiler: gcc 4.8.5 20150623 (Red Hat 4.8.5-44)

RHEL8
	Kernel: 4.18.0-240.10.1.el8_3.x86_64
	Compiler: gcc 8.3.1 20191121 (Red Hat 8.3.1-5)

Ubuntu 20.04
	Kernel: 4.18.0-240.10.1.el8_3.x86_64
	Compiler: gcc 9.3.0-17ubuntu1~20.04

openSUSE Leap 15
	Kernel: 4.18.0-240.10.1.el8_3.x86_64
	Compiler: gcc 7.5.0

To view detailed results, visit:
https://lab.dpdk.org/results/dashboard/patchsets/25757/

UNH-IOL DPDK Community Lab

To manage your email subscriptions, visit: 
https://lab.dpdk.org/results/dashboard/preferences/subscriptions/