From mboxrd@z Thu Jan  1 00:00:00 1970
Return-Path: <test-report-bounces@dpdk.org>
Received: from mails.dpdk.org (mails.dpdk.org [217.70.189.124])
	by inbox.dpdk.org (Postfix) with ESMTP id 6075F41E77
	for <public@inbox.dpdk.org>; Fri, 17 Mar 2023 03:29:09 +0100 (CET)
Received: from mails.dpdk.org (localhost [127.0.0.1])
	by mails.dpdk.org (Postfix) with ESMTP id 5B52640A79;
	Fri, 17 Mar 2023 03:29:09 +0100 (CET)
Received: from mail-il1-f227.google.com (mail-il1-f227.google.com
 [209.85.166.227])
 by mails.dpdk.org (Postfix) with ESMTP id 8C31C40A79
 for <test-report@dpdk.org>; Fri, 17 Mar 2023 03:29:08 +0100 (CET)
Received: by mail-il1-f227.google.com with SMTP id a13so2073602ilr.9
 for <test-report@dpdk.org>; Thu, 16 Mar 2023 19:29:08 -0700 (PDT)
DKIM-Signature: v=1; a=rsa-sha256; c=relaxed/relaxed;
 d=iol.unh.edu; s=unh-iol; t=1679020148;
 h=date:message-id:cc:to:from:subject:from:to:cc:subject:date
 :message-id:reply-to;
 bh=YjR+sNHAoxlNIinW8NjMmBEN1B4b00AvZ0BlNbau5hk=;
 b=WJrOMh8Ekkl1Ylk0hgU91Dbt826gfPrPLoNr0eWrMi1R9Nv4zz2BH25vlrDRsE88Fx
 Ab9cG/jnkmmP6pXmzknj2MlWcXAVOY4JguQelyWmcDMVWlil9CP2YyJ7aLMJ6DJLjRMM
 /OEa81CVM1b4IRfKAH6MOjrszDgcmH8DPjgbo=
X-Google-DKIM-Signature: v=1; a=rsa-sha256; c=relaxed/relaxed;
 d=1e100.net; s=20210112; t=1679020148;
 h=date:message-id:cc:to:from:subject:x-gm-message-state:from:to:cc
 :subject:date:message-id:reply-to;
 bh=YjR+sNHAoxlNIinW8NjMmBEN1B4b00AvZ0BlNbau5hk=;
 b=X5nSg+tAimorvMniUtkv0WAo9JEScweTLVqxXXz1tKKwFFqzExop3Vmqr8vlewEc0N
 /Qr2iVGhfuId4KGpApsBiKRudkO9pMfwsqb/mP9YEwZsCb/3WKcKK5IEIwKK0CfRF7/r
 GPytcq/AUxETjuc5OAFOwBui5OnoXUWpGELKEMZxjSnhdBhEEoyC3Z8v4st7vRLI7WIk
 G/cPSArR7ZcLcaUVzw2NSJsFDYyl3yc0p59bvPcAH4knr0p3ASpBCZkZkwO+GUFmSqXd
 D6kpBLs1iSrdNETgoqPHqGEWMOXnLnEbRXGn7M+AJhV3sGqt6WEbbG5w1xZfyno0f/BY
 3IiQ==
X-Gm-Message-State: AO0yUKUcL2lRGer4d7axe7fn3O1dtSfZuYgyRtKTMDCbVROQWiBmQ/dB
 /WUwqy0x8Z6vXunr6Phxr7tuYYohNkAPK6PQGsUrmbh2Sn7xWZFARpl0KQ==
X-Google-Smtp-Source: AK7set/9fyto3ucim7LUqojaegvvx4zzG8S+WIszjuir7hPDhkHOXbTmRazRleJ+6MXW5jrSC8/PI/rEVqla
X-Received: by 2002:a05:6e02:1310:b0:316:e6e7:c124 with SMTP id
 g16-20020a056e02131000b00316e6e7c124mr9045787ilr.15.1679020148000; 
 Thu, 16 Mar 2023 19:29:08 -0700 (PDT)
Received: from postal.iol.unh.edu (postal.iol.unh.edu. [132.177.123.84])
 by smtp-relay.gmail.com with ESMTPS id
 e93-20020a028666000000b003a961be336esm83645jai.2.2023.03.16.19.29.07
 (version=TLS1_2 cipher=ECDHE-ECDSA-AES128-GCM-SHA256 bits=128/128);
 Thu, 16 Mar 2023 19:29:07 -0700 (PDT)
X-Relaying-Domain: iol.unh.edu
Received: from dpdk-ubuntu.dpdklab.iol.unh.edu (unknown
 [IPv6:2606:4100:3880:1722::210])
 by postal.iol.unh.edu (Postfix) with ESMTP id 9138F605246B;
 Thu, 16 Mar 2023 22:29:07 -0400 (EDT)
Received: from dpdk-ubuntu-2.dpdklab.iol.unh.edu (localhost [IPv6:::1])
 by dpdk-ubuntu.dpdklab.iol.unh.edu (Postfix) with ESMTP id 8F97D6011D;
 Fri, 17 Mar 2023 02:29:07 +0000 (UTC)
Subject: |SUCCESS| pw125197 [PATCH] [v2,
 1/1] test/mbuf: fix mbuf autotest when mbuf debug is enabled
From: dpdklab@iol.unh.edu
To: Test Report <test-report@dpdk.org>
Cc: dpdklab@iol.unh.edu, David Marchand <david.marchand@redhat.com>,
 Thomas Monjalon <thomas@monjalon.net>
Content-Type: text/plain
Message-Id: <20230317022907.8F97D6011D@dpdk-ubuntu.dpdklab.iol.unh.edu>
Date: Fri, 17 Mar 2023 02:29:07 +0000 (UTC)
X-BeenThere: test-report@dpdk.org
X-Mailman-Version: 2.1.29
Precedence: list
List-Id: automatic DPDK test reports <test-report.dpdk.org>
List-Unsubscribe: <https://mails.dpdk.org/options/test-report>,
 <mailto:test-report-request@dpdk.org?subject=unsubscribe>
List-Archive: <http://mails.dpdk.org/archives/test-report/>
List-Post: <mailto:test-report@dpdk.org>
List-Help: <mailto:test-report-request@dpdk.org?subject=help>
List-Subscribe: <https://mails.dpdk.org/listinfo/test-report>,
 <mailto:test-report-request@dpdk.org?subject=subscribe>
Errors-To: test-report-bounces@dpdk.org

Test-Label: iol-aarch64-compile-testing
Test-Status: SUCCESS
http://dpdk.org/patch/125197

_Testing PASS_

Submitter: Pavel Ivashchenko <pivashchenko@nfware.com>
Date: Thursday, March 16 2023 19:14:56 
DPDK git baseline: Repo:dpdk
  Branch: master
  CommitID:8c9bfcb1553d756eb5392a56ac7813b3865c3ec7

125197 --> testing pass

Test environment and result as below:

+----------------------------------------+--------------------+
|              Environment               | dpdk_meson_compile |
+========================================+====================+
| Ubuntu 20.04 ARM GCC Native            | PASS               |
+----------------------------------------+--------------------+
| Ubuntu 20.04 ARM Clang Native          | PASS               |
+----------------------------------------+--------------------+
| Ubuntu 20.04 aarch32 GCC Cross Compile | PASS               |
+----------------------------------------+--------------------+
| Ubuntu 20.04 ARM GCC Cross Compile     | PASS               |
+----------------------------------------+--------------------+
| Ubuntu 20.04 ARM Clang Cross Compile   | PASS               |
+----------------------------------------+--------------------+
| Ubuntu 20.04 ARM SVE                   | PASS               |
+----------------------------------------+--------------------+


Ubuntu 20.04 ARM GCC Native
	Kernel: 5.4.0-53-generic
	Compiler: gcc 9.3

Ubuntu 20.04 ARM Clang Native
	Kernel: 5.4.0-53-generic
	Compiler: clang 10.0.0-4ubuntu1

Ubuntu 20.04 aarch32 GCC Cross Compile
	Kernel: 5.4.0-72-generic
	Compiler: gcc 9.3.0

Ubuntu 20.04 ARM GCC Cross Compile
	Kernel: 5.4.0-72-generic
	Compiler: aarch64-linux-gnu-gcc (Ubuntu 9.3.0-17ubuntu1~20.04) 9.3.0

Ubuntu 20.04 ARM Clang Cross Compile
	Kernel: 5.4.0-72-generic
	Compiler: clang version 10.0.0-4ubuntu1

Ubuntu 20.04 ARM SVE
	Kernel: 5.4.0-80-generic
	Compiler: gcc 10.3.0 (Ubuntu 10.3.0-1ubuntu1~20.04)

To view detailed results, visit:
https://lab.dpdk.org/results/dashboard/patchsets/25770/

UNH-IOL DPDK Community Lab

To manage your email subscriptions, visit: 
https://lab.dpdk.org/results/dashboard/preferences/subscriptions/