From mboxrd@z Thu Jan  1 00:00:00 1970
Return-Path: <test-report-bounces@dpdk.org>
Received: from mails.dpdk.org (mails.dpdk.org [217.70.189.124])
	by inbox.dpdk.org (Postfix) with ESMTP id 23C2241EB6
	for <public@inbox.dpdk.org>; Fri, 17 Mar 2023 07:15:10 +0100 (CET)
Received: from mails.dpdk.org (localhost [127.0.0.1])
	by mails.dpdk.org (Postfix) with ESMTP id 1DC1440A79;
	Fri, 17 Mar 2023 07:15:10 +0100 (CET)
Received: from mail-pj1-f98.google.com (mail-pj1-f98.google.com
 [209.85.216.98]) by mails.dpdk.org (Postfix) with ESMTP id 088CF40A79
 for <test-report@dpdk.org>; Fri, 17 Mar 2023 07:15:09 +0100 (CET)
Received: by mail-pj1-f98.google.com with SMTP id
 om3-20020a17090b3a8300b0023efab0e3bfso7864560pjb.3
 for <test-report@dpdk.org>; Thu, 16 Mar 2023 23:15:08 -0700 (PDT)
DKIM-Signature: v=1; a=rsa-sha256; c=relaxed/relaxed;
 d=iol.unh.edu; s=unh-iol; t=1679033708;
 h=date:message-id:cc:to:from:subject:from:to:cc:subject:date
 :message-id:reply-to;
 bh=FtvkLz/V/Gx6p8IkTZhg1ZikEID3ZbWMQE8FqeEl00o=;
 b=MWmkW8dUaViVh7LFz2TKt5yScvdZvvV2khNs03QxRI34jrYLl8hNwyJWKS95D3XU77
 CcXRV9yde/PuFbN9icBUmOnNSCPf8jrCSxfHOLnGysJan1eKlN+NWi7uLEGbKhHLzbIz
 czVjvzcjZ0sMc13f1UX9DEBJThPgQwRL/8jPI=
X-Google-DKIM-Signature: v=1; a=rsa-sha256; c=relaxed/relaxed;
 d=1e100.net; s=20210112; t=1679033708;
 h=date:message-id:cc:to:from:subject:x-gm-message-state:from:to:cc
 :subject:date:message-id:reply-to;
 bh=FtvkLz/V/Gx6p8IkTZhg1ZikEID3ZbWMQE8FqeEl00o=;
 b=NpcSZQwN96DTyiY2ZVVg9+6X3IL4MXK1dt+Zp97/ycyAB5QwCIbHjlHQzLLstAN2aP
 wiKONbuZITKiHx0Gc3K7HOdLqh2XpG5VvKgnM6MrL2pbjquox6c2goIKou2jNcNcLxiK
 cBvMueG76qf2gWbJs7fGdcAauaw71I1g9FmNrgKPmBwzdN3UdWFeeibCjBEuAZp0j+nL
 ifPuWpBOC4FNKzGU/Kv50ohaO7/31zXBwRBq3mUJCBwAn7l/VcOEkNB/eVdVt7yaXfaK
 KRPPcv4WTyTq38YNAlZxhoP9D27lXDz9wtBWKxESI/uyPbnm2hGLqPlxTMsGNQl4aldC
 hz5w==
X-Gm-Message-State: AO0yUKVBXB6o334yfPwV4xMROFIqIXMq+PO1CA7v6ONZSD1M+1GFtT85
 gO+yNkv//D5xoy5rcYe46ZnJYtpELeRYsfORvBfIogS4Q1863j3dq+AV/Q==
X-Google-Smtp-Source: AK7set/RhG56uoiwgWTHsSsCpwNuivyBDD7DfegqRA662MGEyOqe0qW/wC9cX2j6plFdvkP6Ik+jJux8Jk+L
X-Received: by 2002:a17:902:ce8e:b0:1a1:97b5:c63e with SMTP id
 f14-20020a170902ce8e00b001a197b5c63emr4813475plg.38.1679033708176; 
 Thu, 16 Mar 2023 23:15:08 -0700 (PDT)
Received: from postal.iol.unh.edu (postal.iol.unh.edu. [132.177.123.84])
 by smtp-relay.gmail.com with ESMTPS id
 je14-20020a170903264e00b001a1a82da835sm51688plb.54.2023.03.16.23.15.08
 (version=TLS1_2 cipher=ECDHE-ECDSA-AES128-GCM-SHA256 bits=128/128);
 Thu, 16 Mar 2023 23:15:08 -0700 (PDT)
X-Relaying-Domain: iol.unh.edu
Received: from dpdk-ubuntu.dpdklab.iol.unh.edu (unknown [172.18.0.210])
 by postal.iol.unh.edu (Postfix) with ESMTP id 9B7B4605246B;
 Fri, 17 Mar 2023 02:15:07 -0400 (EDT)
Received: from dpdk-ubuntu-2.dpdklab.iol.unh.edu (localhost [IPv6:::1])
 by dpdk-ubuntu.dpdklab.iol.unh.edu (Postfix) with ESMTP id 9838C6011D;
 Fri, 17 Mar 2023 06:15:07 +0000 (UTC)
Subject: |SUCCESS| pw125223 [PATCH] [v1] net/ipn3ke: fix thread exit issue
From: dpdklab@iol.unh.edu
To: Test Report <test-report@dpdk.org>
Cc: Wei Huang <wei.huang@intel.com>, David Marchand <david.marchand@redhat.com>,
 Thomas Monjalon <thomas@monjalon.net>
Content-Type: text/plain
Message-Id: <20230317061507.9838C6011D@dpdk-ubuntu.dpdklab.iol.unh.edu>
Date: Fri, 17 Mar 2023 06:15:07 +0000 (UTC)
X-BeenThere: test-report@dpdk.org
X-Mailman-Version: 2.1.29
Precedence: list
List-Id: automatic DPDK test reports <test-report.dpdk.org>
List-Unsubscribe: <https://mails.dpdk.org/options/test-report>,
 <mailto:test-report-request@dpdk.org?subject=unsubscribe>
List-Archive: <http://mails.dpdk.org/archives/test-report/>
List-Post: <mailto:test-report@dpdk.org>
List-Help: <mailto:test-report-request@dpdk.org?subject=help>
List-Subscribe: <https://mails.dpdk.org/listinfo/test-report>,
 <mailto:test-report-request@dpdk.org?subject=subscribe>
Errors-To: test-report-bounces@dpdk.org

Test-Label: iol-x86_64-compile-testing
Test-Status: SUCCESS
http://dpdk.org/patch/125223

_Testing PASS_

Submitter: Wei Huang <wei.huang@intel.com>
Date: Thursday, March 16 2023 20:45:06 
DPDK git baseline: Repo:dpdk
  Branch: master
  CommitID:bb1f2f5b181b9d8ea7fb28ca2024914fc57bd823

125223 --> testing pass

Test environment and result as below:

+------------------+--------------------+
|   Environment    | dpdk_meson_compile |
+==================+====================+
| FreeBSD 13       | PASS               |
+------------------+--------------------+
| CentOS Stream 9  | PASS               |
+------------------+--------------------+
| Ubuntu 22.04     | PASS               |
+------------------+--------------------+
| Debian Buster    | PASS               |
+------------------+--------------------+
| CentOS Stream 8  | PASS               |
+------------------+--------------------+
| RHEL 7           | PASS               |
+------------------+--------------------+
| RHEL8            | PASS               |
+------------------+--------------------+
| Ubuntu 20.04     | PASS               |
+------------------+--------------------+
| openSUSE Leap 15 | PASS               |
+------------------+--------------------+
| Debian Bullseye  | PASS               |
+------------------+--------------------+


FreeBSD 13
	Kernel: 13.0
	Compiler: clang 11.0.1

CentOS Stream 9
	Kernel: 4.18.0-240.10.1.el8_3.x86_64
	Compiler: gcc 11.3.1 20220421

Ubuntu 22.04
	Kernel: Container Host Kernel
	Compiler: gcc 11.3.1-2

Debian Buster
	Kernel: 5.4.0-122-generic
	Compiler: gcc 8.3.0-6

CentOS Stream 8
	Kernel: 4.18.0-240.10.1.el8_3.x86_64
	Compiler: gcc 8.4.1 20200928

RHEL 7
	Kernel: 4.18.0-240.10.1.el8_3.x86_64
	Compiler: gcc 4.8.5 20150623 (Red Hat 4.8.5-44)

RHEL8
	Kernel: 4.18.0-240.10.1.el8_3.x86_64
	Compiler: gcc 8.3.1 20191121 (Red Hat 8.3.1-5)

Ubuntu 20.04
	Kernel: 4.18.0-240.10.1.el8_3.x86_64
	Compiler: gcc 9.3.0-17ubuntu1~20.04

openSUSE Leap 15
	Kernel: 4.18.0-240.10.1.el8_3.x86_64
	Compiler: gcc 7.5.0

Debian Bullseye
	Kernel: 5.4.0-122-generic
	Compiler: gcc 10.2.1-6

To view detailed results, visit:
https://lab.dpdk.org/results/dashboard/patchsets/25777/

UNH-IOL DPDK Community Lab

To manage your email subscriptions, visit: 
https://lab.dpdk.org/results/dashboard/preferences/subscriptions/