From mboxrd@z Thu Jan  1 00:00:00 1970
Return-Path: <test-report-bounces@dpdk.org>
Received: from mails.dpdk.org (mails.dpdk.org [217.70.189.124])
	by inbox.dpdk.org (Postfix) with ESMTP id D86EE41EBF
	for <public@inbox.dpdk.org>; Fri, 17 Mar 2023 18:15:38 +0100 (CET)
Received: from mails.dpdk.org (localhost [127.0.0.1])
	by mails.dpdk.org (Postfix) with ESMTP id BA20E40395;
	Fri, 17 Mar 2023 18:15:38 +0100 (CET)
Received: from mail-vs1-f99.google.com (mail-vs1-f99.google.com
 [209.85.217.99]) by mails.dpdk.org (Postfix) with ESMTP id E3A5F40395
 for <test-report@dpdk.org>; Fri, 17 Mar 2023 18:15:37 +0100 (CET)
Received: by mail-vs1-f99.google.com with SMTP id a3so5166724vsi.0
 for <test-report@dpdk.org>; Fri, 17 Mar 2023 10:15:37 -0700 (PDT)
DKIM-Signature: v=1; a=rsa-sha256; c=relaxed/relaxed;
 d=iol.unh.edu; s=unh-iol; t=1679073337;
 h=date:message-id:cc:to:from:subject:from:to:cc:subject:date
 :message-id:reply-to;
 bh=r8N0iPeATDGhdSn+aOXyjqypCdknZdS8XVkYuZN6xDI=;
 b=XP8KmTFLqce/hXFf4a5BjUnMJA7RbfqWJKmE6q+kVwmMJPrL0mFPFSvZoJTorAeFPK
 2kKQO7VjDnJNNqRH7e6PQyjv5fSg1wu1ZPNkGUtRLhAEREmhEqqTyyqLhnCH2uCNa7a7
 1DZ+XJ2uoREBUBfwGT/wwjFegH/zdR0ITijl4=
X-Google-DKIM-Signature: v=1; a=rsa-sha256; c=relaxed/relaxed;
 d=1e100.net; s=20210112; t=1679073337;
 h=date:message-id:cc:to:from:subject:x-gm-message-state:from:to:cc
 :subject:date:message-id:reply-to;
 bh=r8N0iPeATDGhdSn+aOXyjqypCdknZdS8XVkYuZN6xDI=;
 b=TNDiRVD7ONNbyfnim18mziY00iBKI7eQCTfJp3UICUdQ+jpI2ZaRAW/Hqe2UJZWo6y
 mwvB0J25yOu31hLSbLP8FkEmC3UFBjOAKA9fos7dqwADnkZBL3q4kRASxnAx6B1R5IEA
 LDP//5Pdwo+Fxx/vwKNL5YLBIZPKnkJ2A7kye/pn9gv7BQ5tP9bydsThST5WDc1nF1EC
 0Z4n6G0E0i865lDPNeIxTKq9YFI6CUrYEsvYFaA5wDSgNYl4kQHNx9RsPIRyq7z9sEuv
 nWUZNCjDa3XLThQDU8y+F0UtHaaqm8V0XvPDhStsknYK+j01X+R7EJOWlM+qYyZREVC9
 GHkQ==
X-Gm-Message-State: AO0yUKUAlStNdvrKePO+oB4FDrQcqskIe7pIlHXsu7XG2/BSsGMvQ+Gq
 uoP3QX8lp6nRmOZirGBPxpwrNinhia6y8yAdF2Y/DCr+3Wc4I25uwT8wVPPVNBNrOeI38xLEsA=
 =
X-Google-Smtp-Source: AK7set+No81zugR/1wsS4yvNtqoEDa8ym8aln1b1Mpwey9N+Kjp97UEtKoaGLESPhJgPiERNEtTPd1Lc9aDZ
X-Received: by 2002:a05:6102:316c:b0:425:d5aa:fba6 with SMTP id
 l12-20020a056102316c00b00425d5aafba6mr464260vsm.31.1679073337264; 
 Fri, 17 Mar 2023 10:15:37 -0700 (PDT)
Received: from postal.iol.unh.edu (postal.iol.unh.edu.
 [2606:4100:3880:1234::84]) by smtp-relay.gmail.com with ESMTPS id
 y46-20020ab048f1000000b0074e2c254921sm237320uac.19.2023.03.17.10.15.37
 (version=TLS1_2 cipher=ECDHE-ECDSA-AES128-GCM-SHA256 bits=128/128);
 Fri, 17 Mar 2023 10:15:37 -0700 (PDT)
X-Relaying-Domain: iol.unh.edu
Received: from dpdk-ubuntu.dpdklab.iol.unh.edu (unknown [172.18.0.210])
 by postal.iol.unh.edu (Postfix) with ESMTP id EBED4605246B;
 Fri, 17 Mar 2023 13:15:36 -0400 (EDT)
Received: from dpdk-ubuntu-2.dpdklab.iol.unh.edu (localhost [IPv6:::1])
 by dpdk-ubuntu.dpdklab.iol.unh.edu (Postfix) with ESMTP id E9D346011D;
 Fri, 17 Mar 2023 17:15:36 +0000 (UTC)
Subject: |SUCCESS| pw125134 [PATCH] [v1] eventdev/timer: use loop to check for
 timeout events
From: dpdklab@iol.unh.edu
To: Test Report <test-report@dpdk.org>
Cc: dpdklab@iol.unh.edu, David Marchand <david.marchand@redhat.com>,
 Thomas Monjalon <thomas@monjalon.net>
Content-Type: text/plain
Message-Id: <20230317171536.E9D346011D@dpdk-ubuntu.dpdklab.iol.unh.edu>
Date: Fri, 17 Mar 2023 17:15:36 +0000 (UTC)
X-BeenThere: test-report@dpdk.org
X-Mailman-Version: 2.1.29
Precedence: list
List-Id: automatic DPDK test reports <test-report.dpdk.org>
List-Unsubscribe: <https://mails.dpdk.org/options/test-report>,
 <mailto:test-report-request@dpdk.org?subject=unsubscribe>
List-Archive: <http://mails.dpdk.org/archives/test-report/>
List-Post: <mailto:test-report@dpdk.org>
List-Help: <mailto:test-report-request@dpdk.org?subject=help>
List-Subscribe: <https://mails.dpdk.org/listinfo/test-report>,
 <mailto:test-report-request@dpdk.org?subject=subscribe>
Errors-To: test-report-bounces@dpdk.org

Test-Label: iol-testing
Test-Status: SUCCESS
http://dpdk.org/patch/125134

_Testing PASS_

Submitter: Shijith Thotton <sthotton@marvell.com>
Date: Wednesday, March 15 2023 08:00:42 
DPDK git baseline: Repo:dpdk
  Branch: master
  CommitID:baf13c3135d0c5998fff7edc23fb89412dc89246

125134 --> testing pass

Test environment and result as below:

+----------------------------------------+--------------------+----------------------+----------------+
|              Environment               | dpdk_meson_compile | dpdk_mingw64_compile | dpdk_unit_test |
+========================================+====================+======================+================+
| Ubuntu 20.04 ARM GCC Native            | PASS               | SKIPPED              | PASS           |
+----------------------------------------+--------------------+----------------------+----------------+
| Ubuntu 20.04 ARM Clang Native          | PASS               | SKIPPED              | PASS           |
+----------------------------------------+--------------------+----------------------+----------------+
| Ubuntu 20.04 aarch32 GCC Cross Compile | PASS               | SKIPPED              | SKIPPED        |
+----------------------------------------+--------------------+----------------------+----------------+
| FreeBSD 13                             | PASS               | SKIPPED              | SKIPPED        |
+----------------------------------------+--------------------+----------------------+----------------+
| CentOS Stream 9                        | PASS               | SKIPPED              | PASS           |
+----------------------------------------+--------------------+----------------------+----------------+
| Windows Server 2019                    | PASS               | PASS                 | PASS           |
+----------------------------------------+--------------------+----------------------+----------------+
| Debian Bullseye                        | PASS               | SKIPPED              | PASS           |
+----------------------------------------+--------------------+----------------------+----------------+
| Ubuntu 22.04                           | PASS               | SKIPPED              | PASS           |
+----------------------------------------+--------------------+----------------------+----------------+
| Ubuntu 20.04                           | PASS               | SKIPPED              | PASS           |
+----------------------------------------+--------------------+----------------------+----------------+
| RHEL 7                                 | PASS               | SKIPPED              | PASS           |
+----------------------------------------+--------------------+----------------------+----------------+
| CentOS Stream 8                        | PASS               | SKIPPED              | SKIPPED        |
+----------------------------------------+--------------------+----------------------+----------------+
| Debian Buster                          | PASS               | SKIPPED              | PASS           |
+----------------------------------------+--------------------+----------------------+----------------+
| openSUSE Leap 15                       | PASS               | SKIPPED              | SKIPPED        |
+----------------------------------------+--------------------+----------------------+----------------+
| Ubuntu 20.04 ARM Clang Cross Compile   | PASS               | SKIPPED              | SKIPPED        |
+----------------------------------------+--------------------+----------------------+----------------+
| RHEL8                                  | PASS               | SKIPPED              | SKIPPED        |
+----------------------------------------+--------------------+----------------------+----------------+
| Ubuntu 20.04 ARM GCC Cross Compile     | PASS               | SKIPPED              | SKIPPED        |
+----------------------------------------+--------------------+----------------------+----------------+
| Ubuntu 20.04 ARM SVE                   | PASS               | SKIPPED              | SKIPPED        |
+----------------------------------------+--------------------+----------------------+----------------+


Ubuntu 20.04 ARM GCC Native
	Kernel: 5.4.0-53-generic
	Compiler: gcc 9.3

Ubuntu 20.04 ARM Clang Native
	Kernel: 5.4.0-53-generic
	Compiler: clang 10.0.0-4ubuntu1

Ubuntu 20.04 aarch32 GCC Cross Compile
	Kernel: 5.4.0-72-generic
	Compiler: gcc 9.3.0

FreeBSD 13
	Kernel: 13.0
	Compiler: clang 11.0.1

CentOS Stream 9
	Kernel: 4.18.0-240.10.1.el8_3.x86_64
	Compiler: gcc 11.3.1 20220421

Windows Server 2019
	Kernel: 10.0
	Compiler: clang 14.0 and gcc 8.1.0 (MinGW)

Debian Bullseye
	Kernel: 5.4.0-122-generic
	Compiler: gcc 10.2.1-6

Ubuntu 22.04
	Kernel: Container Host Kernel
	Compiler: gcc 11.3.1-2

Ubuntu 20.04
	Kernel: 4.18.0-240.10.1.el8_3.x86_64
	Compiler: gcc 9.3.0-17ubuntu1~20.04

RHEL 7
	Kernel: 4.18.0-240.10.1.el8_3.x86_64
	Compiler: gcc 4.8.5 20150623 (Red Hat 4.8.5-44)

CentOS Stream 8
	Kernel: 4.18.0-240.10.1.el8_3.x86_64
	Compiler: gcc 8.4.1 20200928

Debian Buster
	Kernel: 5.4.0-122-generic
	Compiler: gcc 8.3.0-6

openSUSE Leap 15
	Kernel: 4.18.0-240.10.1.el8_3.x86_64
	Compiler: gcc 7.5.0

Ubuntu 20.04 ARM Clang Cross Compile
	Kernel: 5.4.0-72-generic
	Compiler: clang version 10.0.0-4ubuntu1

RHEL8
	Kernel: 4.18.0-240.10.1.el8_3.x86_64
	Compiler: gcc 8.3.1 20191121 (Red Hat 8.3.1-5)

Ubuntu 20.04 ARM GCC Cross Compile
	Kernel: 5.4.0-72-generic
	Compiler: aarch64-linux-gnu-gcc (Ubuntu 9.3.0-17ubuntu1~20.04) 9.3.0

Ubuntu 20.04 ARM SVE
	Kernel: 5.4.0-80-generic
	Compiler: gcc 10.3.0 (Ubuntu 10.3.0-1ubuntu1~20.04)

To view detailed results, visit:
https://lab.dpdk.org/results/dashboard/patchsets/25740/

UNH-IOL DPDK Community Lab

To manage your email subscriptions, visit: 
https://lab.dpdk.org/results/dashboard/preferences/subscriptions/