From mboxrd@z Thu Jan  1 00:00:00 1970
Return-Path: <test-report-bounces@dpdk.org>
Received: from mails.dpdk.org (mails.dpdk.org [217.70.189.124])
	by inbox.dpdk.org (Postfix) with ESMTP id BD3D3422AB
	for <public@inbox.dpdk.org>; Sun, 19 Mar 2023 03:18:24 +0100 (CET)
Received: from mails.dpdk.org (localhost [127.0.0.1])
	by mails.dpdk.org (Postfix) with ESMTP id 9551E40687;
	Sun, 19 Mar 2023 03:18:24 +0100 (CET)
Received: from mail-il1-f227.google.com (mail-il1-f227.google.com
 [209.85.166.227])
 by mails.dpdk.org (Postfix) with ESMTP id 3440F40687
 for <test-report@dpdk.org>; Sun, 19 Mar 2023 03:18:23 +0100 (CET)
Received: by mail-il1-f227.google.com with SMTP id r4so4855336ila.2
 for <test-report@dpdk.org>; Sat, 18 Mar 2023 19:18:23 -0700 (PDT)
DKIM-Signature: v=1; a=rsa-sha256; c=relaxed/relaxed;
 d=iol.unh.edu; s=unh-iol; t=1679192302;
 h=date:message-id:cc:to:from:subject:from:to:cc:subject:date
 :message-id:reply-to;
 bh=vXoD8f04kBoW4ouhxcuqKZaolSZeqehqvMMsyWKP5hM=;
 b=SYZgAmNiJ+BqAIXreSLVvHIL35bO6GlvYrfHh9OfeZF4MSQfJGDfTfEduI5du5qYp2
 nY/Pei/mnJLbNAI4fKnReBxXEOZr3N4dOnZwqPZbcQCk1TJXCcDLpIz6kjZ021GqLAse
 x8X1JVOXWOQiGpmL2jtPDrUS4+uye6EOUXkzY=
X-Google-DKIM-Signature: v=1; a=rsa-sha256; c=relaxed/relaxed;
 d=1e100.net; s=20210112; t=1679192302;
 h=date:message-id:cc:to:from:subject:x-gm-message-state:from:to:cc
 :subject:date:message-id:reply-to;
 bh=vXoD8f04kBoW4ouhxcuqKZaolSZeqehqvMMsyWKP5hM=;
 b=Nes2EJxevnzAW+jG7ULBdum7Hb7iAVJRIXoRJ8Cua9Pf1CccnrJbz6x440mucitVrE
 seTptfJ/YfUcpLY2lRkFm2tZz5j8ASC3faS/vbajdM4vNArpwIXIs1hluv1RCF9RF17R
 azOrTq6NCZvGfIsV9bAeMolk8Ce0PfazENEuE2g7IjZ9o/+Tfu+D7cNWDf6odpUVk6q0
 sB84ndd6fa3h7G5tvNqjYCBdj6JU/5SEMTOeuhbhuO5zTGWAi3dGKLfDqDJi7xfodkgn
 CNlRxypY+ZOC/ui4XZ/PUr1HaD9Fz86xL+u74dqNtD0/pwFDuML94//5uEa51DvxwfbX
 mYPQ==
X-Gm-Message-State: AO0yUKVIBZBxALmvG85PWI2hXFEv1frZe7RFOMhN7/34vrEtQ92n3ovZ
 MojsOZpfqOb1zXjgyRE7ALIim9Qv4dwYBtSr8BhPXyoAdmLcaw7uR/5yqA==
X-Google-Smtp-Source: AK7set853J6ukHT1o9vtniPOtNeNiFqJlRdJjoqzzKpGWdEqUV1hUDlqqGI/r8Ov3oQPwy2PASfdCALu0H5s
X-Received: by 2002:a92:50e:0:b0:323:ced:cffe with SMTP id
 q14-20020a92050e000000b003230cedcffemr2778420ile.12.1679192302433; 
 Sat, 18 Mar 2023 19:18:22 -0700 (PDT)
Received: from postal.iol.unh.edu (postal.iol.unh.edu. [132.177.123.84])
 by smtp-relay.gmail.com with ESMTPS id
 186-20020a021dc3000000b00404e83544bbsm933557jaj.32.2023.03.18.19.18.22
 (version=TLS1_2 cipher=ECDHE-ECDSA-AES128-GCM-SHA256 bits=128/128);
 Sat, 18 Mar 2023 19:18:22 -0700 (PDT)
X-Relaying-Domain: iol.unh.edu
Received: from dpdk-ubuntu.dpdklab.iol.unh.edu (unknown
 [IPv6:2606:4100:3880:1722::210])
 by postal.iol.unh.edu (Postfix) with ESMTP id 121FB605246B;
 Sat, 18 Mar 2023 22:18:22 -0400 (EDT)
Received: from dpdk-ubuntu-2.dpdklab.iol.unh.edu (localhost [IPv6:::1])
 by dpdk-ubuntu.dpdklab.iol.unh.edu (Postfix) with ESMTP id 0FAD060217;
 Sun, 19 Mar 2023 02:18:22 +0000 (UTC)
Subject: |SUCCESS| pw125139-125143 [PATCH] [5/5] app/proc-info: support
 querying RSS hash algorithm
From: dpdklab@iol.unh.edu
To: Test Report <test-report@dpdk.org>
Cc: Dongdong Liu <liudongdong3@huawei.com>,
 David Marchand <david.marchand@redhat.com>,
 Thomas Monjalon <thomas@monjalon.net>
Content-Type: text/plain
Message-Id: <20230319021822.0FAD060217@dpdk-ubuntu.dpdklab.iol.unh.edu>
Date: Sun, 19 Mar 2023 02:18:22 +0000 (UTC)
X-BeenThere: test-report@dpdk.org
X-Mailman-Version: 2.1.29
Precedence: list
List-Id: automatic DPDK test reports <test-report.dpdk.org>
List-Unsubscribe: <https://mails.dpdk.org/options/test-report>,
 <mailto:test-report-request@dpdk.org?subject=unsubscribe>
List-Archive: <http://mails.dpdk.org/archives/test-report/>
List-Post: <mailto:test-report@dpdk.org>
List-Help: <mailto:test-report-request@dpdk.org?subject=help>
List-Subscribe: <https://mails.dpdk.org/listinfo/test-report>,
 <mailto:test-report-request@dpdk.org?subject=subscribe>
Errors-To: test-report-bounces@dpdk.org

Test-Label: iol-testing
Test-Status: SUCCESS
http://dpdk.org/patch/125143

_Testing PASS_

Submitter: Dongdong Liu <liudongdong3@huawei.com>
Date: Wednesday, March 15 2023 11:00:33 
DPDK git baseline: Repo:dpdk
  Branch: master
  CommitID:baf13c3135d0c5998fff7edc23fb89412dc89246

125139-125143 --> testing pass

Test environment and result as below:

+----------------------------------------+----------------------+--------------------+----------------+
|              Environment               | dpdk_mingw64_compile | dpdk_meson_compile | dpdk_unit_test |
+========================================+======================+====================+================+
| Windows Server 2019                    | PASS                 | PASS               | PASS           |
+----------------------------------------+----------------------+--------------------+----------------+
| FreeBSD 13                             | SKIPPED              | PASS               | SKIPPED        |
+----------------------------------------+----------------------+--------------------+----------------+
| Ubuntu 20.04 ARM Clang Native          | SKIPPED              | PASS               | PASS           |
+----------------------------------------+----------------------+--------------------+----------------+
| Ubuntu 20.04 ARM GCC Native            | SKIPPED              | PASS               | PASS           |
+----------------------------------------+----------------------+--------------------+----------------+
| RHEL 7                                 | SKIPPED              | PASS               | PASS           |
+----------------------------------------+----------------------+--------------------+----------------+
| Debian Buster                          | SKIPPED              | PASS               | PASS           |
+----------------------------------------+----------------------+--------------------+----------------+
| CentOS Stream 8                        | SKIPPED              | PASS               | PASS           |
+----------------------------------------+----------------------+--------------------+----------------+
| Ubuntu 22.04                           | SKIPPED              | PASS               | PASS           |
+----------------------------------------+----------------------+--------------------+----------------+
| CentOS Stream 9                        | SKIPPED              | PASS               | PASS           |
+----------------------------------------+----------------------+--------------------+----------------+
| Debian Bullseye                        | SKIPPED              | PASS               | PASS           |
+----------------------------------------+----------------------+--------------------+----------------+
| RHEL8                                  | SKIPPED              | PASS               | PASS           |
+----------------------------------------+----------------------+--------------------+----------------+
| openSUSE Leap 15                       | SKIPPED              | PASS               | PASS           |
+----------------------------------------+----------------------+--------------------+----------------+
| Ubuntu 20.04                           | SKIPPED              | PASS               | PASS           |
+----------------------------------------+----------------------+--------------------+----------------+
| Ubuntu 20.04 aarch32 GCC Cross Compile | SKIPPED              | PASS               | SKIPPED        |
+----------------------------------------+----------------------+--------------------+----------------+
| Ubuntu 20.04 ARM Clang Cross Compile   | SKIPPED              | PASS               | SKIPPED        |
+----------------------------------------+----------------------+--------------------+----------------+
| Ubuntu 20.04 ARM GCC Cross Compile     | SKIPPED              | PASS               | SKIPPED        |
+----------------------------------------+----------------------+--------------------+----------------+
| Ubuntu 20.04 ARM SVE                   | SKIPPED              | PASS               | SKIPPED        |
+----------------------------------------+----------------------+--------------------+----------------+


Windows Server 2019
	Kernel: 10.0
	Compiler: clang 14.0 and gcc 8.1.0 (MinGW)

FreeBSD 13
	Kernel: 13.0
	Compiler: clang 11.0.1

Ubuntu 20.04 ARM Clang Native
	Kernel: 5.4.0-53-generic
	Compiler: clang 10.0.0-4ubuntu1

Ubuntu 20.04 ARM GCC Native
	Kernel: 5.4.0-53-generic
	Compiler: gcc 9.3

RHEL 7
	Kernel: 4.18.0-240.10.1.el8_3.x86_64
	Compiler: gcc 4.8.5 20150623 (Red Hat 4.8.5-44)

Debian Buster
	Kernel: 5.4.0-122-generic
	Compiler: gcc 8.3.0-6

CentOS Stream 8
	Kernel: 4.18.0-240.10.1.el8_3.x86_64
	Compiler: gcc 8.4.1 20200928

Ubuntu 22.04
	Kernel: Container Host Kernel
	Compiler: gcc 11.3.1-2

CentOS Stream 9
	Kernel: 4.18.0-240.10.1.el8_3.x86_64
	Compiler: gcc 11.3.1 20220421

Debian Bullseye
	Kernel: 5.4.0-122-generic
	Compiler: gcc 10.2.1-6

RHEL8
	Kernel: 4.18.0-240.10.1.el8_3.x86_64
	Compiler: gcc 8.3.1 20191121 (Red Hat 8.3.1-5)

openSUSE Leap 15
	Kernel: 4.18.0-240.10.1.el8_3.x86_64
	Compiler: gcc 7.5.0

Ubuntu 20.04
	Kernel: 4.18.0-240.10.1.el8_3.x86_64
	Compiler: gcc 9.3.0-17ubuntu1~20.04

Ubuntu 20.04 aarch32 GCC Cross Compile
	Kernel: 5.4.0-72-generic
	Compiler: gcc 9.3.0

Ubuntu 20.04 ARM Clang Cross Compile
	Kernel: 5.4.0-72-generic
	Compiler: clang version 10.0.0-4ubuntu1

Ubuntu 20.04 ARM GCC Cross Compile
	Kernel: 5.4.0-72-generic
	Compiler: aarch64-linux-gnu-gcc (Ubuntu 9.3.0-17ubuntu1~20.04) 9.3.0

Ubuntu 20.04 ARM SVE
	Kernel: 5.4.0-80-generic
	Compiler: gcc 10.3.0 (Ubuntu 10.3.0-1ubuntu1~20.04)

To view detailed results, visit:
https://lab.dpdk.org/results/dashboard/patchsets/25743/

UNH-IOL DPDK Community Lab

To manage your email subscriptions, visit: 
https://lab.dpdk.org/results/dashboard/preferences/subscriptions/