From mboxrd@z Thu Jan 1 00:00:00 1970 Return-Path: Received: from mails.dpdk.org (mails.dpdk.org [217.70.189.124]) by inbox.dpdk.org (Postfix) with ESMTP id B0D5541EC1 for ; Sun, 19 Mar 2023 05:33:26 +0100 (CET) Received: from mails.dpdk.org (localhost [127.0.0.1]) by mails.dpdk.org (Postfix) with ESMTP id ACE9140687; Sun, 19 Mar 2023 05:33:26 +0100 (CET) Received: from mail-pl1-f227.google.com (mail-pl1-f227.google.com [209.85.214.227]) by mails.dpdk.org (Postfix) with ESMTP id 45A4740687 for ; Sun, 19 Mar 2023 05:33:26 +0100 (CET) Received: by mail-pl1-f227.google.com with SMTP id k2so9201729pll.8 for ; Sat, 18 Mar 2023 21:33:26 -0700 (PDT) DKIM-Signature: v=1; a=rsa-sha256; c=relaxed/relaxed; d=iol.unh.edu; s=unh-iol; t=1679200405; h=date:message-id:cc:to:from:subject:from:to:cc:subject:date :message-id:reply-to; bh=0O0jK3IzEgV+tncL/kqigdm1nxKc98nWPKmLsvJRMlQ=; b=fOojuPdj3uk6IGKFIfk3l0nOiIip+YiH5K9Qk6PWm1cQCQXzvqt/gFbl8X0hjA9VPq qFds/lJ84P9vPUEJT+kxrlo/NwxYRo6eMZe8P5obY2yrz+LXGr/82BnfRkuJ5jeWJJFs sOAh3JazI4Z7LOmteTHzM5bOTrNW1HKOXvvfo= X-Google-DKIM-Signature: v=1; a=rsa-sha256; c=relaxed/relaxed; d=1e100.net; s=20210112; t=1679200405; h=date:message-id:cc:to:from:subject:x-gm-message-state:from:to:cc :subject:date:message-id:reply-to; bh=0O0jK3IzEgV+tncL/kqigdm1nxKc98nWPKmLsvJRMlQ=; b=OIT2U9pW6Q6ws8zYC/ZBAz8s++sHlcmz8h2m5KhM/wZStxa5QnfkJ3hIe6Tzr9mO2u F0C8EximdAdPbk8aDIj6CoodGK9PQHAESwQpyvUt75xQ6SZkdk1rZovsfUMwC+15rwZ1 eTpgtQiVlS2yKX+DCdOiPH4luyx3X+Mju0hSZe8M+xUFW5/95Za+XsotPsLL9HXpk23m Nap72DJUchpXW4rnUUV9xUU8VsFdHckhopK+64Eok/PtQ/nCgrGLWPTHwYW9x3UQT3eq ZQuR72MX7zgZgOTV2GoJLT9L6VSo9TkIxfl4Rh2aIJZGY/hed17Zy3kk3LJtf4mdQnfl 0HBg== X-Gm-Message-State: AO0yUKU8ycDCj7Mbu1yBxvx0IDg5JwU+qSHY4KyQIX/xuJFwDZjG4t/S QzvijO3OKddzojSPLM9hEx7v59uHXR8MZyjnTnHOeSS2YsTyrqezUV4/BA== X-Google-Smtp-Source: AK7set8WQWuWA5WCdrQoeozmLCB8+3vVstkIIQny61L2nz6LSyAn7oRQw12IT3qB3aVtnFcQ+9SYBDgpWYIS X-Received: by 2002:a17:90a:640f:b0:237:ae98:a47f with SMTP id g15-20020a17090a640f00b00237ae98a47fmr8469591pjj.1.1679200405301; Sat, 18 Mar 2023 21:33:25 -0700 (PDT) Received: from postal.iol.unh.edu (postal.iol.unh.edu. [132.177.123.84]) by smtp-relay.gmail.com with ESMTPS id lx15-20020a17090b4b0f00b00234305f84b2sm1034599pjb.14.2023.03.18.21.33.25 (version=TLS1_2 cipher=ECDHE-ECDSA-AES128-GCM-SHA256 bits=128/128); Sat, 18 Mar 2023 21:33:25 -0700 (PDT) X-Relaying-Domain: iol.unh.edu Received: from dpdk-ubuntu.dpdklab.iol.unh.edu (unknown [IPv6:2606:4100:3880:1722::210]) by postal.iol.unh.edu (Postfix) with ESMTP id 87DB3605246B; Sun, 19 Mar 2023 00:33:24 -0400 (EDT) Received: from dpdk-ubuntu-2.dpdklab.iol.unh.edu (localhost [IPv6:::1]) by dpdk-ubuntu.dpdklab.iol.unh.edu (Postfix) with ESMTP id 8459060214; Sun, 19 Mar 2023 04:33:24 +0000 (UTC) Subject: |SUCCESS| pw125145 [PATCH] [v2] vhost: fix madvise IOTLB entries pages overlap check From: dpdklab@iol.unh.edu To: Test Report Cc: dpdk-test-reports@iol.unh.edu, David Marchand , Thomas Monjalon Content-Type: text/plain Message-Id: <20230319043324.8459060214@dpdk-ubuntu.dpdklab.iol.unh.edu> Date: Sun, 19 Mar 2023 04:33:24 +0000 (UTC) X-BeenThere: test-report@dpdk.org X-Mailman-Version: 2.1.29 Precedence: list List-Id: automatic DPDK test reports List-Unsubscribe: , List-Archive: List-Post: List-Help: List-Subscribe: , Errors-To: test-report-bounces@dpdk.org Test-Label: iol-testing Test-Status: SUCCESS http://dpdk.org/patch/125145 _Testing PASS_ Submitter: Maxime Coquelin Date: Wednesday, March 15 2023 11:40:10 DPDK git baseline: Repo:dpdk Branch: master CommitID:baf13c3135d0c5998fff7edc23fb89412dc89246 125145 --> testing pass Test environment and result as below: +----------------------------------------+----------------+--------------------+----------------------+ | Environment | dpdk_unit_test | dpdk_meson_compile | dpdk_mingw64_compile | +========================================+================+====================+======================+ | Ubuntu 20.04 ARM GCC Native | PASS | PASS | SKIPPED | +----------------------------------------+----------------+--------------------+----------------------+ | Ubuntu 20.04 ARM Clang Native | PASS | PASS | SKIPPED | +----------------------------------------+----------------+--------------------+----------------------+ | Windows Server 2019 | PASS | PASS | PASS | +----------------------------------------+----------------+--------------------+----------------------+ | Debian Bullseye | PASS | PASS | SKIPPED | +----------------------------------------+----------------+--------------------+----------------------+ | CentOS Stream 8 | PASS | PASS | SKIPPED | +----------------------------------------+----------------+--------------------+----------------------+ | Ubuntu 22.04 | PASS | PASS | SKIPPED | +----------------------------------------+----------------+--------------------+----------------------+ | CentOS Stream 9 | PASS | PASS | SKIPPED | +----------------------------------------+----------------+--------------------+----------------------+ | FreeBSD 13 | SKIPPED | PASS | SKIPPED | +----------------------------------------+----------------+--------------------+----------------------+ | Debian Buster | SKIPPED | PASS | SKIPPED | +----------------------------------------+----------------+--------------------+----------------------+ | RHEL 7 | SKIPPED | PASS | SKIPPED | +----------------------------------------+----------------+--------------------+----------------------+ | Ubuntu 20.04 | SKIPPED | PASS | SKIPPED | +----------------------------------------+----------------+--------------------+----------------------+ | RHEL8 | SKIPPED | PASS | SKIPPED | +----------------------------------------+----------------+--------------------+----------------------+ | openSUSE Leap 15 | SKIPPED | PASS | SKIPPED | +----------------------------------------+----------------+--------------------+----------------------+ | Ubuntu 20.04 ARM GCC Cross Compile | SKIPPED | PASS | SKIPPED | +----------------------------------------+----------------+--------------------+----------------------+ | Ubuntu 20.04 aarch32 GCC Cross Compile | SKIPPED | PASS | SKIPPED | +----------------------------------------+----------------+--------------------+----------------------+ | Ubuntu 20.04 ARM SVE | SKIPPED | PASS | SKIPPED | +----------------------------------------+----------------+--------------------+----------------------+ | Ubuntu 20.04 ARM Clang Cross Compile | SKIPPED | PASS | SKIPPED | +----------------------------------------+----------------+--------------------+----------------------+ Ubuntu 20.04 ARM GCC Native Kernel: 5.4.0-53-generic Compiler: gcc 9.3 Ubuntu 20.04 ARM Clang Native Kernel: 5.4.0-53-generic Compiler: clang 10.0.0-4ubuntu1 Windows Server 2019 Kernel: 10.0 Compiler: clang 14.0 and gcc 8.1.0 (MinGW) Debian Bullseye Kernel: 5.4.0-122-generic Compiler: gcc 10.2.1-6 CentOS Stream 8 Kernel: 4.18.0-240.10.1.el8_3.x86_64 Compiler: gcc 8.4.1 20200928 Ubuntu 22.04 Kernel: Container Host Kernel Compiler: gcc 11.3.1-2 CentOS Stream 9 Kernel: 4.18.0-240.10.1.el8_3.x86_64 Compiler: gcc 11.3.1 20220421 FreeBSD 13 Kernel: 13.0 Compiler: clang 11.0.1 Debian Buster Kernel: 5.4.0-122-generic Compiler: gcc 8.3.0-6 RHEL 7 Kernel: 4.18.0-240.10.1.el8_3.x86_64 Compiler: gcc 4.8.5 20150623 (Red Hat 4.8.5-44) Ubuntu 20.04 Kernel: 4.18.0-240.10.1.el8_3.x86_64 Compiler: gcc 9.3.0-17ubuntu1~20.04 RHEL8 Kernel: 4.18.0-240.10.1.el8_3.x86_64 Compiler: gcc 8.3.1 20191121 (Red Hat 8.3.1-5) openSUSE Leap 15 Kernel: 4.18.0-240.10.1.el8_3.x86_64 Compiler: gcc 7.5.0 Ubuntu 20.04 ARM GCC Cross Compile Kernel: 5.4.0-72-generic Compiler: aarch64-linux-gnu-gcc (Ubuntu 9.3.0-17ubuntu1~20.04) 9.3.0 Ubuntu 20.04 aarch32 GCC Cross Compile Kernel: 5.4.0-72-generic Compiler: gcc 9.3.0 Ubuntu 20.04 ARM SVE Kernel: 5.4.0-80-generic Compiler: gcc 10.3.0 (Ubuntu 10.3.0-1ubuntu1~20.04) Ubuntu 20.04 ARM Clang Cross Compile Kernel: 5.4.0-72-generic Compiler: clang version 10.0.0-4ubuntu1 To view detailed results, visit: https://lab.dpdk.org/results/dashboard/patchsets/25745/ UNH-IOL DPDK Community Lab To manage your email subscriptions, visit: https://lab.dpdk.org/results/dashboard/preferences/subscriptions/