From mboxrd@z Thu Jan  1 00:00:00 1970
Return-Path: <test-report-bounces@dpdk.org>
Received: from mails.dpdk.org (mails.dpdk.org [217.70.189.124])
	by inbox.dpdk.org (Postfix) with ESMTP id BF3A4422D1
	for <public@inbox.dpdk.org>; Sun, 19 Mar 2023 14:46:33 +0100 (CET)
Received: from mails.dpdk.org (localhost [127.0.0.1])
	by mails.dpdk.org (Postfix) with ESMTP id BB261410ED;
	Sun, 19 Mar 2023 14:46:33 +0100 (CET)
Received: from mail-pl1-f228.google.com (mail-pl1-f228.google.com
 [209.85.214.228])
 by mails.dpdk.org (Postfix) with ESMTP id 7EA90410ED
 for <test-report@dpdk.org>; Sun, 19 Mar 2023 14:46:32 +0100 (CET)
Received: by mail-pl1-f228.google.com with SMTP id c18so9861609ple.11
 for <test-report@dpdk.org>; Sun, 19 Mar 2023 06:46:32 -0700 (PDT)
DKIM-Signature: v=1; a=rsa-sha256; c=relaxed/relaxed;
 d=iol.unh.edu; s=unh-iol; t=1679233591;
 h=date:message-id:cc:to:from:subject:from:to:cc:subject:date
 :message-id:reply-to;
 bh=AsBuFWZ6kjLORooD86MtcFhRk7xxh042mxV7QSBHDc0=;
 b=b/x6wPjj1qmCMIwgTaKaa7Yn6T0XEB9Ae7ATgfb6/bDZEkBBuSj44LqyDNko84700m
 wTjZ7rUGTi6O9clZFH/bBdhAmmqh+aBujwQuhG1p8CByz5tvyR6fzxCW9i9/kz/3uBt5
 zgNNJzEeSOUDj7WrvRCdqPZ2KTsw8Qyo6/U7o=
X-Google-DKIM-Signature: v=1; a=rsa-sha256; c=relaxed/relaxed;
 d=1e100.net; s=20210112; t=1679233591;
 h=date:message-id:cc:to:from:subject:x-gm-message-state:from:to:cc
 :subject:date:message-id:reply-to;
 bh=AsBuFWZ6kjLORooD86MtcFhRk7xxh042mxV7QSBHDc0=;
 b=rJOQXyGRvIHnQtd+Rm5drqMoVGWGMBMH8ZM9Nm4FEteDd7uwWsdAvWE60cPD11Ff5X
 BX3ZHshRBEBF/kSH3ktaS+wySQwZiR7zSRMogHNtBzLYoiXVuSD7OTMXYe+j2mnSeBeE
 Ww/+lEZ57H+5Cg5vkF79D//bR5jfcdE1vrxMGlyG+eZdu+bqpDECPnQWnsdMzBK9GeYc
 6a69f5pMcZz/TmMyFY9rUS5rT67gwR/saYLP9ApYX7bf/xWZHf0Sfa+hjS6QWVFXpzs8
 LQhQY6zLjGG+xroLCsi6irwlh5b2tb6ayvXGfJMU5JlP4suN4G/6E0ETL4Uywp07GVJE
 OyOg==
X-Gm-Message-State: AO0yUKUzCIZEKqeQGJ7bQVrRZTkYIIHe0kdmmrPPHY6k2XCBEyCEksLL
 sM4dOQ+DOy/d6kOAStQU+331Z1uH7N199EPdmg8iLqTSujJ1q/VfoW7pVQ==
X-Google-Smtp-Source: AK7set/HSTDGqOM0CPAcuPyFYBY5i9kodubY0N1FGE5s0ZhR7fEIbua9QQj7TuO4u6l6nNJs2rzH7v3P3ykM
X-Received: by 2002:a17:902:d4ca:b0:1a1:cc60:73ec with SMTP id
 o10-20020a170902d4ca00b001a1cc6073ecmr1266394plg.38.1679233591702; 
 Sun, 19 Mar 2023 06:46:31 -0700 (PDT)
Received: from postal.iol.unh.edu (postal.iol.unh.edu. [132.177.123.84])
 by smtp-relay.gmail.com with ESMTPS id
 ik4-20020a170902ab0400b001a1999724fcsm828125plb.8.2023.03.19.06.46.31
 (version=TLS1_2 cipher=ECDHE-ECDSA-AES128-GCM-SHA256 bits=128/128);
 Sun, 19 Mar 2023 06:46:31 -0700 (PDT)
X-Relaying-Domain: iol.unh.edu
Received: from dpdk-ubuntu.dpdklab.iol.unh.edu (unknown
 [IPv6:2606:4100:3880:1722::210])
 by postal.iol.unh.edu (Postfix) with ESMTP id 372A8605246B;
 Sun, 19 Mar 2023 09:46:31 -0400 (EDT)
Received: from dpdk-ubuntu-2.dpdklab.iol.unh.edu (localhost [IPv6:::1])
 by dpdk-ubuntu.dpdklab.iol.unh.edu (Postfix) with ESMTP id 35DD360214;
 Sun, 19 Mar 2023 13:46:31 +0000 (UTC)
Subject: |SUCCESS| pw125197 [PATCH] [v2,
 1/1] test/mbuf: fix mbuf autotest when mbuf debug is enabled
From: dpdklab@iol.unh.edu
To: Test Report <test-report@dpdk.org>
Cc: dpdklab@iol.unh.edu, David Marchand <david.marchand@redhat.com>,
 Thomas Monjalon <thomas@monjalon.net>
Content-Type: text/plain
Message-Id: <20230319134631.35DD360214@dpdk-ubuntu.dpdklab.iol.unh.edu>
Date: Sun, 19 Mar 2023 13:46:31 +0000 (UTC)
X-BeenThere: test-report@dpdk.org
X-Mailman-Version: 2.1.29
Precedence: list
List-Id: automatic DPDK test reports <test-report.dpdk.org>
List-Unsubscribe: <https://mails.dpdk.org/options/test-report>,
 <mailto:test-report-request@dpdk.org?subject=unsubscribe>
List-Archive: <http://mails.dpdk.org/archives/test-report/>
List-Post: <mailto:test-report@dpdk.org>
List-Help: <mailto:test-report-request@dpdk.org?subject=help>
List-Subscribe: <https://mails.dpdk.org/listinfo/test-report>,
 <mailto:test-report-request@dpdk.org?subject=subscribe>
Errors-To: test-report-bounces@dpdk.org

Test-Label: iol-x86_64-unit-testing
Test-Status: SUCCESS
http://dpdk.org/patch/125197

_Testing PASS_

Submitter: Pavel Ivashchenko <pivashchenko@nfware.com>
Date: Thursday, March 16 2023 19:14:56 
DPDK git baseline: Repo:dpdk
  Branch: master
  CommitID:8c9bfcb1553d756eb5392a56ac7813b3865c3ec7

125197 --> testing pass

Test environment and result as below:

+---------------------+----------------+
|     Environment     | dpdk_unit_test |
+=====================+================+
| Windows Server 2019 | PASS           |
+---------------------+----------------+
| Ubuntu 22.04        | PASS           |
+---------------------+----------------+
| RHEL8               | PASS           |
+---------------------+----------------+
| CentOS Stream 8     | PASS           |
+---------------------+----------------+
| RHEL 7              | PASS           |
+---------------------+----------------+
| openSUSE Leap 15    | PASS           |
+---------------------+----------------+
| CentOS Stream 9     | PASS           |
+---------------------+----------------+
| Debian Bullseye     | PASS           |
+---------------------+----------------+
| Debian Buster       | PASS           |
+---------------------+----------------+
| Ubuntu 20.04        | PASS           |
+---------------------+----------------+


Windows Server 2019
	Kernel: 10.0
	Compiler: clang 14.0 and gcc 8.1.0 (MinGW)

Ubuntu 22.04
	Kernel: Container Host Kernel
	Compiler: gcc 11.3.1-2

RHEL8
	Kernel: 4.18.0-240.10.1.el8_3.x86_64
	Compiler: gcc 8.3.1 20191121 (Red Hat 8.3.1-5)

CentOS Stream 8
	Kernel: 4.18.0-240.10.1.el8_3.x86_64
	Compiler: gcc 8.4.1 20200928

RHEL 7
	Kernel: 4.18.0-240.10.1.el8_3.x86_64
	Compiler: gcc 4.8.5 20150623 (Red Hat 4.8.5-44)

openSUSE Leap 15
	Kernel: 4.18.0-240.10.1.el8_3.x86_64
	Compiler: gcc 7.5.0

CentOS Stream 9
	Kernel: 4.18.0-240.10.1.el8_3.x86_64
	Compiler: gcc 11.3.1 20220421

Debian Bullseye
	Kernel: 5.4.0-122-generic
	Compiler: gcc 10.2.1-6

Debian Buster
	Kernel: 5.4.0-122-generic
	Compiler: gcc 8.3.0-6

Ubuntu 20.04
	Kernel: 4.18.0-240.10.1.el8_3.x86_64
	Compiler: gcc 9.3.0-17ubuntu1~20.04

To view detailed results, visit:
https://lab.dpdk.org/results/dashboard/patchsets/25770/

UNH-IOL DPDK Community Lab

To manage your email subscriptions, visit: 
https://lab.dpdk.org/results/dashboard/preferences/subscriptions/