From mboxrd@z Thu Jan  1 00:00:00 1970
Return-Path: <test-report-bounces@dpdk.org>
Received: from mails.dpdk.org (mails.dpdk.org [217.70.189.124])
	by inbox.dpdk.org (Postfix) with ESMTP id 14E62422D2
	for <public@inbox.dpdk.org>; Sun, 19 Mar 2023 16:26:27 +0100 (CET)
Received: from mails.dpdk.org (localhost [127.0.0.1])
	by mails.dpdk.org (Postfix) with ESMTP id 0FE56427E9;
	Sun, 19 Mar 2023 16:26:27 +0100 (CET)
Received: from mail-pj1-f97.google.com (mail-pj1-f97.google.com
 [209.85.216.97]) by mails.dpdk.org (Postfix) with ESMTP id A4037427E9
 for <test-report@dpdk.org>; Sun, 19 Mar 2023 16:26:25 +0100 (CET)
Received: by mail-pj1-f97.google.com with SMTP id
 f6-20020a17090ac28600b0023b9bf9eb63so9941494pjt.5
 for <test-report@dpdk.org>; Sun, 19 Mar 2023 08:26:25 -0700 (PDT)
DKIM-Signature: v=1; a=rsa-sha256; c=relaxed/relaxed;
 d=iol.unh.edu; s=unh-iol; t=1679239585;
 h=date:message-id:cc:to:from:subject:from:to:cc:subject:date
 :message-id:reply-to;
 bh=oegM+14Adcg6ZTH2L30S/XHuh9WN1byQHilLWtU74rs=;
 b=I3CIePX9a5jdf1WimAfXGexMicmgrJodWC2dMqpng8AZ6lqyZ6yGn7ecNQQkvGkbza
 DCd3BuF3ukVfMmCaBcygoIgkjBGEO8MtaopYQjhegWdd34JW/VRCr8gEW1sFUFgPnNgd
 JJRy9yQiKPb6QBKjYyQQJQ9tZxAV0Jt96GFvs=
X-Google-DKIM-Signature: v=1; a=rsa-sha256; c=relaxed/relaxed;
 d=1e100.net; s=20210112; t=1679239585;
 h=date:message-id:cc:to:from:subject:x-gm-message-state:from:to:cc
 :subject:date:message-id:reply-to;
 bh=oegM+14Adcg6ZTH2L30S/XHuh9WN1byQHilLWtU74rs=;
 b=ijFSFHTiRgI6J2hP0kAwL8FBDG2pyOoWGTDh9CkUJ4rTn+5J2CJ8nlM2qsCyJenazb
 VEJM5Bn4KQVjug2ELUvvPCA8W9XJ5Ieb3ugYXiClf3cTLvNyG/hD2OgmQ6Sf+auyTtj0
 hwqH5sJtV3CzNxrOr21Z1H2vMQdOSRGkmJ13iXICF1dwDBF7mpc2nZUfiZ4LzKJKWkPe
 G2rklHs0XfwPL+H5+U4ZJiwoveqg5F9/WE08RrZTUOuiZgeiFtpl88cQwnj7Ta9q+I3a
 rUXUewfEBWh8iLvpITOM5hDLmOHl3EsnliDivOuT1MDdb9IzKnvX3UdTQp4WUNOjLYpm
 FQEg==
X-Gm-Message-State: AO0yUKUCr4L90hnyHrhxltFXiVByzCWC0Et1CYPITAVgCmDXQQmhUe+i
 TrICD76QY5m0McRa6XBHoja/XcpMiDd20wJ0CxVaGwgaZbnsDXKtOmVmX4u5mF+bB9vYGWgRdA=
 =
X-Google-Smtp-Source: AK7set/1usLRVPThl05vr3NtZqPXgUjQLMEnlKfM8MeZMdkWZ/e19WzLkpvWxbpmmkkbWE33FOEBHQUcaz23
X-Received: by 2002:a17:902:e0c3:b0:1a0:4b9a:bae6 with SMTP id
 e3-20020a170902e0c300b001a04b9abae6mr11749455pla.30.1679239584683; 
 Sun, 19 Mar 2023 08:26:24 -0700 (PDT)
Received: from postal.iol.unh.edu (postal.iol.unh.edu.
 [2606:4100:3880:1234::84]) by smtp-relay.gmail.com with ESMTPS id
 im23-20020a170902bb1700b001a1a9a5e533sm808601plb.100.2023.03.19.08.26.24
 (version=TLS1_2 cipher=ECDHE-ECDSA-AES128-GCM-SHA256 bits=128/128);
 Sun, 19 Mar 2023 08:26:24 -0700 (PDT)
X-Relaying-Domain: iol.unh.edu
Received: from dpdk-ubuntu.dpdklab.iol.unh.edu (unknown [172.18.0.210])
 by postal.iol.unh.edu (Postfix) with ESMTP id EC2BA605246B;
 Sun, 19 Mar 2023 11:26:23 -0400 (EDT)
Received: from dpdk-ubuntu-2.dpdklab.iol.unh.edu (localhost [IPv6:::1])
 by dpdk-ubuntu.dpdklab.iol.unh.edu (Postfix) with ESMTP id EAFE260214;
 Sun, 19 Mar 2023 15:26:23 +0000 (UTC)
Subject: |SUCCESS| pw125200-125209 [PATCH] [v7,
 11/11] app/mldev: enable reporting stats in mldev app
From: dpdklab@iol.unh.edu
To: Test Report <test-report@dpdk.org>
Cc: dpdklab@iol.unh.edu, David Marchand <david.marchand@redhat.com>,
 Thomas Monjalon <thomas@monjalon.net>
Content-Type: text/plain
Message-Id: <20230319152623.EAFE260214@dpdk-ubuntu.dpdklab.iol.unh.edu>
Date: Sun, 19 Mar 2023 15:26:23 +0000 (UTC)
X-BeenThere: test-report@dpdk.org
X-Mailman-Version: 2.1.29
Precedence: list
List-Id: automatic DPDK test reports <test-report.dpdk.org>
List-Unsubscribe: <https://mails.dpdk.org/options/test-report>,
 <mailto:test-report-request@dpdk.org?subject=unsubscribe>
List-Archive: <http://mails.dpdk.org/archives/test-report/>
List-Post: <mailto:test-report@dpdk.org>
List-Help: <mailto:test-report-request@dpdk.org?subject=help>
List-Subscribe: <https://mails.dpdk.org/listinfo/test-report>,
 <mailto:test-report-request@dpdk.org?subject=subscribe>
Errors-To: test-report-bounces@dpdk.org

Test-Label: iol-testing
Test-Status: SUCCESS
http://dpdk.org/patch/125209

_Testing PASS_

Submitter: Srikanth Yalavarthi <syalavarthi@marvell.com>
Date: Thursday, March 16 2023 21:14:34 
DPDK git baseline: Repo:dpdk
  Branch: master
  CommitID:bb1f2f5b181b9d8ea7fb28ca2024914fc57bd823

125200-125209 --> testing pass

Test environment and result as below:

+----------------------------------------+--------------------+----------------------+----------------+
|              Environment               | dpdk_meson_compile | dpdk_mingw64_compile | dpdk_unit_test |
+========================================+====================+======================+================+
| Ubuntu 20.04 ARM GCC Native            | PASS               | SKIPPED              | PASS           |
+----------------------------------------+--------------------+----------------------+----------------+
| Ubuntu 20.04 ARM Clang Native          | PASS               | SKIPPED              | PASS           |
+----------------------------------------+--------------------+----------------------+----------------+
| Ubuntu 20.04 aarch32 GCC Cross Compile | PASS               | SKIPPED              | SKIPPED        |
+----------------------------------------+--------------------+----------------------+----------------+
| Ubuntu 20.04 ARM GCC Cross Compile     | PASS               | SKIPPED              | SKIPPED        |
+----------------------------------------+--------------------+----------------------+----------------+
| Ubuntu 20.04 ARM Clang Cross Compile   | PASS               | SKIPPED              | SKIPPED        |
+----------------------------------------+--------------------+----------------------+----------------+
| Ubuntu 20.04 ARM SVE                   | PASS               | SKIPPED              | SKIPPED        |
+----------------------------------------+--------------------+----------------------+----------------+
| FreeBSD 13                             | PASS               | SKIPPED              | SKIPPED        |
+----------------------------------------+--------------------+----------------------+----------------+
| Windows Server 2019                    | PASS               | PASS                 | PASS           |
+----------------------------------------+--------------------+----------------------+----------------+
| CentOS Stream 9                        | PASS               | SKIPPED              | PASS           |
+----------------------------------------+--------------------+----------------------+----------------+
| CentOS Stream 8                        | PASS               | SKIPPED              | SKIPPED        |
+----------------------------------------+--------------------+----------------------+----------------+
| Ubuntu 20.04                           | PASS               | SKIPPED              | PASS           |
+----------------------------------------+--------------------+----------------------+----------------+
| Ubuntu 22.04                           | PASS               | SKIPPED              | PASS           |
+----------------------------------------+--------------------+----------------------+----------------+
| RHEL 7                                 | PASS               | SKIPPED              | SKIPPED        |
+----------------------------------------+--------------------+----------------------+----------------+
| Debian Bullseye                        | PASS               | SKIPPED              | PASS           |
+----------------------------------------+--------------------+----------------------+----------------+
| RHEL8                                  | PASS               | SKIPPED              | SKIPPED        |
+----------------------------------------+--------------------+----------------------+----------------+
| openSUSE Leap 15                       | PASS               | SKIPPED              | SKIPPED        |
+----------------------------------------+--------------------+----------------------+----------------+
| Debian Buster                          | PASS               | SKIPPED              | SKIPPED        |
+----------------------------------------+--------------------+----------------------+----------------+


Ubuntu 20.04 ARM GCC Native
	Kernel: 5.4.0-53-generic
	Compiler: gcc 9.3

Ubuntu 20.04 ARM Clang Native
	Kernel: 5.4.0-53-generic
	Compiler: clang 10.0.0-4ubuntu1

Ubuntu 20.04 aarch32 GCC Cross Compile
	Kernel: 5.4.0-72-generic
	Compiler: gcc 9.3.0

Ubuntu 20.04 ARM GCC Cross Compile
	Kernel: 5.4.0-72-generic
	Compiler: aarch64-linux-gnu-gcc (Ubuntu 9.3.0-17ubuntu1~20.04) 9.3.0

Ubuntu 20.04 ARM Clang Cross Compile
	Kernel: 5.4.0-72-generic
	Compiler: clang version 10.0.0-4ubuntu1

Ubuntu 20.04 ARM SVE
	Kernel: 5.4.0-80-generic
	Compiler: gcc 10.3.0 (Ubuntu 10.3.0-1ubuntu1~20.04)

FreeBSD 13
	Kernel: 13.0
	Compiler: clang 11.0.1

Windows Server 2019
	Kernel: 10.0
	Compiler: clang 14.0 and gcc 8.1.0 (MinGW)

CentOS Stream 9
	Kernel: 4.18.0-240.10.1.el8_3.x86_64
	Compiler: gcc 11.3.1 20220421

CentOS Stream 8
	Kernel: 4.18.0-240.10.1.el8_3.x86_64
	Compiler: gcc 8.4.1 20200928

Ubuntu 20.04
	Kernel: 4.18.0-240.10.1.el8_3.x86_64
	Compiler: gcc 9.3.0-17ubuntu1~20.04

Ubuntu 22.04
	Kernel: 4.18.0-240.10.1.el8_3.x86_64
	Compiler: gcc 11.3.0

RHEL 7
	Kernel: 4.18.0-240.10.1.el8_3.x86_64
	Compiler: gcc 4.8.5 20150623 (Red Hat 4.8.5-44)

Debian Bullseye
	Kernel: 5.4.0-122-generic
	Compiler: gcc 10.2.1-6

RHEL8
	Kernel: 4.18.0-240.10.1.el8_3.x86_64
	Compiler: gcc 8.3.1 20191121 (Red Hat 8.3.1-5)

openSUSE Leap 15
	Kernel: 4.18.0-240.10.1.el8_3.x86_64
	Compiler: gcc 7.5.0

Debian Buster
	Kernel: 5.4.0-122-generic
	Compiler: gcc 8.3.0-6

To view detailed results, visit:
https://lab.dpdk.org/results/dashboard/patchsets/25771/

UNH-IOL DPDK Community Lab

To manage your email subscriptions, visit: 
https://lab.dpdk.org/results/dashboard/preferences/subscriptions/