From mboxrd@z Thu Jan  1 00:00:00 1970
Return-Path: <test-report-bounces@dpdk.org>
Received: from mails.dpdk.org (mails.dpdk.org [217.70.189.124])
	by inbox.dpdk.org (Postfix) with ESMTP id 1A457422D2
	for <public@inbox.dpdk.org>; Sun, 19 Mar 2023 17:27:31 +0100 (CET)
Received: from mails.dpdk.org (localhost [127.0.0.1])
	by mails.dpdk.org (Postfix) with ESMTP id E997D410EC;
	Sun, 19 Mar 2023 17:27:30 +0100 (CET)
Received: from mail-oa1-f98.google.com (mail-oa1-f98.google.com
 [209.85.160.98]) by mails.dpdk.org (Postfix) with ESMTP id 86BF5410EC
 for <test-report@dpdk.org>; Sun, 19 Mar 2023 17:27:29 +0100 (CET)
Received: by mail-oa1-f98.google.com with SMTP id
 586e51a60fabf-17aceccdcf6so10811061fac.9
 for <test-report@dpdk.org>; Sun, 19 Mar 2023 09:27:29 -0700 (PDT)
DKIM-Signature: v=1; a=rsa-sha256; c=relaxed/relaxed;
 d=iol.unh.edu; s=unh-iol; t=1679243249;
 h=date:message-id:cc:to:from:subject:from:to:cc:subject:date
 :message-id:reply-to;
 bh=KlAmjHZ/o4cFDqWMF1Q//6AQlWLlejOZN3kD/QZJkZc=;
 b=PIFXjzIpqeO2dEUYicQnN8URiroXopB45bBKQ2CLtC8cp3mQJkS3qFZJJLNteI6C6w
 +Zf/lmz44uzFlkKrW5nU4qfwmIhT1W1VtbAgcT7cqPZVuFhtnLdS1gOysxAiC7P5k9pT
 0MJDGDKmJRyluK8iGeN1Ea2TdHTpF47xgkEqg=
X-Google-DKIM-Signature: v=1; a=rsa-sha256; c=relaxed/relaxed;
 d=1e100.net; s=20210112; t=1679243249;
 h=date:message-id:cc:to:from:subject:x-gm-message-state:from:to:cc
 :subject:date:message-id:reply-to;
 bh=KlAmjHZ/o4cFDqWMF1Q//6AQlWLlejOZN3kD/QZJkZc=;
 b=wpQdHKHV/uR8JOGglheIF7MPj6D/W7U7sD07/DUS8SxG1joBntS2jmH7A+zTrB8Kt7
 yxMyNJufSFKeoKUpB2Lt2D6yooRvldnIa95ZJpeOPenjcb4o2D9Z1h9fSNj2nKPcP2ax
 3fpzVATeJo9pSpHgyU1KEcwRdtHyVOl55yprtzPSiWqWXfl9IoCrIJjon0O7OtNkkRx5
 N0GZeL1NhnRbEzrUmtoGz327cbjsuoSpvvl0qjxHKw8O7U3qF36DpNjEHYicvpETFZyF
 0DWCaa0jCzZVKV9KAdj9FNiWsMExvKzsDldfsY/N989r42vqs7Hu9kZr5MlZayUcjKfE
 1OKQ==
X-Gm-Message-State: AO0yUKXmHLJej5T7dkXDuIY59fL8fVYKf3HKZhw352G25XsVBLw+Hg62
 ARYrV4+ZZSBN36TcdVZX2QvS+ACETGfGGFJzWVw4l4fqYwkugNq2BiKDQg==
X-Google-Smtp-Source: AK7set9OK7/atVh5VapaHw0NcXlVD62UxcJ9EKjv3X/MX1vRE9A7N/ByXPGTzq3Yktijqh1OcbYxNf6kN0ZY
X-Received: by 2002:a05:6870:470a:b0:172:4d60:c320 with SMTP id
 b10-20020a056870470a00b001724d60c320mr3729139oaq.21.1679243248822; 
 Sun, 19 Mar 2023 09:27:28 -0700 (PDT)
Received: from postal.iol.unh.edu (postal.iol.unh.edu. [132.177.123.84])
 by smtp-relay.gmail.com with ESMTPS id
 ao12-20020a056870f90c00b0017abc2b4388sm1057522oac.3.2023.03.19.09.27.28
 (version=TLS1_2 cipher=ECDHE-ECDSA-AES128-GCM-SHA256 bits=128/128);
 Sun, 19 Mar 2023 09:27:28 -0700 (PDT)
X-Relaying-Domain: iol.unh.edu
Received: from dpdk-ubuntu.dpdklab.iol.unh.edu (unknown [172.18.0.210])
 by postal.iol.unh.edu (Postfix) with ESMTP id 534D3605246B;
 Sun, 19 Mar 2023 12:27:28 -0400 (EDT)
Received: from dpdk-ubuntu-2.dpdklab.iol.unh.edu (localhost [IPv6:::1])
 by dpdk-ubuntu.dpdklab.iol.unh.edu (Postfix) with ESMTP id 50A1760214;
 Sun, 19 Mar 2023 16:27:28 +0000 (UTC)
Subject: |SUCCESS| pw125200-125209 [PATCH] [v7,
 11/11] app/mldev: enable reporting stats in mldev app
From: dpdklab@iol.unh.edu
To: Test Report <test-report@dpdk.org>
Cc: dpdklab@iol.unh.edu, David Marchand <david.marchand@redhat.com>,
 Thomas Monjalon <thomas@monjalon.net>
Content-Type: text/plain
Message-Id: <20230319162728.50A1760214@dpdk-ubuntu.dpdklab.iol.unh.edu>
Date: Sun, 19 Mar 2023 16:27:28 +0000 (UTC)
X-BeenThere: test-report@dpdk.org
X-Mailman-Version: 2.1.29
Precedence: list
List-Id: automatic DPDK test reports <test-report.dpdk.org>
List-Unsubscribe: <https://mails.dpdk.org/options/test-report>,
 <mailto:test-report-request@dpdk.org?subject=unsubscribe>
List-Archive: <http://mails.dpdk.org/archives/test-report/>
List-Post: <mailto:test-report@dpdk.org>
List-Help: <mailto:test-report-request@dpdk.org?subject=help>
List-Subscribe: <https://mails.dpdk.org/listinfo/test-report>,
 <mailto:test-report-request@dpdk.org?subject=subscribe>
Errors-To: test-report-bounces@dpdk.org

Test-Label: iol-testing
Test-Status: SUCCESS
http://dpdk.org/patch/125209

_Testing PASS_

Submitter: Srikanth Yalavarthi <syalavarthi@marvell.com>
Date: Thursday, March 16 2023 21:14:34 
DPDK git baseline: Repo:dpdk
  Branch: master
  CommitID:bb1f2f5b181b9d8ea7fb28ca2024914fc57bd823

125200-125209 --> testing pass

Test environment and result as below:

+----------------------------------------+--------------------+----------------------+----------------+
|              Environment               | dpdk_meson_compile | dpdk_mingw64_compile | dpdk_unit_test |
+========================================+====================+======================+================+
| Ubuntu 20.04 ARM GCC Native            | PASS               | SKIPPED              | PASS           |
+----------------------------------------+--------------------+----------------------+----------------+
| Ubuntu 20.04 ARM Clang Native          | PASS               | SKIPPED              | PASS           |
+----------------------------------------+--------------------+----------------------+----------------+
| Ubuntu 20.04 aarch32 GCC Cross Compile | PASS               | SKIPPED              | SKIPPED        |
+----------------------------------------+--------------------+----------------------+----------------+
| Ubuntu 20.04 ARM GCC Cross Compile     | PASS               | SKIPPED              | SKIPPED        |
+----------------------------------------+--------------------+----------------------+----------------+
| Ubuntu 20.04 ARM Clang Cross Compile   | PASS               | SKIPPED              | SKIPPED        |
+----------------------------------------+--------------------+----------------------+----------------+
| Ubuntu 20.04 ARM SVE                   | PASS               | SKIPPED              | SKIPPED        |
+----------------------------------------+--------------------+----------------------+----------------+
| FreeBSD 13                             | PASS               | SKIPPED              | SKIPPED        |
+----------------------------------------+--------------------+----------------------+----------------+
| Windows Server 2019                    | PASS               | PASS                 | PASS           |
+----------------------------------------+--------------------+----------------------+----------------+
| CentOS Stream 9                        | PASS               | SKIPPED              | SKIPPED        |
+----------------------------------------+--------------------+----------------------+----------------+
| Debian Bullseye                        | PASS               | SKIPPED              | PASS           |
+----------------------------------------+--------------------+----------------------+----------------+
| Debian Buster                          | PASS               | SKIPPED              | PASS           |
+----------------------------------------+--------------------+----------------------+----------------+
| Ubuntu 22.04                           | PASS               | SKIPPED              | PASS           |
+----------------------------------------+--------------------+----------------------+----------------+
| openSUSE Leap 15                       | PASS               | SKIPPED              | SKIPPED        |
+----------------------------------------+--------------------+----------------------+----------------+
| Ubuntu 20.04                           | PASS               | SKIPPED              | SKIPPED        |
+----------------------------------------+--------------------+----------------------+----------------+
| RHEL 7                                 | PASS               | SKIPPED              | SKIPPED        |
+----------------------------------------+--------------------+----------------------+----------------+
| RHEL8                                  | PASS               | SKIPPED              | PASS           |
+----------------------------------------+--------------------+----------------------+----------------+
| CentOS Stream 8                        | PASS               | SKIPPED              | PASS           |
+----------------------------------------+--------------------+----------------------+----------------+


Ubuntu 20.04 ARM GCC Native
	Kernel: 5.4.0-53-generic
	Compiler: gcc 9.3

Ubuntu 20.04 ARM Clang Native
	Kernel: 5.4.0-53-generic
	Compiler: clang 10.0.0-4ubuntu1

Ubuntu 20.04 aarch32 GCC Cross Compile
	Kernel: 5.4.0-72-generic
	Compiler: gcc 9.3.0

Ubuntu 20.04 ARM GCC Cross Compile
	Kernel: 5.4.0-72-generic
	Compiler: aarch64-linux-gnu-gcc (Ubuntu 9.3.0-17ubuntu1~20.04) 9.3.0

Ubuntu 20.04 ARM Clang Cross Compile
	Kernel: 5.4.0-72-generic
	Compiler: clang version 10.0.0-4ubuntu1

Ubuntu 20.04 ARM SVE
	Kernel: 5.4.0-80-generic
	Compiler: gcc 10.3.0 (Ubuntu 10.3.0-1ubuntu1~20.04)

FreeBSD 13
	Kernel: 13.0
	Compiler: clang 11.0.1

Windows Server 2019
	Kernel: 10.0
	Compiler: clang 14.0 and gcc 8.1.0 (MinGW)

CentOS Stream 9
	Kernel: 4.18.0-240.10.1.el8_3.x86_64
	Compiler: gcc 11.3.1 20220421

Debian Bullseye
	Kernel: 5.4.0-122-generic
	Compiler: gcc 10.2.1-6

Debian Buster
	Kernel: 5.4.0-122-generic
	Compiler: gcc 8.3.0-6

Ubuntu 22.04
	Kernel: Container Host Kernel
	Compiler: gcc 11.3.1-2

openSUSE Leap 15
	Kernel: 4.18.0-240.10.1.el8_3.x86_64
	Compiler: gcc 7.5.0

Ubuntu 20.04
	Kernel: 4.18.0-240.10.1.el8_3.x86_64
	Compiler: gcc 9.3.0-17ubuntu1~20.04

RHEL 7
	Kernel: 4.18.0-240.10.1.el8_3.x86_64
	Compiler: gcc 4.8.5 20150623 (Red Hat 4.8.5-44)

RHEL8
	Kernel: 4.18.0-240.10.1.el8_3.x86_64
	Compiler: gcc 8.3.1 20191121 (Red Hat 8.3.1-5)

CentOS Stream 8
	Kernel: 4.18.0-240.10.1.el8_3.x86_64
	Compiler: gcc 8.4.1 20200928

To view detailed results, visit:
https://lab.dpdk.org/results/dashboard/patchsets/25771/

UNH-IOL DPDK Community Lab

To manage your email subscriptions, visit: 
https://lab.dpdk.org/results/dashboard/preferences/subscriptions/