From mboxrd@z Thu Jan  1 00:00:00 1970
Return-Path: <test-report-bounces@dpdk.org>
Received: from mails.dpdk.org (mails.dpdk.org [217.70.189.124])
	by inbox.dpdk.org (Postfix) with ESMTP id 893AA422D2
	for <public@inbox.dpdk.org>; Sun, 19 Mar 2023 17:52:05 +0100 (CET)
Received: from mails.dpdk.org (localhost [127.0.0.1])
	by mails.dpdk.org (Postfix) with ESMTP id 8536C410EC;
	Sun, 19 Mar 2023 17:52:05 +0100 (CET)
Received: from mail-il1-f225.google.com (mail-il1-f225.google.com
 [209.85.166.225])
 by mails.dpdk.org (Postfix) with ESMTP id 66C0D410EC
 for <test-report@dpdk.org>; Sun, 19 Mar 2023 17:52:04 +0100 (CET)
Received: by mail-il1-f225.google.com with SMTP id 4so5419301ilz.6
 for <test-report@dpdk.org>; Sun, 19 Mar 2023 09:52:04 -0700 (PDT)
DKIM-Signature: v=1; a=rsa-sha256; c=relaxed/relaxed;
 d=iol.unh.edu; s=unh-iol; t=1679244724;
 h=date:message-id:cc:to:from:subject:from:to:cc:subject:date
 :message-id:reply-to;
 bh=BWkMFg3a2oq07H337G6uotB0F1vVZ5Q4Jyzp5dhBlnk=;
 b=YVowFvlHYE7aiwVv0S/IoTsqSJbByfDWYHwAgrZBDUN7aakK3NTY2WNrfxgFHfOmN5
 KlXQY4d7cEuVMRP1rbJxlkx+urcyLFE0R0jiJpHcw9nA8BxqdrutAryTVWK2i1iS6lUD
 Fo9OKc7yJXs2R1dVT4cwkjtcmygFLAqziw4AA=
X-Google-DKIM-Signature: v=1; a=rsa-sha256; c=relaxed/relaxed;
 d=1e100.net; s=20210112; t=1679244724;
 h=date:message-id:cc:to:from:subject:x-gm-message-state:from:to:cc
 :subject:date:message-id:reply-to;
 bh=BWkMFg3a2oq07H337G6uotB0F1vVZ5Q4Jyzp5dhBlnk=;
 b=rYUDRhdQepkqm3i5nObECwV29BPN1BKxYIZl+tvmUiLRK2ozGAdqhmCtsNEb83jJqE
 CTi+LoEtFBl76w9a+zfxROihaaKGNzj4AsFjnNzwYAcdfvDGwXrjlXWSO2gSuA8hn3HV
 TkwEb5uvSij/EUKzAwbO6mIeslIkBMLN6B1zCeuXP7O6GE3XEaCGmYvRO3IIuokiDR88
 EJphrBCr4B4mgMG+9G9UIpNVATDI5zKXHps/WviHQncyTX5i+G2EXNzsu0otjG807mPn
 B7G57BhhUuG6HX/2bV5BzwtvHievrIA2VHlXMQAjWj+DEg1SuNWaAlvCw5xMvZccssod
 B5RA==
X-Gm-Message-State: AO0yUKWFTk0MFd+/+lvWi9AsmpxYBj01K70q1yJXYSYBnjFmeAxXuDTS
 8JLB0iH4v6CVl64050M73edB1HPcufHzzwW3ei9rLmdB2hmJLk5BL6c4Sw==
X-Google-Smtp-Source: AK7set9Ctt+C+ZjfZvXegcelMfaG2HwYiJsx6QBYT3fZVo5RWmC16t9C0G0Vqnr3cIWe9ZpMWbvQ+122fw05
X-Received: by 2002:a92:d384:0:b0:324:7360:9c93 with SMTP id
 o4-20020a92d384000000b0032473609c93mr4047216ilo.7.1679244722770; 
 Sun, 19 Mar 2023 09:52:02 -0700 (PDT)
Received: from postal.iol.unh.edu (postal.iol.unh.edu. [132.177.123.84])
 by smtp-relay.gmail.com with ESMTPS id
 e16-20020a921950000000b00315921e336esm564381ilm.55.2023.03.19.09.52.02
 (version=TLS1_2 cipher=ECDHE-ECDSA-AES128-GCM-SHA256 bits=128/128);
 Sun, 19 Mar 2023 09:52:02 -0700 (PDT)
X-Relaying-Domain: iol.unh.edu
Received: from dpdk-ubuntu.dpdklab.iol.unh.edu (unknown [172.18.0.210])
 by postal.iol.unh.edu (Postfix) with ESMTP id 6DA8B605246B;
 Sun, 19 Mar 2023 12:52:02 -0400 (EDT)
Received: from dpdk-ubuntu-2.dpdklab.iol.unh.edu (localhost [IPv6:::1])
 by dpdk-ubuntu.dpdklab.iol.unh.edu (Postfix) with ESMTP id 61F9B60214;
 Sun, 19 Mar 2023 16:52:02 +0000 (UTC)
Subject: |SUCCESS| pw125200-125209 [PATCH] [v7,
 11/11] app/mldev: enable reporting stats in mldev app
From: dpdklab@iol.unh.edu
To: Test Report <test-report@dpdk.org>
Cc: dpdklab@iol.unh.edu, David Marchand <david.marchand@redhat.com>,
 Thomas Monjalon <thomas@monjalon.net>
Content-Type: text/plain
Message-Id: <20230319165202.61F9B60214@dpdk-ubuntu.dpdklab.iol.unh.edu>
Date: Sun, 19 Mar 2023 16:52:02 +0000 (UTC)
X-BeenThere: test-report@dpdk.org
X-Mailman-Version: 2.1.29
Precedence: list
List-Id: automatic DPDK test reports <test-report.dpdk.org>
List-Unsubscribe: <https://mails.dpdk.org/options/test-report>,
 <mailto:test-report-request@dpdk.org?subject=unsubscribe>
List-Archive: <http://mails.dpdk.org/archives/test-report/>
List-Post: <mailto:test-report@dpdk.org>
List-Help: <mailto:test-report-request@dpdk.org?subject=help>
List-Subscribe: <https://mails.dpdk.org/listinfo/test-report>,
 <mailto:test-report-request@dpdk.org?subject=subscribe>
Errors-To: test-report-bounces@dpdk.org

Test-Label: iol-x86_64-unit-testing
Test-Status: SUCCESS
http://dpdk.org/patch/125209

_Testing PASS_

Submitter: Srikanth Yalavarthi <syalavarthi@marvell.com>
Date: Thursday, March 16 2023 21:14:34 
DPDK git baseline: Repo:dpdk
  Branch: master
  CommitID:bb1f2f5b181b9d8ea7fb28ca2024914fc57bd823

125200-125209 --> testing pass

Test environment and result as below:

+---------------------+----------------+
|     Environment     | dpdk_unit_test |
+=====================+================+
| Windows Server 2019 | PASS           |
+---------------------+----------------+
| CentOS Stream 8     | PASS           |
+---------------------+----------------+
| Ubuntu 22.04        | PASS           |
+---------------------+----------------+
| Debian Buster       | PASS           |
+---------------------+----------------+
| Debian Bullseye     | PASS           |
+---------------------+----------------+
| RHEL8               | PASS           |
+---------------------+----------------+
| CentOS Stream 9     | PASS           |
+---------------------+----------------+
| openSUSE Leap 15    | PASS           |
+---------------------+----------------+
| Ubuntu 20.04        | PASS           |
+---------------------+----------------+
| RHEL 7              | PASS           |
+---------------------+----------------+


Windows Server 2019
	Kernel: 10.0
	Compiler: clang 14.0 and gcc 8.1.0 (MinGW)

CentOS Stream 8
	Kernel: 4.18.0-240.10.1.el8_3.x86_64
	Compiler: gcc 8.4.1 20200928

Ubuntu 22.04
	Kernel: 4.18.0-240.10.1.el8_3.x86_64
	Compiler: gcc 11.3.0

Debian Buster
	Kernel: 5.4.0-122-generic
	Compiler: gcc 8.3.0-6

Debian Bullseye
	Kernel: 5.4.0-122-generic
	Compiler: gcc 10.2.1-6

RHEL8
	Kernel: 4.18.0-240.10.1.el8_3.x86_64
	Compiler: gcc 8.3.1 20191121 (Red Hat 8.3.1-5)

CentOS Stream 9
	Kernel: 4.18.0-240.10.1.el8_3.x86_64
	Compiler: gcc 11.3.1 20220421

openSUSE Leap 15
	Kernel: 4.18.0-240.10.1.el8_3.x86_64
	Compiler: gcc 7.5.0

Ubuntu 20.04
	Kernel: 4.18.0-240.10.1.el8_3.x86_64
	Compiler: gcc 9.3.0-17ubuntu1~20.04

RHEL 7
	Kernel: 4.18.0-240.10.1.el8_3.x86_64
	Compiler: gcc 4.8.5 20150623 (Red Hat 4.8.5-44)

To view detailed results, visit:
https://lab.dpdk.org/results/dashboard/patchsets/25771/

UNH-IOL DPDK Community Lab

To manage your email subscriptions, visit: 
https://lab.dpdk.org/results/dashboard/preferences/subscriptions/