From mboxrd@z Thu Jan  1 00:00:00 1970
Return-Path: <test-report-bounces@dpdk.org>
Received: from mails.dpdk.org (mails.dpdk.org [217.70.189.124])
	by inbox.dpdk.org (Postfix) with ESMTP id 328FC427FF
	for <public@inbox.dpdk.org>; Wed, 22 Mar 2023 02:19:48 +0100 (CET)
Received: from mails.dpdk.org (localhost [127.0.0.1])
	by mails.dpdk.org (Postfix) with ESMTP id 3444340A84;
	Wed, 22 Mar 2023 02:19:48 +0100 (CET)
Received: from mail-io1-f99.google.com (mail-io1-f99.google.com
 [209.85.166.99]) by mails.dpdk.org (Postfix) with ESMTP id 80A3540A84
 for <test-report@dpdk.org>; Wed, 22 Mar 2023 02:19:46 +0100 (CET)
Received: by mail-io1-f99.google.com with SMTP id m22so7818740ioy.4
 for <test-report@dpdk.org>; Tue, 21 Mar 2023 18:19:46 -0700 (PDT)
DKIM-Signature: v=1; a=rsa-sha256; c=relaxed/relaxed;
 d=iol.unh.edu; s=unh-iol; t=1679447986;
 h=date:message-id:cc:to:from:subject:from:to:cc:subject:date
 :message-id:reply-to;
 bh=jlnzBQLQ6xeM2zH/5LS3we6i4nIPIH2kCC/jPLxkvJ4=;
 b=GYIEpO8MuXiOYJoPZZfvepB70Kz6RX3Kq9wO6/NTcjpRg2A5LKBUG1EmONGnqn65BP
 90W2hjIJ2jUp+7J6gn7ZbXUCz3ICUaeZjnim424yyhdiu1Wcz/GPgOtGoVLskw2gsPKS
 Ylt05sIB5nbnq8QPF/3FjRAGtND10JvBu77tY=
X-Google-DKIM-Signature: v=1; a=rsa-sha256; c=relaxed/relaxed;
 d=1e100.net; s=20210112; t=1679447986;
 h=date:message-id:cc:to:from:subject:x-gm-message-state:from:to:cc
 :subject:date:message-id:reply-to;
 bh=jlnzBQLQ6xeM2zH/5LS3we6i4nIPIH2kCC/jPLxkvJ4=;
 b=YBD5vccElrJ41amyB1IhW1W76eeOTXvHm0luNbBWlJ5Yv8OAJDejESgcZ0eXxH90R4
 D37N6tx0cXFb+7pTsq6DKxQoX2aoLAJayVMr3QOphqY3vLUO/yOPONnmkE9SWCc7p7Y2
 soDeavUxx/w5zVce6N+NVuO4oqyWm0cTwQ6bJko5Xm43h62ydFlh/aBoZE1CGFB1J3V4
 xy8C7zeyURENku3q+qEfdwrjvvt4eWIhfOx8R/jqg8MXfk+Gl9zf15kQjCGScuA/1xhJ
 9vlW/1vfHUNjpHMQLmZ9Hf25m5Vl7EmspTN1/7zNIZKNwpaeqh7aWE3CatslOsHJn45J
 ma8A==
X-Gm-Message-State: AO0yUKXddW1cmoMlenVfGKB2t0vUczKr2Af7SJNp+hz++UmvtbLCbLZj
 FGCc87aUXbfXWt5qqk3XDRsRxAke1spaBLQ27y319PXyKmYzmR9Vt1fW9g==
X-Google-Smtp-Source: AK7set+8LzHJaBGOwuVzYE7NILn9bgGww6NlI+HWSM4lMBdg3xBiE1VJIGilaBUtaDE4cziuI0VbuiTWA4hj
X-Received: by 2002:a5d:8c8b:0:b0:71a:1b72:5afc with SMTP id
 g11-20020a5d8c8b000000b0071a1b725afcmr3004984ion.19.1679447985908; 
 Tue, 21 Mar 2023 18:19:45 -0700 (PDT)
Received: from postal.iol.unh.edu (postal.iol.unh.edu. [132.177.123.84])
 by smtp-relay.gmail.com with ESMTPS id
 t8-20020a026408000000b003e04cd2b812sm2496274jac.80.2023.03.21.18.19.45
 (version=TLS1_2 cipher=ECDHE-ECDSA-AES128-GCM-SHA256 bits=128/128);
 Tue, 21 Mar 2023 18:19:45 -0700 (PDT)
X-Relaying-Domain: iol.unh.edu
Received: from dpdk-ubuntu.dpdklab.iol.unh.edu (unknown
 [IPv6:2606:4100:3880:1722::210])
 by postal.iol.unh.edu (Postfix) with ESMTP id 776B1605246B;
 Tue, 21 Mar 2023 21:19:45 -0400 (EDT)
Received: from dpdk-ubuntu-2.dpdklab.iol.unh.edu (localhost [IPv6:::1])
 by dpdk-ubuntu.dpdklab.iol.unh.edu (Postfix) with ESMTP id 7643360216;
 Wed, 22 Mar 2023 01:19:45 +0000 (UTC)
Subject: |SUCCESS| pw125370-125371 [PATCH] [2/2] examples/qos_sched: report
 error if no pipes configured
From: dpdklab@iol.unh.edu
To: Test Report <test-report@dpdk.org>
Cc: dpdklab@iol.unh.edu, David Marchand <david.marchand@redhat.com>,
 Thomas Monjalon <thomas@monjalon.net>
Content-Type: text/plain
Message-Id: <20230322011945.7643360216@dpdk-ubuntu.dpdklab.iol.unh.edu>
Date: Wed, 22 Mar 2023 01:19:45 +0000 (UTC)
X-BeenThere: test-report@dpdk.org
X-Mailman-Version: 2.1.29
Precedence: list
List-Id: automatic DPDK test reports <test-report.dpdk.org>
List-Unsubscribe: <https://mails.dpdk.org/options/test-report>,
 <mailto:test-report-request@dpdk.org?subject=unsubscribe>
List-Archive: <http://mails.dpdk.org/archives/test-report/>
List-Post: <mailto:test-report@dpdk.org>
List-Help: <mailto:test-report-request@dpdk.org?subject=help>
List-Subscribe: <https://mails.dpdk.org/listinfo/test-report>,
 <mailto:test-report-request@dpdk.org?subject=subscribe>
Errors-To: test-report-bounces@dpdk.org

Test-Label: iol-aarch64-unit-testing
Test-Status: SUCCESS
http://dpdk.org/patch/125371

_Testing PASS_

Submitter: Bruce Richardson <bruce.richardson@intel.com>
Date: Tuesday, March 21 2023 13:13:50 
DPDK git baseline: Repo:dpdk
  Branch: master
  CommitID:33949800f1afcb7527b6e36c60c1548687ccb673

125370-125371 --> testing pass

Test environment and result as below:

+-------------------------------+----------------+------------------------------+---------------------------+--------------+
|          Environment          | dpdk_unit_test | cryptodev_sw_snow3g_autotest | cryptodev_sw_zuc_autotest | lpm_autotest |
+===============================+================+==============================+===========================+==============+
| Ubuntu 20.04 ARM GCC Native   | PASS           | SKIPPED                      | SKIPPED                   | SKIPPED      |
+-------------------------------+----------------+------------------------------+---------------------------+--------------+
| Ubuntu 20.04 ARM Clang Native | PASS           | SKIPPED                      | SKIPPED                   | SKIPPED      |
+-------------------------------+----------------+------------------------------+---------------------------+--------------+
| Debian 11                     | SKIPPED        | PASS                         | PASS                      | SKIPPED      |
+-------------------------------+----------------+------------------------------+---------------------------+--------------+
| Ubuntu 20.04 ARM SVE          | SKIPPED        | SKIPPED                      | SKIPPED                   | PASS         |
+-------------------------------+----------------+------------------------------+---------------------------+--------------+


Ubuntu 20.04 ARM GCC Native
	Kernel: 5.4.0-53-generic
	Compiler: gcc 9.3

Ubuntu 20.04 ARM Clang Native
	Kernel: 5.4.0-53-generic
	Compiler: clang 10.0.0-4ubuntu1

Debian 11
	Kernel: Container Host Kernel
	Compiler: gcc 10.2.1

Ubuntu 20.04 ARM SVE
	Kernel: 5.4.0-80-generic
	Compiler: gcc 10.3.0 (Ubuntu 10.3.0-1ubuntu1~20.04)

To view detailed results, visit:
https://lab.dpdk.org/results/dashboard/patchsets/25819/

UNH-IOL DPDK Community Lab

To manage your email subscriptions, visit: 
https://lab.dpdk.org/results/dashboard/preferences/subscriptions/