From mboxrd@z Thu Jan  1 00:00:00 1970
Return-Path: <test-report-bounces@dpdk.org>
Received: from mails.dpdk.org (mails.dpdk.org [217.70.189.124])
	by inbox.dpdk.org (Postfix) with ESMTP id B033C42814
	for <public@inbox.dpdk.org>; Wed, 22 Mar 2023 23:01:29 +0100 (CET)
Received: from mails.dpdk.org (localhost [127.0.0.1])
	by mails.dpdk.org (Postfix) with ESMTP id A341340395;
	Wed, 22 Mar 2023 23:01:29 +0100 (CET)
Received: from mail-pj1-f97.google.com (mail-pj1-f97.google.com
 [209.85.216.97]) by mails.dpdk.org (Postfix) with ESMTP id E877E40395
 for <test-report@dpdk.org>; Wed, 22 Mar 2023 23:01:28 +0100 (CET)
Received: by mail-pj1-f97.google.com with SMTP id d13so19799243pjh.0
 for <test-report@dpdk.org>; Wed, 22 Mar 2023 15:01:28 -0700 (PDT)
DKIM-Signature: v=1; a=rsa-sha256; c=relaxed/relaxed;
 d=iol.unh.edu; s=unh-iol; t=1679522488;
 h=date:message-id:cc:to:from:subject:from:to:cc:subject:date
 :message-id:reply-to;
 bh=KpW8y3nk4gt0zPQr9848r+l6i9EalnhP/tZgNhmyKcg=;
 b=MeBpbd+rBHUuM+6Fd9j11wORLsR2IcWazIzmCp6DK3Oyw915VXD205bxyfyMh+tLgu
 PRX4oRupJS97xunFpelnBB9yTCH14JQQo9jax7F6fh38k7EDRE4WCsLixahefrXfu+tN
 R7op7wm5xUcNA+3DERof+T9/Lnulqz8NLmQBY=
X-Google-DKIM-Signature: v=1; a=rsa-sha256; c=relaxed/relaxed;
 d=1e100.net; s=20210112; t=1679522488;
 h=date:message-id:cc:to:from:subject:x-gm-message-state:from:to:cc
 :subject:date:message-id:reply-to;
 bh=KpW8y3nk4gt0zPQr9848r+l6i9EalnhP/tZgNhmyKcg=;
 b=qDun8i9oD+OB6QjUS/52ufQlZnLNLVzr8p036eSHgkpOK2iszAPHqWBqb73wMrEe4d
 I9zz9K9lS9MvHWzueT7AMkX7ltML8dLzqk1BMZLgYw5HPP9AweDPH1I5yhZQoCkQA7xr
 /QR0a16syJPnAaD/4+S4wNaRSkksOQOzMCromZ360/qDJXPlDykrAwopCrefPI1gWRpc
 bCoeZ+V04CuJ1PiPUI5O1xCRco5l+wySk3F5v+S73VMfRu5WYsDJnLe1Efh5TBLEauOM
 n6eJb8rK6lb0WuCenaMlFzvOnNPUQ0Ih1yjGrC8PdzPeKceX0Qe/DEMlJ2Vu9IVDe2LT
 m+Hw==
X-Gm-Message-State: AO0yUKVs0NvVRcPwZBxwrGWFBUxB3hpSFTogetOhTIBc3yDLie4d+QAZ
 MFQlIrY/IbCnWFcQ0X2TTPyzNDmB+NcBzjv9/0Mw2SoeCSlMtQt7TZT4bA==
X-Google-Smtp-Source: AK7set9zoazyqF8lIkjvb6I48dysSGfn8F9l4TJZCgnJGKETaPimW2JrKJyFkWTxv//ft3AJSJb8kwD1krYf
X-Received: by 2002:a17:90b:3886:b0:23b:89df:4cf4 with SMTP id
 mu6-20020a17090b388600b0023b89df4cf4mr5265612pjb.42.1679522488084; 
 Wed, 22 Mar 2023 15:01:28 -0700 (PDT)
Received: from postal.iol.unh.edu (postal.iol.unh.edu. [132.177.123.84])
 by smtp-relay.gmail.com with ESMTPS id
 h14-20020a170902680e00b00198fb0e7287sm2229376plk.58.2023.03.22.15.01.27
 (version=TLS1_2 cipher=ECDHE-ECDSA-AES128-GCM-SHA256 bits=128/128);
 Wed, 22 Mar 2023 15:01:28 -0700 (PDT)
X-Relaying-Domain: iol.unh.edu
Received: from dpdk-ubuntu.dpdklab.iol.unh.edu (unknown [172.18.0.210])
 by postal.iol.unh.edu (Postfix) with ESMTP id 30861605246B;
 Wed, 22 Mar 2023 18:01:27 -0400 (EDT)
Received: from dpdk-ubuntu-2.dpdklab.iol.unh.edu (localhost [IPv6:::1])
 by dpdk-ubuntu.dpdklab.iol.unh.edu (Postfix) with ESMTP id 2CE5A60121;
 Wed, 22 Mar 2023 22:01:27 +0000 (UTC)
Subject: |SUCCESS| pw125420 [PATCH] net/mlx5/hws: add check for modify-header
 actions
From: dpdklab@iol.unh.edu
To: Test Report <test-report@dpdk.org>
Cc: dpdklab@iol.unh.edu, David Marchand <david.marchand@redhat.com>,
 Thomas Monjalon <thomas@monjalon.net>
Content-Type: text/plain
Message-Id: <20230322220127.2CE5A60121@dpdk-ubuntu.dpdklab.iol.unh.edu>
Date: Wed, 22 Mar 2023 22:01:27 +0000 (UTC)
X-BeenThere: test-report@dpdk.org
X-Mailman-Version: 2.1.29
Precedence: list
List-Id: automatic DPDK test reports <test-report.dpdk.org>
List-Unsubscribe: <https://mails.dpdk.org/options/test-report>,
 <mailto:test-report-request@dpdk.org?subject=unsubscribe>
List-Archive: <http://mails.dpdk.org/archives/test-report/>
List-Post: <mailto:test-report@dpdk.org>
List-Help: <mailto:test-report-request@dpdk.org?subject=help>
List-Subscribe: <https://mails.dpdk.org/listinfo/test-report>,
 <mailto:test-report-request@dpdk.org?subject=subscribe>
Errors-To: test-report-bounces@dpdk.org

Test-Label: iol-aarch64-unit-testing
Test-Status: SUCCESS
http://dpdk.org/patch/125420

_Testing PASS_

Submitter: Erez Shitrit <erezsh@nvidia.com>
Date: Wednesday, March 22 2023 10:16:21 
DPDK git baseline: Repo:dpdk
  Branch: master
  CommitID:1a80f6062cf74e4b689b8b9a4f905a24efec527a

125420 --> testing pass

Test environment and result as below:

+-------------------------------+----------------+---------------------------+------------------------------+--------------+
|          Environment          | dpdk_unit_test | cryptodev_sw_zuc_autotest | cryptodev_sw_snow3g_autotest | lpm_autotest |
+===============================+================+===========================+==============================+==============+
| Ubuntu 20.04 ARM Clang Native | PASS           | SKIPPED                   | SKIPPED                      | SKIPPED      |
+-------------------------------+----------------+---------------------------+------------------------------+--------------+
| Ubuntu 20.04 ARM GCC Native   | PASS           | SKIPPED                   | SKIPPED                      | SKIPPED      |
+-------------------------------+----------------+---------------------------+------------------------------+--------------+
| Debian 11                     | SKIPPED        | PASS                      | PASS                         | SKIPPED      |
+-------------------------------+----------------+---------------------------+------------------------------+--------------+
| Ubuntu 20.04 ARM SVE          | SKIPPED        | SKIPPED                   | SKIPPED                      | PASS         |
+-------------------------------+----------------+---------------------------+------------------------------+--------------+


Ubuntu 20.04 ARM Clang Native
	Kernel: 5.4.0-53-generic
	Compiler: clang 10.0.0-4ubuntu1

Ubuntu 20.04 ARM GCC Native
	Kernel: 5.4.0-53-generic
	Compiler: gcc 9.3

Debian 11
	Kernel: Container Host Kernel
	Compiler: gcc 10.2.1

Ubuntu 20.04 ARM SVE
	Kernel: 5.4.0-80-generic
	Compiler: gcc 10.3.0 (Ubuntu 10.3.0-1ubuntu1~20.04)

To view detailed results, visit:
https://lab.dpdk.org/results/dashboard/patchsets/25830/

UNH-IOL DPDK Community Lab

To manage your email subscriptions, visit: 
https://lab.dpdk.org/results/dashboard/preferences/subscriptions/