From mboxrd@z Thu Jan  1 00:00:00 1970
Return-Path: <test-report-bounces@dpdk.org>
Received: from mails.dpdk.org (mails.dpdk.org [217.70.189.124])
	by inbox.dpdk.org (Postfix) with ESMTP id 5CB3942818
	for <public@inbox.dpdk.org>; Thu, 23 Mar 2023 03:14:07 +0100 (CET)
Received: from mails.dpdk.org (localhost [127.0.0.1])
	by mails.dpdk.org (Postfix) with ESMTP id 48D8440156;
	Thu, 23 Mar 2023 03:14:07 +0100 (CET)
Received: from mail-ua1-f97.google.com (mail-ua1-f97.google.com
 [209.85.222.97]) by mails.dpdk.org (Postfix) with ESMTP id 4642540156
 for <test-report@dpdk.org>; Thu, 23 Mar 2023 03:14:05 +0100 (CET)
Received: by mail-ua1-f97.google.com with SMTP id h34so14022405uag.4
 for <test-report@dpdk.org>; Wed, 22 Mar 2023 19:14:05 -0700 (PDT)
DKIM-Signature: v=1; a=rsa-sha256; c=relaxed/relaxed;
 d=iol.unh.edu; s=unh-iol; t=1679537644;
 h=date:message-id:cc:to:from:subject:from:to:cc:subject:date
 :message-id:reply-to;
 bh=h/cbB0pMHexnWLCx5xNEu5b0ItJfKmouF6yCuo8As+U=;
 b=XEBCRUtfYoxz0sWWBsjGeK65WHkN5UJHykDRHvnj4KmpzEjo7au5BXnm2UDGNMAZX+
 be0HcWcz+9Kzp9eyi9HYd/NCUWanvoIrdIWph+f2VazLR01vZhjpHc3l53a7oDxr7vxz
 cqSiiQkLdvb3k1s646HtMS8gjyilM7W7u2JpI=
X-Google-DKIM-Signature: v=1; a=rsa-sha256; c=relaxed/relaxed;
 d=1e100.net; s=20210112; t=1679537644;
 h=date:message-id:cc:to:from:subject:x-gm-message-state:from:to:cc
 :subject:date:message-id:reply-to;
 bh=h/cbB0pMHexnWLCx5xNEu5b0ItJfKmouF6yCuo8As+U=;
 b=XkKFMllzmbo8aApunYR07ab0eKw/SpNtJiGYw1bTbG3GVQZ3QxITYyQ1y2UJujerpu
 kLeNROsgOp/fS5IH0oQKlRCm25ioK4Jb0HkqYO8l/hCss+3iDUB+2DJXQQt0InDngzjG
 NnZxD/cJxELP7Uy7Kj42m9sIi3bMioTzjl+gfwZ3LNCn3gIPh02eGrUOZ5shi7xhXs77
 POjzOBs/JNAIuHw3uHfew9eZph59KnTTDVVMmgY6UrPNfrBw3uDDx8nFMZgqBqTYgfcz
 kJDD9wmYrWNgJ3OxL/CLXM2m+BfTGRKE/yg+5ftcokaha0EAFpjBFqYeoz8UZl1kGZYJ
 3cXw==
X-Gm-Message-State: AO0yUKUQ2FkSKSzwuLu0AetSN7HIuDarWO7ZhsNCf8E/WBrqrvKvLq4/
 ys6CZuBxrhZB4IHpdvcJ19DP9njeN4uBrYNIRQC1WwcZ9Ggtijvdah5x2e1Vb3eWKbyKaqxEvg=
 =
X-Google-Smtp-Source: AK7set+PAGxYihV/NabQmA4JYM9LQcBtx635PG8uByvhQCzz1HxBWUUIW3x2baMx8Y1xrSmV4h76m/IoCeeI
X-Received: by 2002:a05:6122:a01:b0:436:7dbf:6cab with SMTP id
 1-20020a0561220a0100b004367dbf6cabmr839431vkn.8.1679537644601; 
 Wed, 22 Mar 2023 19:14:04 -0700 (PDT)
Received: from postal.iol.unh.edu (postal.iol.unh.edu.
 [2606:4100:3880:1234::84]) by smtp-relay.gmail.com with ESMTPS id
 bc33-20020a0561220da100b00410499e2afdsm2970039vkb.3.2023.03.22.19.14.04
 (version=TLS1_2 cipher=ECDHE-ECDSA-AES128-GCM-SHA256 bits=128/128);
 Wed, 22 Mar 2023 19:14:04 -0700 (PDT)
X-Relaying-Domain: iol.unh.edu
Received: from dpdk-ubuntu.dpdklab.iol.unh.edu (unknown [172.18.0.210])
 by postal.iol.unh.edu (Postfix) with ESMTP id 9266A605246B;
 Wed, 22 Mar 2023 22:14:03 -0400 (EDT)
Received: from dpdk-ubuntu-2.dpdklab.iol.unh.edu (localhost [IPv6:::1])
 by dpdk-ubuntu.dpdklab.iol.unh.edu (Postfix) with ESMTP id 88ACC60121;
 Thu, 23 Mar 2023 02:14:03 +0000 (UTC)
Subject: |SUCCESS| pw125435 [PATCH] net/tap: resolve stringop-overflow with
 gcc 12 on ppc64le
From: dpdklab@iol.unh.edu
To: Test Report <test-report@dpdk.org>
Cc: dpdklab@iol.unh.edu, David Marchand <david.marchand@redhat.com>,
 Thomas Monjalon <thomas@monjalon.net>
Content-Type: text/plain
Message-Id: <20230323021403.88ACC60121@dpdk-ubuntu.dpdklab.iol.unh.edu>
Date: Thu, 23 Mar 2023 02:14:03 +0000 (UTC)
X-BeenThere: test-report@dpdk.org
X-Mailman-Version: 2.1.29
Precedence: list
List-Id: automatic DPDK test reports <test-report.dpdk.org>
List-Unsubscribe: <https://mails.dpdk.org/options/test-report>,
 <mailto:test-report-request@dpdk.org?subject=unsubscribe>
List-Archive: <http://mails.dpdk.org/archives/test-report/>
List-Post: <mailto:test-report@dpdk.org>
List-Help: <mailto:test-report-request@dpdk.org?subject=help>
List-Subscribe: <https://mails.dpdk.org/listinfo/test-report>,
 <mailto:test-report-request@dpdk.org?subject=subscribe>
Errors-To: test-report-bounces@dpdk.org

Test-Label: iol-abi-testing
Test-Status: SUCCESS
http://dpdk.org/patch/125435

_Testing PASS_

Submitter: David Christensen <drc@linux.vnet.ibm.com>
Date: Wednesday, March 22 2023 21:24:39 
DPDK git baseline: Repo:dpdk
  Branch: master
  CommitID:1a80f6062cf74e4b689b8b9a4f905a24efec527a

125435 --> testing pass

Test environment and result as below:

+------------------+----------+
|   Environment    | abi_test |
+==================+==========+
| CentOS Stream 9  | PASS     |
+------------------+----------+
| Ubuntu 22.04     | PASS     |
+------------------+----------+
| Debian Bullseye  | PASS     |
+------------------+----------+
| openSUSE Leap 15 | PASS     |
+------------------+----------+
| Ubuntu 20.04     | PASS     |
+------------------+----------+
| CentOS Stream 8  | PASS     |
+------------------+----------+
| RHEL 7           | PASS     |
+------------------+----------+
| Debian Buster    | PASS     |
+------------------+----------+
| RHEL8            | PASS     |
+------------------+----------+


CentOS Stream 9
	Kernel: 4.18.0-240.10.1.el8_3.x86_64
	Compiler: gcc 11.3.1 20220421

Ubuntu 22.04
	Kernel: Container Host Kernel
	Compiler: gcc 11.3.1-2

Debian Bullseye
	Kernel: 5.4.0-122-generic
	Compiler: gcc 10.2.1-6

openSUSE Leap 15
	Kernel: 4.18.0-240.10.1.el8_3.x86_64
	Compiler: gcc 7.5.0

Ubuntu 20.04
	Kernel: 4.18.0-240.10.1.el8_3.x86_64
	Compiler: gcc 9.3.0-17ubuntu1~20.04

CentOS Stream 8
	Kernel: 4.18.0-240.10.1.el8_3.x86_64
	Compiler: gcc 8.4.1 20200928

RHEL 7
	Kernel: 4.18.0-240.10.1.el8_3.x86_64
	Compiler: gcc 4.8.5 20150623 (Red Hat 4.8.5-44)

Debian Buster
	Kernel: 5.4.0-122-generic
	Compiler: gcc 8.3.0-6

RHEL8
	Kernel: 4.18.0-240.10.1.el8_3.x86_64
	Compiler: gcc 8.3.1 20191121 (Red Hat 8.3.1-5)

To view detailed results, visit:
https://lab.dpdk.org/results/dashboard/patchsets/25842/

UNH-IOL DPDK Community Lab

To manage your email subscriptions, visit: 
https://lab.dpdk.org/results/dashboard/preferences/subscriptions/