From mboxrd@z Thu Jan  1 00:00:00 1970
Return-Path: <test-report-bounces@dpdk.org>
Received: from mails.dpdk.org (mails.dpdk.org [217.70.189.124])
	by inbox.dpdk.org (Postfix) with ESMTP id 2ACE74281B
	for <public@inbox.dpdk.org>; Thu, 23 Mar 2023 04:12:56 +0100 (CET)
Received: from mails.dpdk.org (localhost [127.0.0.1])
	by mails.dpdk.org (Postfix) with ESMTP id 1819740156;
	Thu, 23 Mar 2023 04:12:56 +0100 (CET)
Received: from mail-vs1-f100.google.com (mail-vs1-f100.google.com
 [209.85.217.100])
 by mails.dpdk.org (Postfix) with ESMTP id E546640156
 for <test-report@dpdk.org>; Thu, 23 Mar 2023 04:12:54 +0100 (CET)
Received: by mail-vs1-f100.google.com with SMTP id c10so10725117vsh.12
 for <test-report@dpdk.org>; Wed, 22 Mar 2023 20:12:54 -0700 (PDT)
DKIM-Signature: v=1; a=rsa-sha256; c=relaxed/relaxed;
 d=iol.unh.edu; s=unh-iol; t=1679541174;
 h=date:message-id:cc:to:from:subject:from:to:cc:subject:date
 :message-id:reply-to;
 bh=YnYoQJbWg8PcMgkKTN5Bhtn9uPNlBmXdirVpHWChATk=;
 b=bYzSNNScRUrUW8NE3Dex6nGSOYAsUSHKO76/ov5+zK1GvhaWtfMrqI9KQtpBB6WtRn
 uM09mnQkr9vW0FwzEQN43AUi5BZxZyHLF2606b7EHFUfQvzzY2SbARGNgyh2LdyBz7U0
 q5h+aA8glh93us5iXkpYg9xCeneN/NbdOx5Tk=
X-Google-DKIM-Signature: v=1; a=rsa-sha256; c=relaxed/relaxed;
 d=1e100.net; s=20210112; t=1679541174;
 h=date:message-id:cc:to:from:subject:x-gm-message-state:from:to:cc
 :subject:date:message-id:reply-to;
 bh=YnYoQJbWg8PcMgkKTN5Bhtn9uPNlBmXdirVpHWChATk=;
 b=IvoZAfnAEMfAvJjpvMDzG7/zlxCWmM16CjgEt5TBzVLyLL4n5bvrPjzzapAIW1T0Dy
 Nb7LfkyJuuzLH58YrH3Uali8lFRqPm8/PAncs8WrI45io5ljfzG47nilwr5xYix5QJ8h
 xjfcexU7srK16gV973WtPvgsDB8ZAF9O6Q7kD+mmoNLKUpc3tO+QH1xbcCBskZrwo2Lf
 MU0VIrsHTjVNC4eA9BMMcRYmlLN3g6x/kW2TrYzkQQrKyPOgx0ZKDCo0pNyJ38ebDWKe
 0TDyh8j+FV8R35OJRcdzEwIs4MEAgRHkZzPl2SE7YBmIsT6pUGQo9Skt8lEMSI7CMa2N
 cAvQ==
X-Gm-Message-State: AO0yUKWyqVi/yR72RAo0NJf1bIoeghHVE23w3pCTmjqgyPZYRs3wR+2I
 gDM2I7MdhHZi2URKdBIUEiV9sby1Ofwc7iN/PQDz/jswH+tF9RCEobzAhg==
X-Google-Smtp-Source: AK7set+3m+UriZ0A3z2bHPugZBGr9sWeXp175vdsolsgmjattt7CdkHCVldoVqMtyiWtb4joWGw3v1mAgrhh
X-Received: by 2002:a05:6102:3567:b0:416:adb3:5caf with SMTP id
 bh7-20020a056102356700b00416adb35cafmr536858vsb.28.1679541174250; 
 Wed, 22 Mar 2023 20:12:54 -0700 (PDT)
Received: from postal.iol.unh.edu (postal.iol.unh.edu. [132.177.123.84])
 by smtp-relay.gmail.com with ESMTPS id
 m9-20020a0561023e8900b003d3dd0b55besm2032159vsv.1.2023.03.22.20.12.54
 (version=TLS1_2 cipher=ECDHE-ECDSA-AES128-GCM-SHA256 bits=128/128);
 Wed, 22 Mar 2023 20:12:54 -0700 (PDT)
X-Relaying-Domain: iol.unh.edu
Received: from dpdk-ubuntu.dpdklab.iol.unh.edu (unknown
 [IPv6:2606:4100:3880:1722::210])
 by postal.iol.unh.edu (Postfix) with ESMTP id 97491605246B;
 Wed, 22 Mar 2023 23:12:53 -0400 (EDT)
Received: from dpdk-ubuntu-2.dpdklab.iol.unh.edu (localhost [IPv6:::1])
 by dpdk-ubuntu.dpdklab.iol.unh.edu (Postfix) with ESMTP id 8798660121;
 Thu, 23 Mar 2023 03:12:53 +0000 (UTC)
Subject: |SUCCESS| pw125429 [PATCH] vhost: avoid sleeping under mutex
From: dpdklab@iol.unh.edu
To: Test Report <test-report@dpdk.org>
Cc: dpdklab@iol.unh.edu, David Marchand <david.marchand@redhat.com>,
 Thomas Monjalon <thomas@monjalon.net>
Content-Type: text/plain
Message-Id: <20230323031253.8798660121@dpdk-ubuntu.dpdklab.iol.unh.edu>
Date: Thu, 23 Mar 2023 03:12:53 +0000 (UTC)
X-BeenThere: test-report@dpdk.org
X-Mailman-Version: 2.1.29
Precedence: list
List-Id: automatic DPDK test reports <test-report.dpdk.org>
List-Unsubscribe: <https://mails.dpdk.org/options/test-report>,
 <mailto:test-report-request@dpdk.org?subject=unsubscribe>
List-Archive: <http://mails.dpdk.org/archives/test-report/>
List-Post: <mailto:test-report@dpdk.org>
List-Help: <mailto:test-report-request@dpdk.org?subject=help>
List-Subscribe: <https://mails.dpdk.org/listinfo/test-report>,
 <mailto:test-report-request@dpdk.org?subject=subscribe>
Errors-To: test-report-bounces@dpdk.org

Test-Label: iol-abi-testing
Test-Status: SUCCESS
http://dpdk.org/patch/125429

_Testing PASS_

Submitter: David Marchand <david.marchand@redhat.com>
Date: Wednesday, March 22 2023 17:05:24 
DPDK git baseline: Repo:dpdk
  Branch: master
  CommitID:1a80f6062cf74e4b689b8b9a4f905a24efec527a

125429 --> testing pass

Test environment and result as below:

+------------------+----------+
|   Environment    | abi_test |
+==================+==========+
| CentOS Stream 8  | PASS     |
+------------------+----------+
| Debian Buster    | PASS     |
+------------------+----------+
| Ubuntu 22.04     | PASS     |
+------------------+----------+
| RHEL 7           | PASS     |
+------------------+----------+
| openSUSE Leap 15 | PASS     |
+------------------+----------+
| RHEL8            | PASS     |
+------------------+----------+
| Debian Bullseye  | PASS     |
+------------------+----------+
| CentOS Stream 9  | PASS     |
+------------------+----------+
| Ubuntu 20.04     | PASS     |
+------------------+----------+


CentOS Stream 8
	Kernel: 4.18.0-240.10.1.el8_3.x86_64
	Compiler: gcc 8.4.1 20200928

Debian Buster
	Kernel: 5.4.0-122-generic
	Compiler: gcc 8.3.0-6

Ubuntu 22.04
	Kernel: Container Host Kernel
	Compiler: gcc 12.2.1-2

RHEL 7
	Kernel: 4.18.0-240.10.1.el8_3.x86_64
	Compiler: gcc 4.8.5 20150623 (Red Hat 4.8.5-44)

openSUSE Leap 15
	Kernel: 4.18.0-240.10.1.el8_3.x86_64
	Compiler: gcc 7.5.0

RHEL8
	Kernel: 4.18.0-240.10.1.el8_3.x86_64
	Compiler: gcc 8.3.1 20191121 (Red Hat 8.3.1-5)

Debian Bullseye
	Kernel: 5.4.0-122-generic
	Compiler: gcc 10.2.1-6

CentOS Stream 9
	Kernel: 4.18.0-240.10.1.el8_3.x86_64
	Compiler: gcc 11.3.1 20220421

Ubuntu 20.04
	Kernel: 4.18.0-240.10.1.el8_3.x86_64
	Compiler: gcc 9.3.0-17ubuntu1~20.04

To view detailed results, visit:
https://lab.dpdk.org/results/dashboard/patchsets/25838/

UNH-IOL DPDK Community Lab

To manage your email subscriptions, visit: 
https://lab.dpdk.org/results/dashboard/preferences/subscriptions/