From mboxrd@z Thu Jan  1 00:00:00 1970
Return-Path: <test-report-bounces@dpdk.org>
Received: from mails.dpdk.org (mails.dpdk.org [217.70.189.124])
	by inbox.dpdk.org (Postfix) with ESMTP id 50A4F42820
	for <public@inbox.dpdk.org>; Thu, 23 Mar 2023 09:47:05 +0100 (CET)
Received: from mails.dpdk.org (localhost [127.0.0.1])
	by mails.dpdk.org (Postfix) with ESMTP id 2875F4021E;
	Thu, 23 Mar 2023 09:47:05 +0100 (CET)
Received: from mail-il1-f228.google.com (mail-il1-f228.google.com
 [209.85.166.228])
 by mails.dpdk.org (Postfix) with ESMTP id 022464021E
 for <test-report@dpdk.org>; Thu, 23 Mar 2023 09:47:03 +0100 (CET)
Received: by mail-il1-f228.google.com with SMTP id j6so11241142ilr.7
 for <test-report@dpdk.org>; Thu, 23 Mar 2023 01:47:03 -0700 (PDT)
DKIM-Signature: v=1; a=rsa-sha256; c=relaxed/relaxed;
 d=iol.unh.edu; s=unh-iol; t=1679561223;
 h=date:message-id:cc:to:from:subject:from:to:cc:subject:date
 :message-id:reply-to;
 bh=DivQcksAuYQr5b2Rte/ia1A3AyBgsGCmhi81V7uDt3U=;
 b=Buh0ZvNCGytMUZN+TbzXjPmcJ8p7fy77kQHbMmr4OPICQoM0xTIVRxGMsSI+g4OY2X
 LzWa3werdt2ngFVJNiQCgCdqoGdKybby00i4WN6PzHfnU1FUBMvPJFqhcWrsUlKFauhz
 Q1OzkXtL+ucxKi/MyWnNi20ngEY2TOYGiwkes=
X-Google-DKIM-Signature: v=1; a=rsa-sha256; c=relaxed/relaxed;
 d=1e100.net; s=20210112; t=1679561223;
 h=date:message-id:cc:to:from:subject:x-gm-message-state:from:to:cc
 :subject:date:message-id:reply-to;
 bh=DivQcksAuYQr5b2Rte/ia1A3AyBgsGCmhi81V7uDt3U=;
 b=lzQ6V7OvpmiyfznryZ644b3n+KamHErb31sYyPb46oIwbcvDhp+zWr3nXE5bkvFReV
 QEKiGGRj78g91kXH3tWIgvgtw1ZRskxEUvEeTzcTl4OsEW03h1Zef9vAFkrYclAqcIgA
 5ITYAzCojBaj4u5N9rm5oSuzgJQxICUBy4OMF0f6C+H8s8oizNLef4J0ds8kyfHwmG3n
 IliIllcWBYguU7BTmO9BlHYLW5iphnYCYu3HaMzmx2sLHjheJ+GEqBBPdKf3ag8HDz8O
 kAfKqvPhLGMqQxsOuXM3v3ygmkFG0nzuHsyFN0KGceLyRxhh3d2cKerZN2rwzb6TZQfy
 X3uA==
X-Gm-Message-State: AO0yUKV47lG9j6xQWAb98+8haa88Fa4JxFkBxChA8IOCUBQ3QIXBxfF0
 B/D48n/ly6Kn7TJtdJtClR4jX8Q9W8cnq/dcUd5W6uKxSTl0KC5wIIMeZAxvyv/V6siJXl7YbQ=
 =
X-Google-Smtp-Source: AK7set+CcXubh6RsWiVyUjEhd+/mMiq1GChPeVFiz/JwgOxobdLZll+ioXUSXpsYZfnlXztApxF/giaHdZ5u
X-Received: by 2002:a05:6e02:1409:b0:322:ffe9:1576 with SMTP id
 n9-20020a056e02140900b00322ffe91576mr3371621ilo.2.1679561223240; 
 Thu, 23 Mar 2023 01:47:03 -0700 (PDT)
Received: from postal.iol.unh.edu (postal.iol.unh.edu.
 [2606:4100:3880:1234::84]) by smtp-relay.gmail.com with ESMTPS id
 t23-20020a02b197000000b003e5a7d96b94sm3016693jah.4.2023.03.23.01.47.03
 (version=TLS1_2 cipher=ECDHE-ECDSA-AES128-GCM-SHA256 bits=128/128);
 Thu, 23 Mar 2023 01:47:03 -0700 (PDT)
X-Relaying-Domain: iol.unh.edu
Received: from dpdk-ubuntu.dpdklab.iol.unh.edu (unknown
 [IPv6:2606:4100:3880:1722::210])
 by postal.iol.unh.edu (Postfix) with ESMTP id D0E7F605246B;
 Thu, 23 Mar 2023 04:47:02 -0400 (EDT)
Received: from dpdk-ubuntu-2.dpdklab.iol.unh.edu (localhost [IPv6:::1])
 by dpdk-ubuntu.dpdklab.iol.unh.edu (Postfix) with ESMTP id C73D560125;
 Thu, 23 Mar 2023 08:47:02 +0000 (UTC)
Subject: |SUCCESS| pw125374-125407 [PATCH] [33/33] doc: update virtio guide
From: dpdklab@iol.unh.edu
To: Test Report <test-report@dpdk.org>
Cc: dpdklab@iol.unh.edu, David Marchand <david.marchand@redhat.com>,
 Thomas Monjalon <thomas@monjalon.net>
Content-Type: text/plain
Message-Id: <20230323084702.C73D560125@dpdk-ubuntu.dpdklab.iol.unh.edu>
Date: Thu, 23 Mar 2023 08:47:02 +0000 (UTC)
X-BeenThere: test-report@dpdk.org
X-Mailman-Version: 2.1.29
Precedence: list
List-Id: automatic DPDK test reports <test-report.dpdk.org>
List-Unsubscribe: <https://mails.dpdk.org/options/test-report>,
 <mailto:test-report-request@dpdk.org?subject=unsubscribe>
List-Archive: <http://mails.dpdk.org/archives/test-report/>
List-Post: <mailto:test-report@dpdk.org>
List-Help: <mailto:test-report-request@dpdk.org?subject=help>
List-Subscribe: <https://mails.dpdk.org/listinfo/test-report>,
 <mailto:test-report-request@dpdk.org?subject=subscribe>
Errors-To: test-report-bounces@dpdk.org

Test-Label: iol-aarch64-compile-testing
Test-Status: SUCCESS
http://dpdk.org/patch/125407

_Testing PASS_

Submitter: Ferruh Yigit <ferruh.yigit@amd.com>
Date: Tuesday, March 21 2023 23:59:41 
DPDK git baseline: Repo:dpdk
  Branch: master
  CommitID:1a80f6062cf74e4b689b8b9a4f905a24efec527a

125374-125407 --> testing pass

Test environment and result as below:

+----------------------------------------+--------------------+
|              Environment               | dpdk_meson_compile |
+========================================+====================+
| Ubuntu 20.04 ARM GCC Native            | PASS               |
+----------------------------------------+--------------------+
| Ubuntu 20.04 ARM Clang Native          | PASS               |
+----------------------------------------+--------------------+
| Ubuntu 20.04 ARM GCC Cross Compile     | PASS               |
+----------------------------------------+--------------------+
| Ubuntu 20.04 ARM Clang Cross Compile   | PASS               |
+----------------------------------------+--------------------+
| Ubuntu 20.04 aarch32 GCC Cross Compile | PASS               |
+----------------------------------------+--------------------+
| Ubuntu 20.04 ARM SVE                   | PASS               |
+----------------------------------------+--------------------+


Ubuntu 20.04 ARM GCC Native
	Kernel: 5.4.0-53-generic
	Compiler: gcc 9.3

Ubuntu 20.04 ARM Clang Native
	Kernel: 5.4.0-53-generic
	Compiler: clang 10.0.0-4ubuntu1

Ubuntu 20.04 ARM GCC Cross Compile
	Kernel: 5.4.0-72-generic
	Compiler: aarch64-linux-gnu-gcc (Ubuntu 9.3.0-17ubuntu1~20.04) 9.3.0

Ubuntu 20.04 ARM Clang Cross Compile
	Kernel: 5.4.0-72-generic
	Compiler: clang version 10.0.0-4ubuntu1

Ubuntu 20.04 aarch32 GCC Cross Compile
	Kernel: 5.4.0-72-generic
	Compiler: gcc 9.3.0

Ubuntu 20.04 ARM SVE
	Kernel: 5.4.0-80-generic
	Compiler: gcc 10.3.0 (Ubuntu 10.3.0-1ubuntu1~20.04)

To view detailed results, visit:
https://lab.dpdk.org/results/dashboard/patchsets/25822/

UNH-IOL DPDK Community Lab

To manage your email subscriptions, visit: 
https://lab.dpdk.org/results/dashboard/preferences/subscriptions/