From mboxrd@z Thu Jan  1 00:00:00 1970
Return-Path: <test-report-bounces@dpdk.org>
Received: from mails.dpdk.org (mails.dpdk.org [217.70.189.124])
	by inbox.dpdk.org (Postfix) with ESMTP id DAD6A42813
	for <public@inbox.dpdk.org>; Thu, 23 Mar 2023 11:30:47 +0100 (CET)
Received: from mails.dpdk.org (localhost [127.0.0.1])
	by mails.dpdk.org (Postfix) with ESMTP id B620B4021D;
	Thu, 23 Mar 2023 11:30:47 +0100 (CET)
Received: from mail-pj1-f99.google.com (mail-pj1-f99.google.com
 [209.85.216.99]) by mails.dpdk.org (Postfix) with ESMTP id 4BBDE4021D
 for <test-report@dpdk.org>; Thu, 23 Mar 2023 11:30:46 +0100 (CET)
Received: by mail-pj1-f99.google.com with SMTP id l7so4011648pjg.5
 for <test-report@dpdk.org>; Thu, 23 Mar 2023 03:30:46 -0700 (PDT)
DKIM-Signature: v=1; a=rsa-sha256; c=relaxed/relaxed;
 d=iol.unh.edu; s=unh-iol; t=1679567445;
 h=date:message-id:cc:to:from:subject:from:to:cc:subject:date
 :message-id:reply-to;
 bh=DV1b+mt9ZtvH7hVdA+DOif1W/68G3gxjlJCZvIuUML0=;
 b=iIF9neUjE/WLYGXZNaFR58cfgD5x+4vaoDPWKpYERaD5PD18JizYcDiwXrbLqLj9t8
 zN9Xi74YSGImXA7PjUteUb2qwkmtZoE+ErJUIVuoWqpkRNhc4yAlrXC/D1HRrdX/aqie
 EBzyNnkxGitHBiKHnm4CX2zf5YpD1aCpuWI7Q=
X-Google-DKIM-Signature: v=1; a=rsa-sha256; c=relaxed/relaxed;
 d=1e100.net; s=20210112; t=1679567445;
 h=date:message-id:cc:to:from:subject:x-gm-message-state:from:to:cc
 :subject:date:message-id:reply-to;
 bh=DV1b+mt9ZtvH7hVdA+DOif1W/68G3gxjlJCZvIuUML0=;
 b=mTg1ZPfgrVO6tj8WUbBQ8pQj8Dgn+eEvpAtsqiPRb2hPGxreN33tUUewFamPqJkw+C
 rTuguCOOfVZ8heq2RDOiHNaT2nNhRSYYYI8jbUExp+lAuT6IA3uEqVqLGafHxhA1u5jS
 Alu0va95kVjHqI1mcN5NdaFTd8Vmmc3u/zq2kfgyGxVqgbeX1wp5tbRkmJAczmO0w0qI
 /CNaEGNf851QCKefLPJUdlHrGeXXTQUiuyTMuMQXWuEzD+KsAfHZaVPq40X+S34fGjDK
 C4zHia3l3L1SmP7I1eAdTwQfmgW5hgtuqGyrJ8wh9ggC06QjXmHcmANX92LuD7+VayXP
 tMSQ==
X-Gm-Message-State: AO0yUKVfho+Ip59qwgbhYGzGTS72+vAeo+Ho89Xi7ZGlR8O2oZcBngJ9
 TJTvjOmv1kluW/cC7rJPCvLtUIA4160xfJ5FchWEO/TklZXnia+xBY1dTJ25Gw4hSzfwy8bWYw=
 =
X-Google-Smtp-Source: AK7set9AMcKWH+CVMbjvpQLrHxJsfc3nfmwElBOfCYUPm6ucpNkzMcQfRI/3b5rKqZ5ZziVrukHnkeY47LRR
X-Received: by 2002:a17:902:fa0e:b0:19d:b02:cca5 with SMTP id
 la14-20020a170902fa0e00b0019d0b02cca5mr5525315plb.12.1679567445527; 
 Thu, 23 Mar 2023 03:30:45 -0700 (PDT)
Received: from postal.iol.unh.edu (postal.iol.unh.edu.
 [2606:4100:3880:1234::84]) by smtp-relay.gmail.com with ESMTPS id
 ij24-20020a170902ab5800b0019a9629b94csm2366023plb.45.2023.03.23.03.30.45
 (version=TLS1_2 cipher=ECDHE-ECDSA-AES128-GCM-SHA256 bits=128/128);
 Thu, 23 Mar 2023 03:30:45 -0700 (PDT)
X-Relaying-Domain: iol.unh.edu
Received: from dpdk-ubuntu.dpdklab.iol.unh.edu (unknown
 [IPv6:2606:4100:3880:1722::210])
 by postal.iol.unh.edu (Postfix) with ESMTP id 0A88C605246B;
 Thu, 23 Mar 2023 06:30:45 -0400 (EDT)
Received: from dpdk-ubuntu-2.dpdklab.iol.unh.edu (localhost [IPv6:::1])
 by dpdk-ubuntu.dpdklab.iol.unh.edu (Postfix) with ESMTP id E034360125;
 Thu, 23 Mar 2023 10:30:44 +0000 (UTC)
Subject: |SUCCESS| pw125427 [PATCH] [v4] net/mlx5/hws: add check for
 modify-header actions
From: dpdklab@iol.unh.edu
To: Test Report <test-report@dpdk.org>
Cc: dpdklab@iol.unh.edu, David Marchand <david.marchand@redhat.com>,
 Thomas Monjalon <thomas@monjalon.net>
Content-Type: text/plain
Message-Id: <20230323103044.E034360125@dpdk-ubuntu.dpdklab.iol.unh.edu>
Date: Thu, 23 Mar 2023 10:30:44 +0000 (UTC)
X-BeenThere: test-report@dpdk.org
X-Mailman-Version: 2.1.29
Precedence: list
List-Id: automatic DPDK test reports <test-report.dpdk.org>
List-Unsubscribe: <https://mails.dpdk.org/options/test-report>,
 <mailto:test-report-request@dpdk.org?subject=unsubscribe>
List-Archive: <http://mails.dpdk.org/archives/test-report/>
List-Post: <mailto:test-report@dpdk.org>
List-Help: <mailto:test-report-request@dpdk.org?subject=help>
List-Subscribe: <https://mails.dpdk.org/listinfo/test-report>,
 <mailto:test-report-request@dpdk.org?subject=subscribe>
Errors-To: test-report-bounces@dpdk.org

Test-Label: iol-abi-testing
Test-Status: SUCCESS
http://dpdk.org/patch/125427

_Testing PASS_

Submitter: Erez Shitrit <erezsh@nvidia.com>
Date: Wednesday, March 22 2023 14:45:16 
DPDK git baseline: Repo:dpdk
  Branch: master
  CommitID:1a80f6062cf74e4b689b8b9a4f905a24efec527a

125427 --> testing pass

Test environment and result as below:

+------------------+----------+
|   Environment    | abi_test |
+==================+==========+
| CentOS Stream 8  | PASS     |
+------------------+----------+
| RHEL8            | PASS     |
+------------------+----------+
| openSUSE Leap 15 | PASS     |
+------------------+----------+
| Ubuntu 22.04     | PASS     |
+------------------+----------+
| CentOS Stream 9  | PASS     |
+------------------+----------+
| RHEL 7           | PASS     |
+------------------+----------+
| Debian Buster    | PASS     |
+------------------+----------+
| Debian Bullseye  | PASS     |
+------------------+----------+
| Ubuntu 20.04     | PASS     |
+------------------+----------+


CentOS Stream 8
	Kernel: 4.18.0-240.10.1.el8_3.x86_64
	Compiler: gcc 8.4.1 20200928

RHEL8
	Kernel: 4.18.0-240.10.1.el8_3.x86_64
	Compiler: gcc 8.3.1 20191121 (Red Hat 8.3.1-5)

openSUSE Leap 15
	Kernel: 4.18.0-240.10.1.el8_3.x86_64
	Compiler: gcc 7.5.0

Ubuntu 22.04
	Kernel: Container Host Kernel
	Compiler: gcc 11.3.1-2

CentOS Stream 9
	Kernel: 4.18.0-240.10.1.el8_3.x86_64
	Compiler: gcc 11.3.1 20220421

RHEL 7
	Kernel: 4.18.0-240.10.1.el8_3.x86_64
	Compiler: gcc 4.8.5 20150623 (Red Hat 4.8.5-44)

Debian Buster
	Kernel: 5.4.0-122-generic
	Compiler: gcc 8.3.0-6

Debian Bullseye
	Kernel: 5.4.0-122-generic
	Compiler: gcc 10.2.1-6

Ubuntu 20.04
	Kernel: 4.18.0-240.10.1.el8_3.x86_64
	Compiler: gcc 9.3.0-17ubuntu1~20.04

To view detailed results, visit:
https://lab.dpdk.org/results/dashboard/patchsets/25836/

UNH-IOL DPDK Community Lab

To manage your email subscriptions, visit: 
https://lab.dpdk.org/results/dashboard/preferences/subscriptions/