From mboxrd@z Thu Jan  1 00:00:00 1970
Return-Path: <test-report-bounces@dpdk.org>
Received: from mails.dpdk.org (mails.dpdk.org [217.70.189.124])
	by inbox.dpdk.org (Postfix) with ESMTP id 61BB84281F
	for <public@inbox.dpdk.org>; Thu, 23 Mar 2023 17:31:00 +0100 (CET)
Received: from mails.dpdk.org (localhost [127.0.0.1])
	by mails.dpdk.org (Postfix) with ESMTP id 5E2E94021E;
	Thu, 23 Mar 2023 17:31:00 +0100 (CET)
Received: from mail-oi1-f228.google.com (mail-oi1-f228.google.com
 [209.85.167.228])
 by mails.dpdk.org (Postfix) with ESMTP id F3DFE4021E
 for <test-report@dpdk.org>; Thu, 23 Mar 2023 17:30:58 +0100 (CET)
Received: by mail-oi1-f228.google.com with SMTP id y184so16599617oiy.8
 for <test-report@dpdk.org>; Thu, 23 Mar 2023 09:30:58 -0700 (PDT)
DKIM-Signature: v=1; a=rsa-sha256; c=relaxed/relaxed;
 d=iol.unh.edu; s=unh-iol; t=1679589058;
 h=date:message-id:cc:to:from:subject:from:to:cc:subject:date
 :message-id:reply-to;
 bh=r5SYkRWyZrVdLIlxsgnfiWcxXx5qFjirHhQLZ42NJdc=;
 b=YJIzhTWxMMez924XxBVIpO56IfN/cmgUfLQ7hC632VhlQTdTxyY3/m8Aua27pYRrJ+
 x88WGkwcKhyexxIHC/ZmxNuU+x1Z65iYjiEJeE0PiVDO/E9v5lgauSEKP8OVwCdUJhYr
 EAyyv7wn0yMH7KXHsdzGwYyBzuJshPx7aOiU8=
X-Google-DKIM-Signature: v=1; a=rsa-sha256; c=relaxed/relaxed;
 d=1e100.net; s=20210112; t=1679589058;
 h=date:message-id:cc:to:from:subject:x-gm-message-state:from:to:cc
 :subject:date:message-id:reply-to;
 bh=r5SYkRWyZrVdLIlxsgnfiWcxXx5qFjirHhQLZ42NJdc=;
 b=6gqBYVDd5ZZT2+HAAwsd4wrv7lTqtMz4SOY2/dI2oc+IuzYlX6/WuLDyauQRMysUZr
 uxUD1NuyYw+p+4MZU7I8yl1FRPYPWK0egNS3qTQLgRsDmtXy1PXIMpJLhSsc4+SBQl9G
 3tfApsS19siFyrLhpjIhctVm9RwFlKwX6aWlSm0kTBknKzLjc+emlTWudWGfmeBDWVig
 SbtRlNA5Q31n1hhZSooXeF7MMUdC97JcnDfoK5c4ea4O8Sgt55T0P+NRSB/TKZH84nGy
 VX0wYec2F2ofT5XGYx8UPWFeeUvBX7IpRHHgiqB+ikjSEhZhzROPs1XAd6zkqO5Ynnml
 uzRA==
X-Gm-Message-State: AO0yUKUe2faHgdpODLtB/DxvX5daOzbrFBWcfxG+OC1yqhkm8m0Vio7E
 xSAhOdamjwUlKLacOGK9x6liURhlIeCfxhGySk9VfZWTQHugsC5cj9uE2aBj3b+0AN2J3yDgRg=
 =
X-Google-Smtp-Source: AK7set9dTGsHiVQg4e3kl7p1yUZeej4ymgmr4/U+V0ahSu1T36XG9XEw4SWQX1upvkgrf4GTGDBgvSB14rYO
X-Received: by 2002:aca:1316:0:b0:364:ebf2:735f with SMTP id
 e22-20020aca1316000000b00364ebf2735fmr3450928oii.24.1679589058291; 
 Thu, 23 Mar 2023 09:30:58 -0700 (PDT)
Received: from postal.iol.unh.edu (postal.iol.unh.edu.
 [2606:4100:3880:1234::84]) by smtp-relay.gmail.com with ESMTPS id
 b12-20020a056830310c00b00693d9993e57sm3958689ots.0.2023.03.23.09.30.58
 (version=TLS1_2 cipher=ECDHE-ECDSA-AES128-GCM-SHA256 bits=128/128);
 Thu, 23 Mar 2023 09:30:58 -0700 (PDT)
X-Relaying-Domain: iol.unh.edu
Received: from dpdk-ubuntu.dpdklab.iol.unh.edu (unknown [172.18.0.210])
 by postal.iol.unh.edu (Postfix) with ESMTP id E674F605246B;
 Thu, 23 Mar 2023 12:30:57 -0400 (EDT)
Received: from dpdk-ubuntu-2.dpdklab.iol.unh.edu (localhost [IPv6:::1])
 by dpdk-ubuntu.dpdklab.iol.unh.edu (Postfix) with ESMTP id E351160125;
 Thu, 23 Mar 2023 16:30:57 +0000 (UTC)
Subject: |SUCCESS| pw125415-125416 [PATCH] [v1,
 2/2] net/mlx5: adopt new sample ID
From: dpdklab@iol.unh.edu
To: Test Report <test-report@dpdk.org>
Cc: dpdk-test-reports@iol.unh.edu, David Marchand <david.marchand@redhat.com>,
 Thomas Monjalon <thomas@monjalon.net>
Content-Type: text/plain
Message-Id: <20230323163057.E351160125@dpdk-ubuntu.dpdklab.iol.unh.edu>
Date: Thu, 23 Mar 2023 16:30:57 +0000 (UTC)
X-BeenThere: test-report@dpdk.org
X-Mailman-Version: 2.1.29
Precedence: list
List-Id: automatic DPDK test reports <test-report.dpdk.org>
List-Unsubscribe: <https://mails.dpdk.org/options/test-report>,
 <mailto:test-report-request@dpdk.org?subject=unsubscribe>
List-Archive: <http://mails.dpdk.org/archives/test-report/>
List-Post: <mailto:test-report@dpdk.org>
List-Help: <mailto:test-report-request@dpdk.org?subject=help>
List-Subscribe: <https://mails.dpdk.org/listinfo/test-report>,
 <mailto:test-report-request@dpdk.org?subject=subscribe>
Errors-To: test-report-bounces@dpdk.org

Test-Label: iol-x86_64-compile-testing
Test-Status: SUCCESS
http://dpdk.org/patch/125416

_Testing PASS_

Submitter: Rongwei Liu <rongweil@nvidia.com>
Date: Wednesday, March 22 2023 09:38:15 
DPDK git baseline: Repo:dpdk
  Branch: master
  CommitID:1a80f6062cf74e4b689b8b9a4f905a24efec527a

125415-125416 --> testing pass

Test environment and result as below:

+------------------+--------------------+
|   Environment    | dpdk_meson_compile |
+==================+====================+
| FreeBSD 13       | PASS               |
+------------------+--------------------+
| CentOS Stream 9  | PASS               |
+------------------+--------------------+
| Debian Bullseye  | PASS               |
+------------------+--------------------+
| Ubuntu 22.04     | PASS               |
+------------------+--------------------+
| CentOS Stream 8  | PASS               |
+------------------+--------------------+
| Debian Buster    | PASS               |
+------------------+--------------------+
| RHEL 7           | PASS               |
+------------------+--------------------+
| Ubuntu 20.04     | PASS               |
+------------------+--------------------+
| RHEL8            | PASS               |
+------------------+--------------------+
| openSUSE Leap 15 | PASS               |
+------------------+--------------------+


FreeBSD 13
	Kernel: 13.0
	Compiler: clang 11.0.1

CentOS Stream 9
	Kernel: 4.18.0-240.10.1.el8_3.x86_64
	Compiler: gcc 11.3.1 20220421

Debian Bullseye
	Kernel: 5.4.0-122-generic
	Compiler: gcc 10.2.1-6

Ubuntu 22.04
	Kernel: Container Host Kernel
	Compiler: gcc 11.3.1-2

CentOS Stream 8
	Kernel: 4.18.0-240.10.1.el8_3.x86_64
	Compiler: gcc 8.4.1 20200928

Debian Buster
	Kernel: 5.4.0-122-generic
	Compiler: gcc 8.3.0-6

RHEL 7
	Kernel: 4.18.0-240.10.1.el8_3.x86_64
	Compiler: gcc 4.8.5 20150623 (Red Hat 4.8.5-44)

Ubuntu 20.04
	Kernel: 4.18.0-240.10.1.el8_3.x86_64
	Compiler: gcc 9.3.0-17ubuntu1~20.04

RHEL8
	Kernel: 4.18.0-240.10.1.el8_3.x86_64
	Compiler: gcc 8.3.1 20191121 (Red Hat 8.3.1-5)

openSUSE Leap 15
	Kernel: 4.18.0-240.10.1.el8_3.x86_64
	Compiler: gcc 7.5.0

To view detailed results, visit:
https://lab.dpdk.org/results/dashboard/patchsets/25826/

UNH-IOL DPDK Community Lab

To manage your email subscriptions, visit: 
https://lab.dpdk.org/results/dashboard/preferences/subscriptions/