From mboxrd@z Thu Jan  1 00:00:00 1970
Return-Path: <test-report-bounces@dpdk.org>
Received: from mails.dpdk.org (mails.dpdk.org [217.70.189.124])
	by inbox.dpdk.org (Postfix) with ESMTP id B1FF14281E
	for <public@inbox.dpdk.org>; Fri, 24 Mar 2023 04:31:27 +0100 (CET)
Received: from mails.dpdk.org (localhost [127.0.0.1])
	by mails.dpdk.org (Postfix) with ESMTP id 92E9A406B8;
	Fri, 24 Mar 2023 04:31:27 +0100 (CET)
Received: from mail-il1-f228.google.com (mail-il1-f228.google.com
 [209.85.166.228])
 by mails.dpdk.org (Postfix) with ESMTP id E2E4C406B8
 for <test-report@dpdk.org>; Fri, 24 Mar 2023 04:31:25 +0100 (CET)
Received: by mail-il1-f228.google.com with SMTP id h11so337700ild.11
 for <test-report@dpdk.org>; Thu, 23 Mar 2023 20:31:25 -0700 (PDT)
DKIM-Signature: v=1; a=rsa-sha256; c=relaxed/relaxed;
 d=iol.unh.edu; s=unh-iol; t=1679628685;
 h=date:message-id:cc:to:from:subject:from:to:cc:subject:date
 :message-id:reply-to;
 bh=B+8ZjNVTFHK+AOEgQ1wLaI1OiR1zml5AqZS+ZpplDGk=;
 b=hB7chc+oHtbfyamdYENLbsu8olkLoVTIyj+fyjSnbr018ubUMltVlhaxh5YLjT023R
 CTxqS7lozt9Z7YRy8h6vlhZxmiPIExb8OSUPFgIcaKNDEuXRG9uwE0I9vmjbKcVpsY2M
 oCi8EJAhb280+hUS7pCFS7C8qXiTSBwAesJkc=
X-Google-DKIM-Signature: v=1; a=rsa-sha256; c=relaxed/relaxed;
 d=1e100.net; s=20210112; t=1679628685;
 h=date:message-id:cc:to:from:subject:x-gm-message-state:from:to:cc
 :subject:date:message-id:reply-to;
 bh=B+8ZjNVTFHK+AOEgQ1wLaI1OiR1zml5AqZS+ZpplDGk=;
 b=SskWfQ5PMumcfHHAJxUHnDNA8ofh4vXKQE6Q9X12PumBVA/G57dKGod5WNN6u1pTxN
 03dqyRy9BWlUiRmMDi5GjiTG9lkEoO6zGDEiPVJGteike/zGo5E1hvchQbn4dXL/k4Uy
 nm6Z26cODwqyq9TXLWPBzxcHutnQMdv7MDD1u1eiuZUjVVOxo45wmKpOdBkKjCfkhHkX
 NwiSJ66e+5iQUEzOCe7YBILHChm4xSZHSMdeJNhL+8F1VP0K/WT0YoIZ8460niSB8B8m
 asSGs72yq84WlYaPJX4ZHtOycd0GyCDJqni8ciTQJAF5NedZBO3e84bJyg5wY6D01W5W
 g9ew==
X-Gm-Message-State: AAQBX9dJ+KEJphcGS3xB3x4oxwcJ1QSVnD5yQuFKKYJ9kPZVDS3DqK0D
 o03hQ7SF2AXmdeU1TC5am7QOJKje6U2a2xJUFI28oovExNcA6jDHGlA3Vp5m4T6h3gxRIAB+5w=
 =
X-Google-Smtp-Source: AKy350YFd/c/58aHpvfJfW7dDwQTohbf5Yxo3bh8WqnCHowPWK53Q1wTK48u8UE0LV5CANuKu1XgL3GKZ4w8
X-Received: by 2002:a92:d40e:0:b0:315:375c:dc5a with SMTP id
 q14-20020a92d40e000000b00315375cdc5amr1301787ilm.20.1679628685276; 
 Thu, 23 Mar 2023 20:31:25 -0700 (PDT)
Received: from postal.iol.unh.edu (postal.iol.unh.edu.
 [2606:4100:3880:1234::84]) by smtp-relay.gmail.com with ESMTPS id
 y9-20020a056638228900b004061db02179sm3317079jas.50.2023.03.23.20.31.25
 (version=TLS1_2 cipher=ECDHE-ECDSA-AES128-GCM-SHA256 bits=128/128);
 Thu, 23 Mar 2023 20:31:25 -0700 (PDT)
X-Relaying-Domain: iol.unh.edu
Received: from dpdk-ubuntu.dpdklab.iol.unh.edu (unknown
 [IPv6:2606:4100:3880:1722::210])
 by postal.iol.unh.edu (Postfix) with ESMTP id C8417605246B;
 Thu, 23 Mar 2023 23:31:24 -0400 (EDT)
Received: from dpdk-ubuntu-2.dpdklab.iol.unh.edu (localhost [IPv6:::1])
 by dpdk-ubuntu.dpdklab.iol.unh.edu (Postfix) with ESMTP id C55F560123;
 Fri, 24 Mar 2023 03:31:24 +0000 (UTC)
Subject: |SUCCESS| pw125457 [PATCH] net/mlx5/hws: fix IPv4 frag matching
From: dpdklab@iol.unh.edu
To: Test Report <test-report@dpdk.org>
Cc: dpdklab@iol.unh.edu, David Marchand <david.marchand@redhat.com>,
 Thomas Monjalon <thomas@monjalon.net>
Content-Type: text/plain
Message-Id: <20230324033124.C55F560123@dpdk-ubuntu.dpdklab.iol.unh.edu>
Date: Fri, 24 Mar 2023 03:31:24 +0000 (UTC)
X-BeenThere: test-report@dpdk.org
X-Mailman-Version: 2.1.29
Precedence: list
List-Id: automatic DPDK test reports <test-report.dpdk.org>
List-Unsubscribe: <https://mails.dpdk.org/options/test-report>,
 <mailto:test-report-request@dpdk.org?subject=unsubscribe>
List-Archive: <http://mails.dpdk.org/archives/test-report/>
List-Post: <mailto:test-report@dpdk.org>
List-Help: <mailto:test-report-request@dpdk.org?subject=help>
List-Subscribe: <https://mails.dpdk.org/listinfo/test-report>,
 <mailto:test-report-request@dpdk.org?subject=subscribe>
Errors-To: test-report-bounces@dpdk.org

Test-Label: iol-aarch64-unit-testing
Test-Status: SUCCESS
http://dpdk.org/patch/125457

_Testing PASS_

Submitter: Alex Vesker <valex@nvidia.com>
Date: Thursday, March 23 2023 12:34:16 
DPDK git baseline: Repo:dpdk
  Branch: master
  CommitID:1a80f6062cf74e4b689b8b9a4f905a24efec527a

125457 --> testing pass

Test environment and result as below:

+-------------------------------+----------------+------------------------------+---------------------------+--------------+
|          Environment          | dpdk_unit_test | cryptodev_sw_snow3g_autotest | cryptodev_sw_zuc_autotest | lpm_autotest |
+===============================+================+==============================+===========================+==============+
| Ubuntu 20.04 ARM Clang Native | PASS           | SKIPPED                      | SKIPPED                   | SKIPPED      |
+-------------------------------+----------------+------------------------------+---------------------------+--------------+
| Ubuntu 20.04 ARM GCC Native   | PASS           | SKIPPED                      | SKIPPED                   | SKIPPED      |
+-------------------------------+----------------+------------------------------+---------------------------+--------------+
| Debian 11                     | SKIPPED        | PASS                         | PASS                      | SKIPPED      |
+-------------------------------+----------------+------------------------------+---------------------------+--------------+
| Ubuntu 20.04 ARM SVE          | SKIPPED        | SKIPPED                      | SKIPPED                   | PASS         |
+-------------------------------+----------------+------------------------------+---------------------------+--------------+


Ubuntu 20.04 ARM Clang Native
	Kernel: 5.4.0-53-generic
	Compiler: clang 10.0.0-4ubuntu1

Ubuntu 20.04 ARM GCC Native
	Kernel: 5.4.0-53-generic
	Compiler: gcc 9.3

Debian 11
	Kernel: Container Host Kernel
	Compiler: gcc 10.2.1

Ubuntu 20.04 ARM SVE
	Kernel: 5.4.0-80-generic
	Compiler: gcc 10.3.0 (Ubuntu 10.3.0-1ubuntu1~20.04)

To view detailed results, visit:
https://lab.dpdk.org/results/dashboard/patchsets/25852/

UNH-IOL DPDK Community Lab

To manage your email subscriptions, visit: 
https://lab.dpdk.org/results/dashboard/preferences/subscriptions/