From mboxrd@z Thu Jan  1 00:00:00 1970
Return-Path: <test-report-bounces@dpdk.org>
Received: from mails.dpdk.org (mails.dpdk.org [217.70.189.124])
	by inbox.dpdk.org (Postfix) with ESMTP id A892F4281E
	for <public@inbox.dpdk.org>; Fri, 24 Mar 2023 05:39:07 +0100 (CET)
Received: from mails.dpdk.org (localhost [127.0.0.1])
	by mails.dpdk.org (Postfix) with ESMTP id A413B4068E;
	Fri, 24 Mar 2023 05:39:07 +0100 (CET)
Received: from mail-pl1-f226.google.com (mail-pl1-f226.google.com
 [209.85.214.226])
 by mails.dpdk.org (Postfix) with ESMTP id B29FF4068E
 for <test-report@dpdk.org>; Fri, 24 Mar 2023 05:39:06 +0100 (CET)
Received: by mail-pl1-f226.google.com with SMTP id w4so792261plg.9
 for <test-report@dpdk.org>; Thu, 23 Mar 2023 21:39:06 -0700 (PDT)
DKIM-Signature: v=1; a=rsa-sha256; c=relaxed/relaxed;
 d=iol.unh.edu; s=unh-iol; t=1679632746;
 h=date:message-id:cc:to:from:subject:from:to:cc:subject:date
 :message-id:reply-to;
 bh=MtPzkHLaYGcXSxvnmeKGpGYSjl+ttTQqJh4xGi4JmBM=;
 b=guKqCtkA2E4YoVlNwYlG7wBGC097Q2q6Na9Dy85PyPUlGNE285E2yDmgc+nxCNGTw6
 1dDf9zuEX/dwnD+dGeIMxSG2Ex8mrhWyywjtSCMtks0gNSRTP+hBPvSTBpMLPwCNIaEu
 X1UaGKLUbmR00hEqbkKXhSXkWZQaA+DkOd1l8=
X-Google-DKIM-Signature: v=1; a=rsa-sha256; c=relaxed/relaxed;
 d=1e100.net; s=20210112; t=1679632746;
 h=date:message-id:cc:to:from:subject:x-gm-message-state:from:to:cc
 :subject:date:message-id:reply-to;
 bh=MtPzkHLaYGcXSxvnmeKGpGYSjl+ttTQqJh4xGi4JmBM=;
 b=izz2JC+eIWFEQEfZ6DDlA5rt1Gjo04WhzUPW51XMci6Bj+aHllBl27/jObXACIVrMX
 auZrfib96qA23NwQoTI3K962n0iDkNa3EmNH9g47DPcWoHwYLSc26OgMJQsxMILgdpSF
 GolM5NznUI4ZzYRzcnwjzCX4izpTznEmomu3+NfSXgz9Miy0/rqaJANMAeT8tkzAd4kF
 gnOjWLklXEj2OEkNerRXHCoCzmy6JGOco+SFzn4ZlkRPdjGJUCx2ZxYNqHiKaM9GZ0KO
 68YFxUhnSNtIviM7PLFoU5jfc7+aO4bbu10a3dyaAGTkZLVlovfooy8NDV0zVkJSQKNA
 EGmA==
X-Gm-Message-State: AAQBX9dBZvb4woypHBqHcrcCR5kOGUZT/9Tsmi7za17FNl6ZSDrHXin2
 B0f8CDUiTQ922CVzOzti+Ha4gLcdooEtBs/rsw0ggBKIGQknpOMULcd1+g==
X-Google-Smtp-Source: AKy350aNUDmUaSWYFjf6vaa7Fq4+p0yf8v7yOucxO1EsyNG6uUqKpCwZntUbnLqGlkCRfrvxtRNmlHW6tubi
X-Received: by 2002:a17:90b:1b4a:b0:23f:990d:b5b1 with SMTP id
 nv10-20020a17090b1b4a00b0023f990db5b1mr1377328pjb.46.1679632745932; 
 Thu, 23 Mar 2023 21:39:05 -0700 (PDT)
Received: from postal.iol.unh.edu (postal.iol.unh.edu. [132.177.123.84])
 by smtp-relay.gmail.com with ESMTPS id
 ot2-20020a17090b3b4200b002340f36b53bsm464604pjb.1.2023.03.23.21.39.05
 (version=TLS1_2 cipher=ECDHE-ECDSA-AES128-GCM-SHA256 bits=128/128);
 Thu, 23 Mar 2023 21:39:05 -0700 (PDT)
X-Relaying-Domain: iol.unh.edu
Received: from dpdk-ubuntu.dpdklab.iol.unh.edu (unknown [172.18.0.210])
 by postal.iol.unh.edu (Postfix) with ESMTP id 0288C605246B;
 Fri, 24 Mar 2023 00:39:05 -0400 (EDT)
Received: from dpdk-ubuntu-2.dpdklab.iol.unh.edu (localhost [IPv6:::1])
 by dpdk-ubuntu.dpdklab.iol.unh.edu (Postfix) with ESMTP id 0148160123;
 Fri, 24 Mar 2023 04:39:05 +0000 (UTC)
Subject: |SUCCESS| pw125423 [PATCH] [v2] common/mlx5: fix the sysfs port name
 translation
From: dpdklab@iol.unh.edu
To: Test Report <test-report@dpdk.org>
Cc: dpdklab@iol.unh.edu, David Marchand <david.marchand@redhat.com>,
 Thomas Monjalon <thomas@monjalon.net>
Content-Type: text/plain
Message-Id: <20230324043905.0148160123@dpdk-ubuntu.dpdklab.iol.unh.edu>
Date: Fri, 24 Mar 2023 04:39:05 +0000 (UTC)
X-BeenThere: test-report@dpdk.org
X-Mailman-Version: 2.1.29
Precedence: list
List-Id: automatic DPDK test reports <test-report.dpdk.org>
List-Unsubscribe: <https://mails.dpdk.org/options/test-report>,
 <mailto:test-report-request@dpdk.org?subject=unsubscribe>
List-Archive: <http://mails.dpdk.org/archives/test-report/>
List-Post: <mailto:test-report@dpdk.org>
List-Help: <mailto:test-report-request@dpdk.org?subject=help>
List-Subscribe: <https://mails.dpdk.org/listinfo/test-report>,
 <mailto:test-report-request@dpdk.org?subject=subscribe>
Errors-To: test-report-bounces@dpdk.org

Test-Label: iol-aarch64-compile-testing
Test-Status: SUCCESS
http://dpdk.org/patch/125423

_Testing PASS_

Submitter: Bing Zhao <bingz@nvidia.com>
Date: Wednesday, March 22 2023 11:34:12 
DPDK git baseline: Repo:dpdk
  Branch: master
  CommitID:1a80f6062cf74e4b689b8b9a4f905a24efec527a

125423 --> testing pass

Test environment and result as below:

+----------------------------------------+--------------------+
|              Environment               | dpdk_meson_compile |
+========================================+====================+
| Ubuntu 20.04 ARM Clang Native          | PASS               |
+----------------------------------------+--------------------+
| Ubuntu 20.04 ARM GCC Native            | PASS               |
+----------------------------------------+--------------------+
| Ubuntu 20.04 ARM GCC Cross Compile     | PASS               |
+----------------------------------------+--------------------+
| Ubuntu 20.04 ARM Clang Cross Compile   | PASS               |
+----------------------------------------+--------------------+
| Ubuntu 20.04 aarch32 GCC Cross Compile | PASS               |
+----------------------------------------+--------------------+
| Ubuntu 20.04 ARM SVE                   | PASS               |
+----------------------------------------+--------------------+


Ubuntu 20.04 ARM Clang Native
	Kernel: 5.4.0-53-generic
	Compiler: clang 10.0.0-4ubuntu1

Ubuntu 20.04 ARM GCC Native
	Kernel: 5.4.0-53-generic
	Compiler: gcc 9.3

Ubuntu 20.04 ARM GCC Cross Compile
	Kernel: 5.4.0-72-generic
	Compiler: aarch64-linux-gnu-gcc (Ubuntu 9.3.0-17ubuntu1~20.04) 9.3.0

Ubuntu 20.04 ARM Clang Cross Compile
	Kernel: 5.4.0-72-generic
	Compiler: clang version 10.0.0-4ubuntu1

Ubuntu 20.04 aarch32 GCC Cross Compile
	Kernel: 5.4.0-72-generic
	Compiler: gcc 9.3.0

Ubuntu 20.04 ARM SVE
	Kernel: 5.4.0-80-generic
	Compiler: gcc 10.3.0 (Ubuntu 10.3.0-1ubuntu1~20.04)

To view detailed results, visit:
https://lab.dpdk.org/results/dashboard/patchsets/25832/

UNH-IOL DPDK Community Lab

To manage your email subscriptions, visit: 
https://lab.dpdk.org/results/dashboard/preferences/subscriptions/