From mboxrd@z Thu Jan  1 00:00:00 1970
Return-Path: <test-report-bounces@dpdk.org>
Received: from mails.dpdk.org (mails.dpdk.org [217.70.189.124])
	by inbox.dpdk.org (Postfix) with ESMTP id E388242832
	for <public@inbox.dpdk.org>; Fri, 24 Mar 2023 15:52:07 +0100 (CET)
Received: from mails.dpdk.org (localhost [127.0.0.1])
	by mails.dpdk.org (Postfix) with ESMTP id B95704021F;
	Fri, 24 Mar 2023 15:52:07 +0100 (CET)
Received: from mail-oa1-f98.google.com (mail-oa1-f98.google.com
 [209.85.160.98]) by mails.dpdk.org (Postfix) with ESMTP id 6DC9E4021F
 for <test-report@dpdk.org>; Fri, 24 Mar 2023 15:52:06 +0100 (CET)
Received: by mail-oa1-f98.google.com with SMTP id
 586e51a60fabf-17ac5ee3f9cso1943236fac.12
 for <test-report@dpdk.org>; Fri, 24 Mar 2023 07:52:06 -0700 (PDT)
DKIM-Signature: v=1; a=rsa-sha256; c=relaxed/relaxed;
 d=iol.unh.edu; s=unh-iol; t=1679669525;
 h=date:message-id:cc:to:from:subject:from:to:cc:subject:date
 :message-id:reply-to;
 bh=iweapGyzoP/zCG4DlaItin4/cO0wvOfZH1u3hunzSTQ=;
 b=QlSh2Z1V0cYvBtkNA9nB01vmtKbwsS7/rqr8EelYoDhuNlEBmpJ0+lUI96pQGGKdpV
 tTOA/J1NZEEP2/NlcsXGQRBgBd4JE3CZuEu/ksIWFQx1zuqLXZE3vbuQtN4Xc/bUJu13
 0v/1E42lwCbl2sRSwXIEx75rO2Wej7/nlcLwQ=
X-Google-DKIM-Signature: v=1; a=rsa-sha256; c=relaxed/relaxed;
 d=1e100.net; s=20210112; t=1679669525;
 h=date:message-id:cc:to:from:subject:x-gm-message-state:from:to:cc
 :subject:date:message-id:reply-to;
 bh=iweapGyzoP/zCG4DlaItin4/cO0wvOfZH1u3hunzSTQ=;
 b=V+V3aVouH6xwC563tknNA3TWWO45xpkzciqRfgX0sLu64pIvpi6Q5y3piDYMYjR2DA
 MnDGmErd+u+1O1SIU9hY6YMGoqAYJaDE/2wT8i+5cFyFTD+lqEzQQQmDI5HKQ1FppXNH
 ZK7lXQBDfTCXWP2qM/senL2YjvZ77oC8D2U3EKh6MycDOP/NHUfP3zN1Cpdf/BZ8P51a
 AzWzjT5Hnbq3THEqih+N/MIDC/DVpQM3H3HTTJP6q89uql+/ZJfuChx1VrC1ZzJbUbzN
 HOxZ7bxXdvLYZ1WTk+5B+/GQWp/b2Jpgc6yBGTZq+MD+kz8iyxQfewVaujFWmwcN3MO8
 kbQA==
X-Gm-Message-State: AAQBX9dSgDTWRMrm+rYxhjg7n+z2zXLL/Men6TlWWfS6irsVqfWTbjva
 uYsgiQem22rdsJfJmB4jk+NG0YlLuQQ2V5HHutuLDPE+IZrpVuuZN5p5ow==
X-Google-Smtp-Source: AKy350a4+eY5rNELtDRVPiLeVKTzQ/4UhdtHbrw88D1Uq+JlNg6fSxor7LhgPdOq9RewcD4HXBdfMRPk9tOI
X-Received: by 2002:a05:6871:207:b0:17e:5168:c09c with SMTP id
 t7-20020a056871020700b0017e5168c09cmr2391404oad.49.1679669525608; 
 Fri, 24 Mar 2023 07:52:05 -0700 (PDT)
Received: from postal.iol.unh.edu (postal.iol.unh.edu. [132.177.123.84])
 by smtp-relay.gmail.com with ESMTPS id
 vi21-20020a0568710d9500b00175cc21bab2sm3032989oab.34.2023.03.24.07.52.05
 (version=TLS1_2 cipher=ECDHE-ECDSA-AES128-GCM-SHA256 bits=128/128);
 Fri, 24 Mar 2023 07:52:05 -0700 (PDT)
X-Relaying-Domain: iol.unh.edu
Received: from dpdk-ubuntu.dpdklab.iol.unh.edu (unknown [172.18.0.210])
 by postal.iol.unh.edu (Postfix) with ESMTP id 3A22D605246B;
 Fri, 24 Mar 2023 10:52:05 -0400 (EDT)
Received: from dpdk-ubuntu-2.dpdklab.iol.unh.edu (localhost [IPv6:::1])
 by dpdk-ubuntu.dpdklab.iol.unh.edu (Postfix) with ESMTP id 1F3FD60123;
 Fri, 24 Mar 2023 14:52:05 +0000 (UTC)
Subject: |SUCCESS| pw125437-125440 [PATCH] [4/4] examples/fips_validation:
 remove unneeded null checks
From: dpdklab@iol.unh.edu
To: Test Report <test-report@dpdk.org>
Cc: dpdk-test-reports@iol.unh.edu, David Marchand <david.marchand@redhat.com>,
 Thomas Monjalon <thomas@monjalon.net>
Content-Type: text/plain
Message-Id: <20230324145205.1F3FD60123@dpdk-ubuntu.dpdklab.iol.unh.edu>
Date: Fri, 24 Mar 2023 14:52:05 +0000 (UTC)
X-BeenThere: test-report@dpdk.org
X-Mailman-Version: 2.1.29
Precedence: list
List-Id: automatic DPDK test reports <test-report.dpdk.org>
List-Unsubscribe: <https://mails.dpdk.org/options/test-report>,
 <mailto:test-report-request@dpdk.org?subject=unsubscribe>
List-Archive: <http://mails.dpdk.org/archives/test-report/>
List-Post: <mailto:test-report@dpdk.org>
List-Help: <mailto:test-report-request@dpdk.org?subject=help>
List-Subscribe: <https://mails.dpdk.org/listinfo/test-report>,
 <mailto:test-report-request@dpdk.org?subject=subscribe>
Errors-To: test-report-bounces@dpdk.org

Test-Label: iol-x86_64-compile-testing
Test-Status: SUCCESS
http://dpdk.org/patch/125440

_Testing PASS_

Submitter: Stephen Hemminger <stephen@networkplumber.org>
Date: Thursday, March 23 2023 01:04:28 
DPDK git baseline: Repo:dpdk
  Branch: master
  CommitID:1a80f6062cf74e4b689b8b9a4f905a24efec527a

125437-125440 --> testing pass

Test environment and result as below:

+------------------+--------------------+
|   Environment    | dpdk_meson_compile |
+==================+====================+
| FreeBSD 13       | PASS               |
+------------------+--------------------+
| Debian Bullseye  | PASS               |
+------------------+--------------------+
| Ubuntu 22.04     | PASS               |
+------------------+--------------------+
| Ubuntu 20.04     | PASS               |
+------------------+--------------------+
| CentOS Stream 8  | PASS               |
+------------------+--------------------+
| CentOS Stream 9  | PASS               |
+------------------+--------------------+
| RHEL 7           | PASS               |
+------------------+--------------------+
| Debian Buster    | PASS               |
+------------------+--------------------+
| RHEL8            | PASS               |
+------------------+--------------------+
| openSUSE Leap 15 | PASS               |
+------------------+--------------------+


FreeBSD 13
	Kernel: 13.0
	Compiler: clang 11.0.1

Debian Bullseye
	Kernel: 5.4.0-122-generic
	Compiler: gcc 10.2.1-6

Ubuntu 22.04
	Kernel: Container Host Kernel
	Compiler: gcc 12.2.1-2

Ubuntu 20.04
	Kernel: 4.18.0-240.10.1.el8_3.x86_64
	Compiler: gcc 9.3.0-17ubuntu1~20.04

CentOS Stream 8
	Kernel: 4.18.0-240.10.1.el8_3.x86_64
	Compiler: gcc 8.4.1 20200928

CentOS Stream 9
	Kernel: 4.18.0-240.10.1.el8_3.x86_64
	Compiler: gcc 11.3.1 20220421

RHEL 7
	Kernel: 4.18.0-240.10.1.el8_3.x86_64
	Compiler: gcc 4.8.5 20150623 (Red Hat 4.8.5-44)

Debian Buster
	Kernel: 5.4.0-122-generic
	Compiler: gcc 8.3.0-6

RHEL8
	Kernel: 4.18.0-240.10.1.el8_3.x86_64
	Compiler: gcc 8.3.1 20191121 (Red Hat 8.3.1-5)

openSUSE Leap 15
	Kernel: 4.18.0-240.10.1.el8_3.x86_64
	Compiler: gcc 7.5.0

To view detailed results, visit:
https://lab.dpdk.org/results/dashboard/patchsets/25843/

UNH-IOL DPDK Community Lab

To manage your email subscriptions, visit: 
https://lab.dpdk.org/results/dashboard/preferences/subscriptions/