From mboxrd@z Thu Jan  1 00:00:00 1970
Return-Path: <test-report-bounces@dpdk.org>
Received: from mails.dpdk.org (mails.dpdk.org [217.70.189.124])
	by inbox.dpdk.org (Postfix) with ESMTP id E484B42833
	for <public@inbox.dpdk.org>; Fri, 24 Mar 2023 16:21:56 +0100 (CET)
Received: from mails.dpdk.org (localhost [127.0.0.1])
	by mails.dpdk.org (Postfix) with ESMTP id DF3834021F;
	Fri, 24 Mar 2023 16:21:56 +0100 (CET)
Received: from mail-io1-f100.google.com (mail-io1-f100.google.com
 [209.85.166.100])
 by mails.dpdk.org (Postfix) with ESMTP id 469D54021F
 for <test-report@dpdk.org>; Fri, 24 Mar 2023 16:21:55 +0100 (CET)
Received: by mail-io1-f100.google.com with SMTP id o12so903715iow.6
 for <test-report@dpdk.org>; Fri, 24 Mar 2023 08:21:55 -0700 (PDT)
DKIM-Signature: v=1; a=rsa-sha256; c=relaxed/relaxed;
 d=iol.unh.edu; s=unh-iol; t=1679671314;
 h=date:message-id:cc:to:from:subject:from:to:cc:subject:date
 :message-id:reply-to;
 bh=s0p3H3H6QRNX/NDdTs++/bqlIW/2WYSN4RvTyJfaOqg=;
 b=eqHzfgFACZmfYxm1w394S76M9OERZeCR/p9nnaWXd3nlJn2515+MHV9Po7Gb36U9j6
 M5PtZG/v5S72hperEFnvomTGNR1fN+ktfbvAnXKF3RyRcF3rQPUDIyKanbcG26LDgRYm
 O85Y7ccdWg6oy7s5z+eUVTzIm70q5wtyF4MHQ=
X-Google-DKIM-Signature: v=1; a=rsa-sha256; c=relaxed/relaxed;
 d=1e100.net; s=20210112; t=1679671314;
 h=date:message-id:cc:to:from:subject:x-gm-message-state:from:to:cc
 :subject:date:message-id:reply-to;
 bh=s0p3H3H6QRNX/NDdTs++/bqlIW/2WYSN4RvTyJfaOqg=;
 b=uabBQlhvI0EQxXXw5Mx4TElv6P3BbJ91oYCK/kG37/pWWKSdg4cKpshrFmPJyCNpki
 xH3tzSwYYQ009RXKmfY8g27DsLg++8O1GEM12sw+l2NivG9PxDRxyTTU0X/NGyxi3HTC
 d7TFs1ZpZFEHCcH9DJvIZ+AslSH+BWFfAZzKG9rdn5ApYH0L5KuQ1qTn5RszTDwSukep
 FPjm7ZtGEbZqhVmkDjIcF+mu/MckT8LzOeMx3prqHRdcAyq+U1aSNKJz9CLPA5S/Tj13
 YsYZtae0D7z2awanj1titAb3rfP4rN0rKmFZKIthInLIfCPnQIO6w/9g/slJpV1RJjwZ
 CaeA==
X-Gm-Message-State: AO0yUKV855a1nbnxu5MT7f/ih/FNQ+PnyWYjDtsW6vchGaIwoYKgfFF3
 K/7+ho5u0+Z/Vpz3tJryTbGrL2NVFhBFqB9HitQaOA4e2DK9rPMKB2ad8g==
X-Google-Smtp-Source: AK7set8ao+mVxplYRGIbqsVZKoTHO6f6KFZPEXheg1JwdXf4qJlwhCx88lfbVDR2m2p7QZ49S0MfJd/P8wTA
X-Received: by 2002:a05:6602:2244:b0:718:8612:fc44 with SMTP id
 o4-20020a056602224400b007188612fc44mr2169940ioo.15.1679671314617; 
 Fri, 24 Mar 2023 08:21:54 -0700 (PDT)
Received: from postal.iol.unh.edu (postal.iol.unh.edu. [132.177.123.84])
 by smtp-relay.gmail.com with ESMTPS id
 y20-20020a056602165400b007594cadaa12sm130482iow.1.2023.03.24.08.21.54
 (version=TLS1_2 cipher=ECDHE-ECDSA-AES128-GCM-SHA256 bits=128/128);
 Fri, 24 Mar 2023 08:21:54 -0700 (PDT)
X-Relaying-Domain: iol.unh.edu
Received: from dpdk-ubuntu.dpdklab.iol.unh.edu (unknown [172.18.0.210])
 by postal.iol.unh.edu (Postfix) with ESMTP id 43307605246B;
 Fri, 24 Mar 2023 11:21:54 -0400 (EDT)
Received: from dpdk-ubuntu-2.dpdklab.iol.unh.edu (localhost [IPv6:::1])
 by dpdk-ubuntu.dpdklab.iol.unh.edu (Postfix) with ESMTP id 4248660123;
 Fri, 24 Mar 2023 15:21:54 +0000 (UTC)
Subject: |SUCCESS| pw125460 [PATCH] [1/1] app/mldev: add check for model and
 filelist option
From: dpdklab@iol.unh.edu
To: Test Report <test-report@dpdk.org>
Cc: dpdklab@iol.unh.edu, David Marchand <david.marchand@redhat.com>,
 Thomas Monjalon <thomas@monjalon.net>
Content-Type: text/plain
Message-Id: <20230324152154.4248660123@dpdk-ubuntu.dpdklab.iol.unh.edu>
Date: Fri, 24 Mar 2023 15:21:54 +0000 (UTC)
X-BeenThere: test-report@dpdk.org
X-Mailman-Version: 2.1.29
Precedence: list
List-Id: automatic DPDK test reports <test-report.dpdk.org>
List-Unsubscribe: <https://mails.dpdk.org/options/test-report>,
 <mailto:test-report-request@dpdk.org?subject=unsubscribe>
List-Archive: <http://mails.dpdk.org/archives/test-report/>
List-Post: <mailto:test-report@dpdk.org>
List-Help: <mailto:test-report-request@dpdk.org?subject=help>
List-Subscribe: <https://mails.dpdk.org/listinfo/test-report>,
 <mailto:test-report-request@dpdk.org?subject=subscribe>
Errors-To: test-report-bounces@dpdk.org

Test-Label: iol-aarch64-unit-testing
Test-Status: SUCCESS
http://dpdk.org/patch/125460

_Testing PASS_

Submitter: Srikanth Yalavarthi <syalavarthi@marvell.com>
Date: Thursday, March 23 2023 16:21:11 
DPDK git baseline: Repo:dpdk
  Branch: master
  CommitID:1a80f6062cf74e4b689b8b9a4f905a24efec527a

125460 --> testing pass

Test environment and result as below:

+-------------------------------+------------------------------+---------------------------+----------------+--------------+
|          Environment          | cryptodev_sw_snow3g_autotest | cryptodev_sw_zuc_autotest | dpdk_unit_test | lpm_autotest |
+===============================+==============================+===========================+================+==============+
| Debian 11                     | PASS                         | PASS                      | SKIPPED        | SKIPPED      |
+-------------------------------+------------------------------+---------------------------+----------------+--------------+
| Ubuntu 20.04 ARM Clang Native | SKIPPED                      | SKIPPED                   | PASS           | SKIPPED      |
+-------------------------------+------------------------------+---------------------------+----------------+--------------+
| Ubuntu 20.04 ARM GCC Native   | SKIPPED                      | SKIPPED                   | PASS           | SKIPPED      |
+-------------------------------+------------------------------+---------------------------+----------------+--------------+
| Ubuntu 20.04 ARM SVE          | SKIPPED                      | SKIPPED                   | SKIPPED        | PASS         |
+-------------------------------+------------------------------+---------------------------+----------------+--------------+


Debian 11
	Kernel: Container Host Kernel
	Compiler: gcc 10.2.1

Ubuntu 20.04 ARM Clang Native
	Kernel: 5.4.0-53-generic
	Compiler: clang 10.0.0-4ubuntu1

Ubuntu 20.04 ARM GCC Native
	Kernel: 5.4.0-53-generic
	Compiler: gcc 9.3

Ubuntu 20.04 ARM SVE
	Kernel: 5.4.0-80-generic
	Compiler: gcc 10.3.0 (Ubuntu 10.3.0-1ubuntu1~20.04)

To view detailed results, visit:
https://lab.dpdk.org/results/dashboard/patchsets/25855/

UNH-IOL DPDK Community Lab

To manage your email subscriptions, visit: 
https://lab.dpdk.org/results/dashboard/preferences/subscriptions/