From mboxrd@z Thu Jan  1 00:00:00 1970
Return-Path: <test-report-bounces@dpdk.org>
Received: from mails.dpdk.org (mails.dpdk.org [217.70.189.124])
	by inbox.dpdk.org (Postfix) with ESMTP id 3420542833
	for <public@inbox.dpdk.org>; Fri, 24 Mar 2023 17:25:44 +0100 (CET)
Received: from mails.dpdk.org (localhost [127.0.0.1])
	by mails.dpdk.org (Postfix) with ESMTP id 106814021F;
	Fri, 24 Mar 2023 17:25:44 +0100 (CET)
Received: from mail-yw1-f225.google.com (mail-yw1-f225.google.com
 [209.85.128.225])
 by mails.dpdk.org (Postfix) with ESMTP id 3292B4021F
 for <test-report@dpdk.org>; Fri, 24 Mar 2023 17:25:43 +0100 (CET)
Received: by mail-yw1-f225.google.com with SMTP id
 00721157ae682-536af432ee5so43002947b3.0
 for <test-report@dpdk.org>; Fri, 24 Mar 2023 09:25:43 -0700 (PDT)
DKIM-Signature: v=1; a=rsa-sha256; c=relaxed/relaxed;
 d=iol.unh.edu; s=unh-iol; t=1679675142;
 h=date:message-id:cc:to:from:subject:from:to:cc:subject:date
 :message-id:reply-to;
 bh=+OGVqmYFoayJ8a1/63hIl6JQDGgRj5ZtOjmLjSsx/TE=;
 b=ESVkMX34g0B30rRmZw+g9dOn2hzXTA9qrDEEgagXgL9Uo0GlP/d44bGAu9WzA3H1FK
 /S7Pmq84d/ldkqV2WgT1Sx+5qyPXJuZIebY1WpOxA26hNnE8cnagMZof4jcciCqEAnmB
 Cgq3k/B73hmi4892oW04zeN1AJ6J7yLO6eih0=
X-Google-DKIM-Signature: v=1; a=rsa-sha256; c=relaxed/relaxed;
 d=1e100.net; s=20210112; t=1679675142;
 h=date:message-id:cc:to:from:subject:x-gm-message-state:from:to:cc
 :subject:date:message-id:reply-to;
 bh=+OGVqmYFoayJ8a1/63hIl6JQDGgRj5ZtOjmLjSsx/TE=;
 b=06TublL+ngbvDHPfaO7Yelg+Twy+X/dr9oarCmREbVpEXKi0nwNW5UtvZyYv0so3zy
 hd1al+tN58++tK/C/ha0s/gcbIOZ2uJZUJ0XEw5fT29W8uk32dRnjwNMqBjj8ByBOrit
 dO0PuQ6cJTaltnqmleEddCN1hHxWhAzO3lDkzERe3T+s/JwjtI7HFgfNVx7ttRIg2DKL
 Asf5cXyf8JjWMpQOdpxFfTUdRPW55c0EoF1FJlM9pLYTWLLAfXpJExFwKxd3rRe3cVFU
 h2TRTFuXdtkGatJwMppfopYlhmiALnJcBfTp0AyWHNFAcRdTshJKf2CjtEkehUljmTO8
 vVDQ==
X-Gm-Message-State: AAQBX9e2JdhQ++hl2WW/2LRyUCkOCrvWpy/Bz5ikQgYczs2XFHuZ3g0E
 rAtoSixw6hmnjq6VcKTFR3WnjTSW3Kkj472hinGaw0+cTY8MqYxpsaply/fpBjZobzichXPgXg=
 =
X-Google-Smtp-Source: AKy350axwO7E1K21QAZyNBX+4X8NmTiqjUUIiZ3dhn+9zqnKcJ1hBAiPg/Qd+tCdPpVMLaneA4NCc9nFOzP1
X-Received: by 2002:a81:490d:0:b0:541:66e6:dc31 with SMTP id
 w13-20020a81490d000000b0054166e6dc31mr3199962ywa.9.1679675142487; 
 Fri, 24 Mar 2023 09:25:42 -0700 (PDT)
Received: from postal.iol.unh.edu (postal.iol.unh.edu.
 [2606:4100:3880:1234::84]) by smtp-relay.gmail.com with ESMTPS id
 be29-20020a05690c009d00b005459f233f66sm230365ywb.30.2023.03.24.09.25.42
 (version=TLS1_2 cipher=ECDHE-ECDSA-AES128-GCM-SHA256 bits=128/128);
 Fri, 24 Mar 2023 09:25:42 -0700 (PDT)
X-Relaying-Domain: iol.unh.edu
Received: from dpdk-ubuntu.dpdklab.iol.unh.edu (unknown
 [IPv6:2606:4100:3880:1722::210])
 by postal.iol.unh.edu (Postfix) with ESMTP id 28B92605246B;
 Fri, 24 Mar 2023 12:25:42 -0400 (EDT)
Received: from dpdk-ubuntu-2.dpdklab.iol.unh.edu (localhost [IPv6:::1])
 by dpdk-ubuntu.dpdklab.iol.unh.edu (Postfix) with ESMTP id 223CC60123;
 Fri, 24 Mar 2023 16:25:42 +0000 (UTC)
Subject: |SUCCESS| pw125437-125440 [PATCH] [4/4] examples/fips_validation:
 remove unneeded null checks
From: dpdklab@iol.unh.edu
To: Test Report <test-report@dpdk.org>
Cc: dpdklab@iol.unh.edu, David Marchand <david.marchand@redhat.com>,
 Thomas Monjalon <thomas@monjalon.net>
Content-Type: text/plain
Message-Id: <20230324162542.223CC60123@dpdk-ubuntu.dpdklab.iol.unh.edu>
Date: Fri, 24 Mar 2023 16:25:42 +0000 (UTC)
X-BeenThere: test-report@dpdk.org
X-Mailman-Version: 2.1.29
Precedence: list
List-Id: automatic DPDK test reports <test-report.dpdk.org>
List-Unsubscribe: <https://mails.dpdk.org/options/test-report>,
 <mailto:test-report-request@dpdk.org?subject=unsubscribe>
List-Archive: <http://mails.dpdk.org/archives/test-report/>
List-Post: <mailto:test-report@dpdk.org>
List-Help: <mailto:test-report-request@dpdk.org?subject=help>
List-Subscribe: <https://mails.dpdk.org/listinfo/test-report>,
 <mailto:test-report-request@dpdk.org?subject=subscribe>
Errors-To: test-report-bounces@dpdk.org

Test-Label: iol-x86_64-compile-testing
Test-Status: SUCCESS
http://dpdk.org/patch/125440

_Testing PASS_

Submitter: Stephen Hemminger <stephen@networkplumber.org>
Date: Thursday, March 23 2023 01:04:28 
DPDK git baseline: Repo:dpdk
  Branch: master
  CommitID:1a80f6062cf74e4b689b8b9a4f905a24efec527a

125437-125440 --> testing pass

Test environment and result as below:

+------------------+--------------------+
|   Environment    | dpdk_meson_compile |
+==================+====================+
| FreeBSD 13       | PASS               |
+------------------+--------------------+
| Debian Buster    | PASS               |
+------------------+--------------------+
| Ubuntu 22.04     | PASS               |
+------------------+--------------------+
| RHEL 7           | PASS               |
+------------------+--------------------+
| RHEL8            | PASS               |
+------------------+--------------------+
| CentOS Stream 8  | PASS               |
+------------------+--------------------+
| openSUSE Leap 15 | PASS               |
+------------------+--------------------+
| Ubuntu 20.04     | PASS               |
+------------------+--------------------+
| Debian Bullseye  | PASS               |
+------------------+--------------------+
| CentOS Stream 9  | PASS               |
+------------------+--------------------+


FreeBSD 13
	Kernel: 13.0
	Compiler: clang 11.0.1

Debian Buster
	Kernel: 5.4.0-122-generic
	Compiler: gcc 8.3.0-6

Ubuntu 22.04
	Kernel: Container Host Kernel
	Compiler: gcc 11.3.1-2

RHEL 7
	Kernel: 4.18.0-240.10.1.el8_3.x86_64
	Compiler: gcc 4.8.5 20150623 (Red Hat 4.8.5-44)

RHEL8
	Kernel: 4.18.0-240.10.1.el8_3.x86_64
	Compiler: gcc 8.3.1 20191121 (Red Hat 8.3.1-5)

CentOS Stream 8
	Kernel: 4.18.0-240.10.1.el8_3.x86_64
	Compiler: gcc 8.4.1 20200928

openSUSE Leap 15
	Kernel: 4.18.0-240.10.1.el8_3.x86_64
	Compiler: gcc 7.5.0

Ubuntu 20.04
	Kernel: 4.18.0-240.10.1.el8_3.x86_64
	Compiler: gcc 9.3.0-17ubuntu1~20.04

Debian Bullseye
	Kernel: 5.4.0-122-generic
	Compiler: gcc 10.2.1-6

CentOS Stream 9
	Kernel: 4.18.0-240.10.1.el8_3.x86_64
	Compiler: gcc 11.3.1 20220421

To view detailed results, visit:
https://lab.dpdk.org/results/dashboard/patchsets/25843/

UNH-IOL DPDK Community Lab

To manage your email subscriptions, visit: 
https://lab.dpdk.org/results/dashboard/preferences/subscriptions/