From mboxrd@z Thu Jan  1 00:00:00 1970
Return-Path: <test-report-bounces@dpdk.org>
Received: from mails.dpdk.org (mails.dpdk.org [217.70.189.124])
	by inbox.dpdk.org (Postfix) with ESMTP id EE1BC42822
	for <public@inbox.dpdk.org>; Tue, 28 Mar 2023 15:46:47 +0200 (CEST)
Received: from mails.dpdk.org (localhost [127.0.0.1])
	by mails.dpdk.org (Postfix) with ESMTP id EA0DA40156;
	Tue, 28 Mar 2023 15:46:47 +0200 (CEST)
Received: from mail-pj1-f97.google.com (mail-pj1-f97.google.com
 [209.85.216.97]) by mails.dpdk.org (Postfix) with ESMTP id 7328F40156
 for <test-report@dpdk.org>; Tue, 28 Mar 2023 15:46:46 +0200 (CEST)
Received: by mail-pj1-f97.google.com with SMTP id q102so10840414pjq.3
 for <test-report@dpdk.org>; Tue, 28 Mar 2023 06:46:46 -0700 (PDT)
DKIM-Signature: v=1; a=rsa-sha256; c=relaxed/relaxed;
 d=iol.unh.edu; s=unh-iol; t=1680011205;
 h=date:message-id:cc:to:from:subject:from:to:cc:subject:date
 :message-id:reply-to;
 bh=hhUt02cYF88muL3+u6w340yL67jIC5DObFH6ueKNq+E=;
 b=jjp79Y8Xw5CA2p2l4D+o3WsTI6oYd4KsqeEhtpC9TmFrqLQf1k8kSXDqLedm4qjsTC
 LU5TIAhjc2Qy/Ec3j0I6l6ir3HUHNJrf1uM9V4XYjL1k/YhITpcoVPQTnH1B54GGaEb1
 e5+rcliarMGRZaOQKMyMEQngoYjnZgVEKHRzg=
X-Google-DKIM-Signature: v=1; a=rsa-sha256; c=relaxed/relaxed;
 d=1e100.net; s=20210112; t=1680011205;
 h=date:message-id:cc:to:from:subject:x-gm-message-state:from:to:cc
 :subject:date:message-id:reply-to;
 bh=hhUt02cYF88muL3+u6w340yL67jIC5DObFH6ueKNq+E=;
 b=aCqv9zDow+R27+V5PY83O2nz0LnDi7IC+VHqeBLiCYcfqtT6YJuzqKkiWCBrCu8/iU
 bGhUKJytXmj1hHiivM3wTPfc499AlRJFlgqfpLSdor/daCmQSCtxfceFRQ28LxAT7Ohd
 FFQi9uLefr25jjlc+z1iNV27ksCS28rpybYk7ugLXRC35SIW4d3GpsQXC0ylYiqQC7jY
 p0Z6NQ41gSzmD8ZlUtXU5ObLVRNNz8z0Fm/8g6FmnnTKcR5slB4aI+zTzImyZqMJ+Wwb
 TPDkb+FLp/uL1AxKElECmWEExiprYloYZdibQ1hnrtjv9R9zg+PinAW3zfd0Kcswi/kN
 5dQg==
X-Gm-Message-State: AAQBX9cTZm0r3O52VX5tjN3/y6BTWrMlljSOib7oSyJL5keGtIcnfg8I
 YCQDQa9AAlC2ab9O62UawzLmcoLUG3/DNqGrTy+a1JGnp90eio2Lvs6vjJ3BmwOd0Lg+EqNaOg=
 =
X-Google-Smtp-Source: AKy350Y3WTjODHLKVF1ntrlgky0cVo5CMDMhYiBibAN574XdMGyfum0BKgkSY/B/bex8rQ1GWbpczz/us6qf
X-Received: by 2002:a17:90a:31c:b0:233:f394:d83 with SMTP id
 28-20020a17090a031c00b00233f3940d83mr15235440pje.48.1680011205724; 
 Tue, 28 Mar 2023 06:46:45 -0700 (PDT)
Received: from postal.iol.unh.edu (postal.iol.unh.edu.
 [2606:4100:3880:1234::84]) by smtp-relay.gmail.com with ESMTPS id
 cp2-20020a170902e78200b001a215f0491csm337843plb.32.2023.03.28.06.46.45
 (version=TLS1_2 cipher=ECDHE-ECDSA-AES128-GCM-SHA256 bits=128/128);
 Tue, 28 Mar 2023 06:46:45 -0700 (PDT)
X-Relaying-Domain: iol.unh.edu
Received: from dpdk-ubuntu.dpdklab.iol.unh.edu (unknown [172.18.0.210])
 by postal.iol.unh.edu (Postfix) with ESMTP id 3ADAB605246B;
 Tue, 28 Mar 2023 09:46:45 -0400 (EDT)
Received: from dpdk-ubuntu-2.dpdklab.iol.unh.edu (localhost [IPv6:::1])
 by dpdk-ubuntu.dpdklab.iol.unh.edu (Postfix) with ESMTP id 38C3060095;
 Tue, 28 Mar 2023 13:46:45 +0000 (UTC)
Subject: |SUCCESS| pw125531-125532 [PATCH] [3/3] eal: use C11 memory model GCC
 builtin atomics
From: dpdklab@iol.unh.edu
To: Test Report <test-report@dpdk.org>
Cc: Tyler Retzlaff <roretzla@linux.microsoft.com>,
 David Marchand <david.marchand@redhat.com>,
 Thomas Monjalon <thomas@monjalon.net>
Content-Type: text/plain
Message-Id: <20230328134645.38C3060095@dpdk-ubuntu.dpdklab.iol.unh.edu>
Date: Tue, 28 Mar 2023 13:46:45 +0000 (UTC)
X-BeenThere: test-report@dpdk.org
X-Mailman-Version: 2.1.29
Precedence: list
List-Id: automatic DPDK test reports <test-report.dpdk.org>
List-Unsubscribe: <https://mails.dpdk.org/options/test-report>,
 <mailto:test-report-request@dpdk.org?subject=unsubscribe>
List-Archive: <http://mails.dpdk.org/archives/test-report/>
List-Post: <mailto:test-report@dpdk.org>
List-Help: <mailto:test-report-request@dpdk.org?subject=help>
List-Subscribe: <https://mails.dpdk.org/listinfo/test-report>,
 <mailto:test-report-request@dpdk.org?subject=subscribe>
Errors-To: test-report-bounces@dpdk.org

Test-Label: iol-x86_64-compile-testing
Test-Status: SUCCESS
http://dpdk.org/patch/125532

_Testing PASS_

Submitter: Tyler Retzlaff <roretzla@linux.microsoft.com>
Date: Monday, March 27 2023 14:30:20 
DPDK git baseline: Repo:dpdk
  Branch: master
  CommitID:9e3223adfab71bc88e9ba67c520b87c529d34a35

125531-125532 --> testing pass

Test environment and result as below:

+------------------+--------------------+
|   Environment    | dpdk_meson_compile |
+==================+====================+
| FreeBSD 13       | PASS               |
+------------------+--------------------+
| Ubuntu 22.04     | PASS               |
+------------------+--------------------+
| openSUSE Leap 15 | PASS               |
+------------------+--------------------+
| RHEL8            | PASS               |
+------------------+--------------------+
| CentOS Stream 9  | PASS               |
+------------------+--------------------+
| RHEL 7           | PASS               |
+------------------+--------------------+
| Ubuntu 20.04     | PASS               |
+------------------+--------------------+
| Debian Buster    | PASS               |
+------------------+--------------------+
| CentOS Stream 8  | PASS               |
+------------------+--------------------+
| Debian Bullseye  | PASS               |
+------------------+--------------------+


FreeBSD 13
	Kernel: 13.0
	Compiler: clang 11.0.1

Ubuntu 22.04
	Kernel: Container Host Kernel
	Compiler: gcc 12.2.1-2

openSUSE Leap 15
	Kernel: 4.18.0-240.10.1.el8_3.x86_64
	Compiler: gcc 7.5.0

RHEL8
	Kernel: 4.18.0-240.10.1.el8_3.x86_64
	Compiler: gcc 8.3.1 20191121 (Red Hat 8.3.1-5)

CentOS Stream 9
	Kernel: 4.18.0-240.10.1.el8_3.x86_64
	Compiler: gcc 11.3.1 20220421

RHEL 7
	Kernel: 4.18.0-240.10.1.el8_3.x86_64
	Compiler: gcc 4.8.5 20150623 (Red Hat 4.8.5-44)

Ubuntu 20.04
	Kernel: 4.18.0-240.10.1.el8_3.x86_64
	Compiler: gcc 9.3.0-17ubuntu1~20.04

Debian Buster
	Kernel: 5.4.0-122-generic
	Compiler: gcc 8.3.0-6

CentOS Stream 8
	Kernel: 4.18.0-240.10.1.el8_3.x86_64
	Compiler: gcc 8.4.1 20200928

Debian Bullseye
	Kernel: 5.4.0-122-generic
	Compiler: gcc 10.2.1-6

To view detailed results, visit:
https://lab.dpdk.org/results/dashboard/patchsets/25872/

UNH-IOL DPDK Community Lab

To manage your email subscriptions, visit: 
https://lab.dpdk.org/results/dashboard/preferences/subscriptions/