From mboxrd@z Thu Jan  1 00:00:00 1970
Return-Path: <test-report-bounces@dpdk.org>
Received: from mails.dpdk.org (mails.dpdk.org [217.70.189.124])
	by inbox.dpdk.org (Postfix) with ESMTP id AC89542814
	for <public@inbox.dpdk.org>; Tue, 28 Mar 2023 23:31:15 +0200 (CEST)
Received: from mails.dpdk.org (localhost [127.0.0.1])
	by mails.dpdk.org (Postfix) with ESMTP id A82BA40156;
	Tue, 28 Mar 2023 23:31:15 +0200 (CEST)
Received: from mail-oo1-f99.google.com (mail-oo1-f99.google.com
 [209.85.161.99]) by mails.dpdk.org (Postfix) with ESMTP id AE98340156
 for <test-report@dpdk.org>; Tue, 28 Mar 2023 23:31:14 +0200 (CEST)
Received: by mail-oo1-f99.google.com with SMTP id
 n3-20020a4ad403000000b0053351dadc20so2117861oos.13
 for <test-report@dpdk.org>; Tue, 28 Mar 2023 14:31:14 -0700 (PDT)
DKIM-Signature: v=1; a=rsa-sha256; c=relaxed/relaxed;
 d=iol.unh.edu; s=unh-iol; t=1680039074;
 h=date:message-id:cc:to:from:subject:from:to:cc:subject:date
 :message-id:reply-to;
 bh=ucIEP8IU+zJ36NHEOUp6cpiXYfGCU5CRFLwbTukL/T0=;
 b=SgqfLPVP8VcLCHvt/mhL6/rc8R3tc12lmdqVDHRRFxnO7EcTFjtqNv6qkHzoYTYMNx
 CYCbSDx9QhqKjt/7uhXKKBE8+JwdnOY2eXteuBL1LrQnfJm+APRmGRfZ1s4sGFquUu+m
 TixHMUFKVtszVc4LqqOuHqm8xYwzyZeu9XE5s=
X-Google-DKIM-Signature: v=1; a=rsa-sha256; c=relaxed/relaxed;
 d=1e100.net; s=20210112; t=1680039074;
 h=date:message-id:cc:to:from:subject:x-gm-message-state:from:to:cc
 :subject:date:message-id:reply-to;
 bh=ucIEP8IU+zJ36NHEOUp6cpiXYfGCU5CRFLwbTukL/T0=;
 b=LUBt1BSU6ejUhy7nqlnT4oD0A+rdfVd/IswIPkfo0uhQCG1ctEX/spuw5+v1KQHvyw
 heyuE75esBwRpolLxRk+cO9U560yHc4XrTKSH7Ez3rExAoVu5kPtd3RgFect5gYjbfqj
 5uRU4/+0jxg3W++WJeiLf+VXYqg0+vz7WejJWa7yBd0GzIvE4RobgB8+5oUO7tchLGrp
 efgyAwVqBiJBvY9AFGTZCdTTeiOy3E9UXcdLyK0sFvTfBdauE10VLqtr9HBttQMliC/h
 1/Ck+28jmUrsqY9HGhN35A13TKJLhaTD+cRXN38rNG3sug8eMyy1gYV+Cs0vgUNOW/ob
 mpNQ==
X-Gm-Message-State: AO0yUKV5obKr0DQnt2p7X3H/SD8HI3F4s3kQETGjuSkKwo9xPrT9DX+/
 Ygx/YODe5Dyw6rVJMmG0hhGVGGlCS64GfIjacrw27++Vj9Qg/Dlh09lLHg==
X-Google-Smtp-Source: AK7set/Swyd/Ykewo4to0jnPS23PHhFLgFQl06Bb7NtYaBgZ2fhEDPh8gPetme7pUgR4j3yB6gcpJic7D3vp
X-Received: by 2002:a4a:d64a:0:b0:53a:155b:374b with SMTP id
 y10-20020a4ad64a000000b0053a155b374bmr7615849oos.5.1680039074025; 
 Tue, 28 Mar 2023 14:31:14 -0700 (PDT)
Received: from postal.iol.unh.edu (postal.iol.unh.edu. [132.177.123.84])
 by smtp-relay.gmail.com with ESMTPS id
 q127-20020a4a4b85000000b0051aa0220570sm250912ooa.21.2023.03.28.14.31.13
 (version=TLS1_2 cipher=ECDHE-ECDSA-AES128-GCM-SHA256 bits=128/128);
 Tue, 28 Mar 2023 14:31:14 -0700 (PDT)
X-Relaying-Domain: iol.unh.edu
Received: from dpdk-ubuntu.dpdklab.iol.unh.edu (unknown
 [IPv6:2606:4100:3880:1722::210])
 by postal.iol.unh.edu (Postfix) with ESMTP id A382D605246B;
 Tue, 28 Mar 2023 17:31:13 -0400 (EDT)
Received: from dpdk-ubuntu-2.dpdklab.iol.unh.edu (localhost [IPv6:::1])
 by dpdk-ubuntu.dpdklab.iol.unh.edu (Postfix) with ESMTP id A168E60095;
 Tue, 28 Mar 2023 21:31:13 +0000 (UTC)
Subject: |SUCCESS| pw125563 [PATCH] [v1,1/1] cryptodev: support EDDSA
From: dpdklab@iol.unh.edu
To: Test Report <test-report@dpdk.org>
Cc: dpdklab@iol.unh.edu, David Marchand <david.marchand@redhat.com>,
 Thomas Monjalon <thomas@monjalon.net>
Content-Type: text/plain
Message-Id: <20230328213113.A168E60095@dpdk-ubuntu.dpdklab.iol.unh.edu>
Date: Tue, 28 Mar 2023 21:31:13 +0000 (UTC)
X-BeenThere: test-report@dpdk.org
X-Mailman-Version: 2.1.29
Precedence: list
List-Id: automatic DPDK test reports <test-report.dpdk.org>
List-Unsubscribe: <https://mails.dpdk.org/options/test-report>,
 <mailto:test-report-request@dpdk.org?subject=unsubscribe>
List-Archive: <http://mails.dpdk.org/archives/test-report/>
List-Post: <mailto:test-report@dpdk.org>
List-Help: <mailto:test-report-request@dpdk.org?subject=help>
List-Subscribe: <https://mails.dpdk.org/listinfo/test-report>,
 <mailto:test-report-request@dpdk.org?subject=subscribe>
Errors-To: test-report-bounces@dpdk.org

Test-Label: iol-aarch64-unit-testing
Test-Status: SUCCESS
http://dpdk.org/patch/125563

_Testing PASS_

Submitter: Sachin Yaligar <syaligar@marvell.com>
Date: Tuesday, March 28 2023 10:20:52 
DPDK git baseline: Repo:dpdk
  Branch: master
  CommitID:9e3223adfab71bc88e9ba67c520b87c529d34a35

125563 --> testing pass

Test environment and result as below:

+-------------------------------+----------------+---------------------------+------------------------------+--------------+
|          Environment          | dpdk_unit_test | cryptodev_sw_zuc_autotest | cryptodev_sw_snow3g_autotest | lpm_autotest |
+===============================+================+===========================+==============================+==============+
| Ubuntu 20.04 ARM Clang Native | PASS           | SKIPPED                   | SKIPPED                      | SKIPPED      |
+-------------------------------+----------------+---------------------------+------------------------------+--------------+
| Ubuntu 20.04 ARM GCC Native   | PASS           | SKIPPED                   | SKIPPED                      | SKIPPED      |
+-------------------------------+----------------+---------------------------+------------------------------+--------------+
| Debian 11                     | SKIPPED        | PASS                      | PASS                         | SKIPPED      |
+-------------------------------+----------------+---------------------------+------------------------------+--------------+
| Ubuntu 20.04 ARM SVE          | SKIPPED        | SKIPPED                   | SKIPPED                      | PASS         |
+-------------------------------+----------------+---------------------------+------------------------------+--------------+


Ubuntu 20.04 ARM Clang Native
	Kernel: 5.4.0-53-generic
	Compiler: clang 10.0.0-4ubuntu1

Ubuntu 20.04 ARM GCC Native
	Kernel: 5.4.0-53-generic
	Compiler: gcc 9.3

Debian 11
	Kernel: Container Host Kernel
	Compiler: gcc 10.2.1

Ubuntu 20.04 ARM SVE
	Kernel: 5.4.0-80-generic
	Compiler: gcc 10.3.0 (Ubuntu 10.3.0-1ubuntu1~20.04)

To view detailed results, visit:
https://lab.dpdk.org/results/dashboard/patchsets/25879/

UNH-IOL DPDK Community Lab

To manage your email subscriptions, visit: 
https://lab.dpdk.org/results/dashboard/preferences/subscriptions/