From mboxrd@z Thu Jan  1 00:00:00 1970
Return-Path: <test-report-bounces@dpdk.org>
Received: from mails.dpdk.org (mails.dpdk.org [217.70.189.124])
	by inbox.dpdk.org (Postfix) with ESMTP id 2DBC842860
	for <public@inbox.dpdk.org>; Wed, 29 Mar 2023 10:50:53 +0200 (CEST)
Received: from mails.dpdk.org (localhost [127.0.0.1])
	by mails.dpdk.org (Postfix) with ESMTP id 2936E40EE7;
	Wed, 29 Mar 2023 10:50:53 +0200 (CEST)
Received: from mail-qv1-f98.google.com (mail-qv1-f98.google.com
 [209.85.219.98]) by mails.dpdk.org (Postfix) with ESMTP id AB6F640EE7
 for <test-report@dpdk.org>; Wed, 29 Mar 2023 10:50:51 +0200 (CEST)
Received: by mail-qv1-f98.google.com with SMTP id m6so11217359qvq.0
 for <test-report@dpdk.org>; Wed, 29 Mar 2023 01:50:51 -0700 (PDT)
DKIM-Signature: v=1; a=rsa-sha256; c=relaxed/relaxed;
 d=iol.unh.edu; s=unh-iol; t=1680079851;
 h=date:message-id:cc:to:from:subject:from:to:cc:subject:date
 :message-id:reply-to;
 bh=cjlHgNa8byigHgcWqLGZUQAz1TtQPo7LR1Ry00ZH+m8=;
 b=jmxLqOZYK4vIroDko5nAWNN1sOJLR1gney40zfpYC8Px57huRVsIlXFcFmbm8Ss72Q
 uKmf/0htaI3KCssViLk7c7dS1IeeFXC2sdG61ej9aSVhzyejOBfJbgJkv2oz+OUUhrpw
 bNVtJMvudovlIwx8COJ/35m+0lnZIPRuHzZjk=
X-Google-DKIM-Signature: v=1; a=rsa-sha256; c=relaxed/relaxed;
 d=1e100.net; s=20210112; t=1680079851;
 h=date:message-id:cc:to:from:subject:x-gm-message-state:from:to:cc
 :subject:date:message-id:reply-to;
 bh=cjlHgNa8byigHgcWqLGZUQAz1TtQPo7LR1Ry00ZH+m8=;
 b=w5d+5HWbqe/ZM7NRJkUtgQkuCaQJhz0duGUoWsvLEngU1H1Dvs0Rx9xiRdrOKUbaDG
 /PhkvgnFv0Lc3fJ2NAe/Kw7P71exl1GkxwAgUSKcl42QIW/vANbBCBw665p+vTZwymTm
 kozvcmbUxsR9GFMU6rE0DK8gvBvWaW9dxjC6db1jdXNORVtNAVZIOlOgbO0bXkyQfJAH
 a/4U3WpOrSFV71Af+RzGFsfP1ULrP+Tog7RgaWpAKN68DGtKMCuRAK58JZ6NiZDwAciO
 w46XYu9ko06E/NJtT8f0zmQeZifvhpPXGvyDsfn29F9/QDCJkbhSRCLOOhqkDgqyagRc
 R3GQ==
X-Gm-Message-State: AAQBX9fpUWDwMFcea4nSyGQpWe1qu5nq4okWECFjkRblgbdSGTJkIPMH
 39eECsol+A8lbgVamJQ1bYU/LJLhpBTCeCPnheXgUvJ1e8AVh7zjNHDORPn1IplfpdE8Hru5BA=
 =
X-Google-Smtp-Source: AKy350YCqtwYYonzJ0xxnJMqb85beCwS3PRU6MQx3+JuJwsnQ/V0mcXvu+qr3QUH9GclEPJEpjipiCEByda2
X-Received: by 2002:a05:6214:5194:b0:5c1:b4f6:57ee with SMTP id
 kl20-20020a056214519400b005c1b4f657eemr25229495qvb.28.1680079851009; 
 Wed, 29 Mar 2023 01:50:51 -0700 (PDT)
Received: from postal.iol.unh.edu (postal.iol.unh.edu.
 [2606:4100:3880:1234::84]) by smtp-relay.gmail.com with ESMTPS id
 d16-20020a05621416d000b005dd8b74b9fesm812316qvz.46.2023.03.29.01.50.50
 (version=TLS1_2 cipher=ECDHE-ECDSA-AES128-GCM-SHA256 bits=128/128);
 Wed, 29 Mar 2023 01:50:50 -0700 (PDT)
X-Relaying-Domain: iol.unh.edu
Received: from dpdk-ubuntu.dpdklab.iol.unh.edu (unknown [172.18.0.210])
 by postal.iol.unh.edu (Postfix) with ESMTP id B2B13605246B;
 Wed, 29 Mar 2023 04:50:50 -0400 (EDT)
Received: from dpdk-ubuntu-2.dpdklab.iol.unh.edu (localhost [IPv6:::1])
 by dpdk-ubuntu.dpdklab.iol.unh.edu (Postfix) with ESMTP id ADABB6039E;
 Wed, 29 Mar 2023 08:50:50 +0000 (UTC)
Subject: |SUCCESS| pw125568-125570 [PATCH] [v4,
 3/3] net/gve: add maintainers for GVE
From: dpdklab@iol.unh.edu
To: Test Report <test-report@dpdk.org>
Cc: dpdklab@iol.unh.edu, David Marchand <david.marchand@redhat.com>,
 Thomas Monjalon <thomas@monjalon.net>
Content-Type: text/plain
Message-Id: <20230329085050.ADABB6039E@dpdk-ubuntu.dpdklab.iol.unh.edu>
Date: Wed, 29 Mar 2023 08:50:50 +0000 (UTC)
X-BeenThere: test-report@dpdk.org
X-Mailman-Version: 2.1.29
Precedence: list
List-Id: automatic DPDK test reports <test-report.dpdk.org>
List-Unsubscribe: <https://mails.dpdk.org/options/test-report>,
 <mailto:test-report-request@dpdk.org?subject=unsubscribe>
List-Archive: <http://mails.dpdk.org/archives/test-report/>
List-Post: <mailto:test-report@dpdk.org>
List-Help: <mailto:test-report-request@dpdk.org?subject=help>
List-Subscribe: <https://mails.dpdk.org/listinfo/test-report>,
 <mailto:test-report-request@dpdk.org?subject=subscribe>
Errors-To: test-report-bounces@dpdk.org

Test-Label: iol-aarch64-compile-testing
Test-Status: SUCCESS
http://dpdk.org/patch/125570

_Testing PASS_

Submitter: Junfeng Guo <junfeng.guo@intel.com>
Date: Wednesday, March 29 2023 02:27:02 
DPDK git baseline: Repo:dpdk
  Branch: master
  CommitID:c682c8991963be243dcc3b7cdc9d6984a1961f4e

125568-125570 --> testing pass

Test environment and result as below:

+----------------------------------------+--------------------+
|              Environment               | dpdk_meson_compile |
+========================================+====================+
| Ubuntu 20.04 ARM Clang Native          | PASS               |
+----------------------------------------+--------------------+
| Ubuntu 20.04 ARM GCC Native            | PASS               |
+----------------------------------------+--------------------+
| Ubuntu 20.04 aarch32 GCC Cross Compile | PASS               |
+----------------------------------------+--------------------+
| Ubuntu 20.04 ARM GCC Cross Compile     | PASS               |
+----------------------------------------+--------------------+
| Ubuntu 20.04 ARM Clang Cross Compile   | PASS               |
+----------------------------------------+--------------------+
| Ubuntu 20.04 ARM SVE                   | PASS               |
+----------------------------------------+--------------------+


Ubuntu 20.04 ARM Clang Native
	Kernel: 5.4.0-53-generic
	Compiler: clang 10.0.0-4ubuntu1

Ubuntu 20.04 ARM GCC Native
	Kernel: 5.4.0-53-generic
	Compiler: gcc 9.3

Ubuntu 20.04 aarch32 GCC Cross Compile
	Kernel: 5.4.0-72-generic
	Compiler: gcc 9.3.0

Ubuntu 20.04 ARM GCC Cross Compile
	Kernel: 5.4.0-72-generic
	Compiler: aarch64-linux-gnu-gcc (Ubuntu 9.3.0-17ubuntu1~20.04) 9.3.0

Ubuntu 20.04 ARM Clang Cross Compile
	Kernel: 5.4.0-72-generic
	Compiler: clang version 10.0.0-4ubuntu1

Ubuntu 20.04 ARM SVE
	Kernel: 5.4.0-80-generic
	Compiler: gcc 10.3.0 (Ubuntu 10.3.0-1ubuntu1~20.04)

To view detailed results, visit:
https://lab.dpdk.org/results/dashboard/patchsets/25882/

UNH-IOL DPDK Community Lab

To manage your email subscriptions, visit: 
https://lab.dpdk.org/results/dashboard/preferences/subscriptions/