From mboxrd@z Thu Jan  1 00:00:00 1970
Return-Path: <test-report-bounces@dpdk.org>
Received: from mails.dpdk.org (mails.dpdk.org [217.70.189.124])
	by inbox.dpdk.org (Postfix) with ESMTP id 394424288F
	for <public@inbox.dpdk.org>; Thu,  6 Apr 2023 07:15:06 +0200 (CEST)
Received: from mails.dpdk.org (localhost [127.0.0.1])
	by mails.dpdk.org (Postfix) with ESMTP id 3164340DF6;
	Thu,  6 Apr 2023 07:15:06 +0200 (CEST)
Received: from mail-pl1-f226.google.com (mail-pl1-f226.google.com
 [209.85.214.226])
 by mails.dpdk.org (Postfix) with ESMTP id 5AB1840DF6
 for <test-report@dpdk.org>; Thu,  6 Apr 2023 07:15:04 +0200 (CEST)
Received: by mail-pl1-f226.google.com with SMTP id f22so32399774plr.0
 for <test-report@dpdk.org>; Wed, 05 Apr 2023 22:15:04 -0700 (PDT)
DKIM-Signature: v=1; a=rsa-sha256; c=relaxed/relaxed;
 d=iol.unh.edu; s=unh-iol; t=1680758103;
 h=date:message-id:cc:to:from:subject:from:to:cc:subject:date
 :message-id:reply-to;
 bh=Q5NII5Jrnsx52JXp3Z6P00OcH9J0p60iy/PgaHzEmuk=;
 b=c6++kp/oePHkl+e94EUxGg8z+qzIhnX63bUHNYXFkPfKbRWer29WfDEn1dvXiJvMf3
 vQbqF4RKm8zNoEe9ANO9RsYZHdNfCjXdFEWswFuxgwTmMLNrqVw4/XF9v5DozT2C48wf
 y/KuzunHIarFjD3PY0zyn+ZwvsYjPdfOlun2Y=
X-Google-DKIM-Signature: v=1; a=rsa-sha256; c=relaxed/relaxed;
 d=1e100.net; s=20210112; t=1680758103;
 h=date:message-id:cc:to:from:subject:x-gm-message-state:from:to:cc
 :subject:date:message-id:reply-to;
 bh=Q5NII5Jrnsx52JXp3Z6P00OcH9J0p60iy/PgaHzEmuk=;
 b=y+o1KRjIafi8KuC0NNtGjm9EtdE7tgbEW9526wPRQC5raUnlozoAUm26vWgzEpJ82f
 vsUi20c9NwemWh3zXU3I/wjsLPvRwHxarZfQ+NPybzstYXSrIz/7sCcxxxqVxBYD5p7d
 rbY27wk6cS1VX17r6yxv8+xmw+5J6SR3+gpD+ryOp9NpeSKd79VSDuSmxeQPaPT/Mn5x
 R0iFNTylgM+P9E0Pkmsm3sFEmTMKOyz7ciGTRh0LLYQW14riiuqhU8+Z0UuB0GGEZ3l+
 CtzMXyqsoY1s/TaXP81fvE2HZq3WccUui85PKMstWP5iVwu9YeWb/+PUUk5mIICb12W1
 U56w==
X-Gm-Message-State: AAQBX9cirweOMpURJq+3RTz6z6owNvkQECDOg//8NrxD/3vdw5uJxC18
 7DF6cDRGxyCJg2QI2/Ou6AIwnE0Y1zAiMMz36KF9ViVF/cHi0NoEeSqXAA==
X-Google-Smtp-Source: AKy350ZrJwOIiBmHjzc3AqHrlf+2nUy50dQdbbi3xPxs/dtz/+qto44GibaikL0skoz7wKbq4BzeQ0Dwgw90
X-Received: by 2002:a17:90b:3e8e:b0:23f:58a2:7d86 with SMTP id
 rj14-20020a17090b3e8e00b0023f58a27d86mr9332619pjb.10.1680758103583; 
 Wed, 05 Apr 2023 22:15:03 -0700 (PDT)
Received: from postal.iol.unh.edu (postal.iol.unh.edu. [132.177.123.84])
 by smtp-relay.gmail.com with ESMTPS id
 ix4-20020a170902f80400b0019c171f471csm54922plb.12.2023.04.05.22.15.03
 (version=TLS1_2 cipher=ECDHE-ECDSA-AES128-GCM-SHA256 bits=128/128);
 Wed, 05 Apr 2023 22:15:03 -0700 (PDT)
X-Relaying-Domain: iol.unh.edu
Received: from dpdk-ubuntu.dpdklab.iol.unh.edu (unknown [172.18.0.210])
 by postal.iol.unh.edu (Postfix) with ESMTP id D3608605246B;
 Thu,  6 Apr 2023 01:15:02 -0400 (EDT)
Received: from dpdk-ubuntu-2.dpdklab.iol.unh.edu (localhost [IPv6:::1])
 by dpdk-ubuntu.dpdklab.iol.unh.edu (Postfix) with ESMTP id D042160092;
 Thu,  6 Apr 2023 05:15:02 +0000 (UTC)
Subject: |SUCCESS| pw125727-125728 [PATCH] [2/2] telemetry: use portable
 syntax to initialize array
From: dpdklab@iol.unh.edu
To: Test Report <test-report@dpdk.org>
Cc: dpdklab@iol.unh.edu, David Marchand <david.marchand@redhat.com>,
 Thomas Monjalon <thomas@monjalon.net>
Content-Type: text/plain
Message-Id: <20230406051502.D042160092@dpdk-ubuntu.dpdklab.iol.unh.edu>
Date: Thu,  6 Apr 2023 05:15:02 +0000 (UTC)
X-BeenThere: test-report@dpdk.org
X-Mailman-Version: 2.1.29
Precedence: list
List-Id: automatic DPDK test reports <test-report.dpdk.org>
List-Unsubscribe: <https://mails.dpdk.org/options/test-report>,
 <mailto:test-report-request@dpdk.org?subject=unsubscribe>
List-Archive: <http://mails.dpdk.org/archives/test-report/>
List-Post: <mailto:test-report@dpdk.org>
List-Help: <mailto:test-report-request@dpdk.org?subject=help>
List-Subscribe: <https://mails.dpdk.org/listinfo/test-report>,
 <mailto:test-report-request@dpdk.org?subject=subscribe>
Errors-To: test-report-bounces@dpdk.org

Test-Label: iol-abi-testing
Test-Status: SUCCESS
http://dpdk.org/patch/125728

_Testing PASS_

Submitter: Tyler Retzlaff <roretzla@linux.microsoft.com>
Date: Monday, April 03 2023 16:30:24 
DPDK git baseline: Repo:dpdk
  Branch: master
  CommitID:c682c8991963be243dcc3b7cdc9d6984a1961f4e

125727-125728 --> testing pass

Test environment and result as below:

+------------------+----------+
|   Environment    | abi_test |
+==================+==========+
| Ubuntu 22.04     | PASS     |
+------------------+----------+
| CentOS Stream 9  | PASS     |
+------------------+----------+
| openSUSE Leap 15 | PASS     |
+------------------+----------+
| RHEL 7           | PASS     |
+------------------+----------+


Ubuntu 22.04
	Kernel: Container Host Kernel
	Compiler: gcc 12.2.1-2

CentOS Stream 9
	Kernel: 4.18.0-240.10.1.el8_3.x86_64
	Compiler: gcc 11.3.1 20220421

openSUSE Leap 15
	Kernel: 4.18.0-240.10.1.el8_3.x86_64
	Compiler: gcc 7.5.0

RHEL 7
	Kernel: 4.18.0-240.10.1.el8_3.x86_64
	Compiler: gcc 4.8.5 20150623 (Red Hat 4.8.5-44)

To view detailed results, visit:
https://lab.dpdk.org/results/dashboard/patchsets/25908/

UNH-IOL DPDK Community Lab

To manage your email subscriptions, visit: 
https://lab.dpdk.org/results/dashboard/preferences/subscriptions/